| Back to Multiple platform build/check report for BioC 3.17 |
|
This page was generated on 2023-04-12 10:55:34 -0400 (Wed, 12 Apr 2023).
| Hostname | OS | Arch (*) | R version | Installed pkgs |
|---|---|---|---|---|
| nebbiolo1 | Linux (Ubuntu 22.04.1 LTS) | x86_64 | 4.3.0 alpha (2023-04-03 r84154) | 4547 |
| nebbiolo2 | Linux (Ubuntu 20.04.5 LTS) | x86_64 | R Under development (unstable) (2023-02-14 r83833) -- "Unsuffered Consequences" | 4333 |
| Click on any hostname to see more info about the system (e.g. compilers) (*) as reported by 'uname -p', except on Windows and Mac OS X | ||||
|
To the developers/maintainers of the CATALYST package: - Allow up to 24 hours (and sometimes 48 hours) for your latest push to git@git.bioconductor.org:packages/CATALYST.git to reflect on this report. See Troubleshooting Build Report for more information. - Use the following Renviron settings to reproduce errors and warnings. Note: If "R CMD check" recently failed on the Linux builder over a missing dependency, add the missing dependency to "Suggests" in your DESCRIPTION file. See the Renviron.bioc for details. |
| Package 269/2207 | Hostname | OS / Arch | INSTALL | BUILD | CHECK | BUILD BIN | ||||||||
| CATALYST 1.23.5 (landing page) Helena L. Crowell
| nebbiolo1 | Linux (Ubuntu 22.04.1 LTS) / x86_64 | OK | OK | OK | |||||||||
| nebbiolo2 | Linux (Ubuntu 20.04.5 LTS) / x86_64 | OK | OK | OK | ||||||||||
| Package: CATALYST |
| Version: 1.23.5 |
| Command: /home/biocbuild/bbs-3.17-bioc/R/bin/R CMD check --install=check:CATALYST.install-out.txt --library=/home/biocbuild/bbs-3.17-bioc/R/site-library --timings CATALYST_1.23.5.tar.gz |
| StartedAt: 2023-04-12 05:08:37 -0400 (Wed, 12 Apr 2023) |
| EndedAt: 2023-04-12 05:21:36 -0400 (Wed, 12 Apr 2023) |
| EllapsedTime: 778.7 seconds |
| RetCode: 0 |
| Status: OK |
| CheckDir: CATALYST.Rcheck |
| Warnings: 0 |
##############################################################################
##############################################################################
###
### Running command:
###
### /home/biocbuild/bbs-3.17-bioc/R/bin/R CMD check --install=check:CATALYST.install-out.txt --library=/home/biocbuild/bbs-3.17-bioc/R/site-library --timings CATALYST_1.23.5.tar.gz
###
##############################################################################
##############################################################################
* using log directory ‘/home/biocbuild/bbs-3.17-bioc/meat/CATALYST.Rcheck’
* using R Under development (unstable) (2023-02-14 r83833)
* using platform: x86_64-pc-linux-gnu (64-bit)
* R was compiled by
gcc (Ubuntu 9.4.0-1ubuntu1~20.04.1) 9.4.0
GNU Fortran (Ubuntu 9.4.0-1ubuntu1~20.04.1) 9.4.0
* running under: Ubuntu 20.04.6 LTS
* using session charset: UTF-8
* checking for file ‘CATALYST/DESCRIPTION’ ... OK
* checking extension type ... Package
* this is package ‘CATALYST’ version ‘1.23.5’
* package encoding: UTF-8
* checking package namespace information ... OK
* checking package dependencies ... OK
* checking if this is a source package ... OK
* checking if there is a namespace ... OK
* checking for hidden files and directories ... OK
* checking for portable file names ... OK
* checking for sufficient/correct file permissions ... OK
* checking whether package ‘CATALYST’ can be installed ... OK
* checking installed package size ... OK
* checking package directory ... OK
* checking ‘build’ directory ... OK
* checking DESCRIPTION meta-information ... OK
* checking top-level files ... OK
* checking for left-over files ... OK
* checking index information ... OK
* checking package subdirectories ... OK
* checking R files for non-ASCII characters ... OK
* checking R files for syntax errors ... OK
* checking whether the package can be loaded ... OK
* checking whether the package can be loaded with stated dependencies ... OK
* checking whether the package can be unloaded cleanly ... OK
* checking whether the namespace can be loaded with stated dependencies ... OK
* checking whether the namespace can be unloaded cleanly ... OK
* checking loading without being on the library search path ... OK
* checking dependencies in R code ... NOTE
There are ::: calls to the package's namespace in its code. A package
almost never needs to use ::: for its own objects:
‘.cluster_cols’
* checking S3 generic/method consistency ... OK
* checking replacement functions ... OK
* checking foreign function calls ... OK
* checking R code for possible problems ... OK
* checking Rd files ... OK
* checking Rd metadata ... OK
* checking Rd cross-references ... OK
* checking for missing documentation entries ... OK
* checking for code/documentation mismatches ... OK
* checking Rd \usage sections ... OK
* checking Rd contents ... OK
* checking for unstated dependencies in examples ... OK
* checking contents of ‘data’ directory ... OK
* checking data for non-ASCII characters ... OK
* checking LazyData ... OK
* checking data for ASCII and uncompressed saves ... OK
* checking files in ‘vignettes’ ... OK
* checking examples ... OK
Examples with CPU (user + system) or elapsed time > 5s
user system elapsed
plotMultiHeatmap 13.064 0.048 13.048
plotPbExprs 12.668 0.068 12.680
plotDiffHeatmap 12.535 0.056 12.584
plotDR 12.107 0.173 12.273
sce2fcs 10.638 0.044 10.682
plotExprHeatmap 10.371 0.144 10.473
plotClusterExprs 7.350 0.076 7.418
pbMDS 6.938 0.084 7.001
plotAbundances 6.813 0.092 6.905
plotFreqHeatmap 6.834 0.044 6.878
clrDR 6.623 0.176 6.799
plotCodes 6.734 0.052 6.787
mergeClusters 6.352 0.088 6.432
SCE-accessors 6.062 0.216 6.278
extractClusters 6.006 0.127 6.132
cluster 5.759 0.140 5.900
plotMahal 5.241 0.012 5.253
runDR 5.109 0.000 5.103
* checking for unstated dependencies in ‘tests’ ... OK
* checking tests ...
Running ‘testthat.R’
OK
* checking for unstated dependencies in vignettes ... OK
* checking package vignettes in ‘inst/doc’ ... OK
* checking running R code from vignettes ...
‘differential.Rmd’ using ‘UTF-8’... OK
‘preprocessing.Rmd’ using ‘UTF-8’... OK
NONE
* checking re-building of vignette outputs ... OK
* checking PDF version of manual ... OK
* DONE
Status: 1 NOTE
See
‘/home/biocbuild/bbs-3.17-bioc/meat/CATALYST.Rcheck/00check.log’
for details.
CATALYST.Rcheck/00install.out
############################################################################## ############################################################################## ### ### Running command: ### ### /home/biocbuild/bbs-3.17-bioc/R/bin/R CMD INSTALL CATALYST ### ############################################################################## ############################################################################## * installing to library ‘/home/biocbuild/bbs-3.17-bioc/R/site-library’ * installing *source* package ‘CATALYST’ ... ** using staged installation ** R ** data *** moving datasets to lazyload DB ** inst ** byte-compile and prepare package for lazy loading ** help *** installing help indices ** building package indices ** installing vignettes ** testing if installed package can be loaded from temporary location ** testing if installed package can be loaded from final location ** testing if installed package keeps a record of temporary installation path * DONE (CATALYST)
CATALYST.Rcheck/tests/testthat.Rout
R Under development (unstable) (2023-02-14 r83833) -- "Unsuffered Consequences"
Copyright (C) 2023 The R Foundation for Statistical Computing
Platform: x86_64-pc-linux-gnu (64-bit)
R is free software and comes with ABSOLUTELY NO WARRANTY.
You are welcome to redistribute it under certain conditions.
Type 'license()' or 'licence()' for distribution details.
R is a collaborative project with many contributors.
Type 'contributors()' for more information and
'citation()' on how to cite R or R packages in publications.
Type 'demo()' for some demos, 'help()' for on-line help, or
'help.start()' for an HTML browser interface to help.
Type 'q()' to quit R.
> library(testthat)
> library(CATALYST)
Loading required package: SingleCellExperiment
Loading required package: SummarizedExperiment
Loading required package: MatrixGenerics
Loading required package: matrixStats
Attaching package: 'MatrixGenerics'
The following objects are masked from 'package:matrixStats':
colAlls, colAnyNAs, colAnys, colAvgsPerRowSet, colCollapse,
colCounts, colCummaxs, colCummins, colCumprods, colCumsums,
colDiffs, colIQRDiffs, colIQRs, colLogSumExps, colMadDiffs,
colMads, colMaxs, colMeans2, colMedians, colMins, colOrderStats,
colProds, colQuantiles, colRanges, colRanks, colSdDiffs, colSds,
colSums2, colTabulates, colVarDiffs, colVars, colWeightedMads,
colWeightedMeans, colWeightedMedians, colWeightedSds,
colWeightedVars, rowAlls, rowAnyNAs, rowAnys, rowAvgsPerColSet,
rowCollapse, rowCounts, rowCummaxs, rowCummins, rowCumprods,
rowCumsums, rowDiffs, rowIQRDiffs, rowIQRs, rowLogSumExps,
rowMadDiffs, rowMads, rowMaxs, rowMeans2, rowMedians, rowMins,
rowOrderStats, rowProds, rowQuantiles, rowRanges, rowRanks,
rowSdDiffs, rowSds, rowSums2, rowTabulates, rowVarDiffs, rowVars,
rowWeightedMads, rowWeightedMeans, rowWeightedMedians,
rowWeightedSds, rowWeightedVars
Loading required package: GenomicRanges
Loading required package: stats4
Loading required package: BiocGenerics
Attaching package: 'BiocGenerics'
The following objects are masked from 'package:stats':
IQR, mad, sd, var, xtabs
The following objects are masked from 'package:base':
Filter, Find, Map, Position, Reduce, anyDuplicated, aperm, append,
as.data.frame, basename, cbind, colnames, dirname, do.call,
duplicated, eval, evalq, get, grep, grepl, intersect, is.unsorted,
lapply, mapply, match, mget, order, paste, pmax, pmax.int, pmin,
pmin.int, rank, rbind, rownames, sapply, setdiff, sort, table,
tapply, union, unique, unsplit, which.max, which.min
Loading required package: S4Vectors
Attaching package: 'S4Vectors'
The following objects are masked from 'package:base':
I, expand.grid, unname
Loading required package: IRanges
Loading required package: GenomeInfoDb
Loading required package: Biobase
Welcome to Bioconductor
Vignettes contain introductory material; view with
'browseVignettes()'. To cite Bioconductor, see
'citation("Biobase")', and for packages 'citation("pkgname")'.
Attaching package: 'Biobase'
The following object is masked from 'package:MatrixGenerics':
rowMedians
The following objects are masked from 'package:matrixStats':
anyMissing, rowMedians
>
> test_check("CATALYST")
[ FAIL 0 | WARN 1 | SKIP 0 | PASS 741 ]
[ FAIL 0 | WARN 1 | SKIP 0 | PASS 741 ]
>
> proc.time()
user system elapsed
174.702 2.732 176.774
CATALYST.Rcheck/CATALYST-Ex.timings
| name | user | system | elapsed | |
| SCE-accessors | 6.062 | 0.216 | 6.278 | |
| adaptSpillmat | 3.549 | 0.116 | 3.665 | |
| applyCutoffs | 2.856 | 0.035 | 2.892 | |
| assignPrelim | 1.559 | 0.036 | 1.594 | |
| clrDR | 6.623 | 0.176 | 6.799 | |
| cluster | 5.759 | 0.140 | 5.900 | |
| compCytof | 4.852 | 0.024 | 4.877 | |
| computeSpillmat | 4.238 | 0.192 | 4.430 | |
| data | 0.006 | 0.001 | 0.006 | |
| estCutoffs | 3.555 | 0.055 | 3.612 | |
| extractClusters | 6.006 | 0.127 | 6.132 | |
| filterSCE | 4.602 | 0.036 | 4.638 | |
| guessPanel | 0.027 | 0.007 | 0.034 | |
| mergeClusters | 6.352 | 0.088 | 6.432 | |
| normCytof | 2.493 | 0.036 | 2.529 | |
| pbMDS | 6.938 | 0.084 | 7.001 | |
| plotAbundances | 6.813 | 0.092 | 6.905 | |
| plotClusterExprs | 7.350 | 0.076 | 7.418 | |
| plotCodes | 6.734 | 0.052 | 6.787 | |
| plotCounts | 1.061 | 0.008 | 1.069 | |
| plotDR | 12.107 | 0.173 | 12.273 | |
| plotDiffHeatmap | 12.535 | 0.056 | 12.584 | |
| plotEvents | 1.898 | 0.004 | 1.902 | |
| plotExprHeatmap | 10.371 | 0.144 | 10.473 | |
| plotExprs | 3.290 | 0.076 | 3.366 | |
| plotFreqHeatmap | 6.834 | 0.044 | 6.878 | |
| plotMahal | 5.241 | 0.012 | 5.253 | |
| plotMultiHeatmap | 13.064 | 0.048 | 13.048 | |
| plotNRS | 1.310 | 0.004 | 1.314 | |
| plotPbExprs | 12.668 | 0.068 | 12.680 | |
| plotScatter | 4.281 | 0.036 | 4.318 | |
| plotSpillmat | 4.000 | 0.020 | 4.021 | |
| plotYields | 3.643 | 0.060 | 3.703 | |
| prepData | 2.690 | 0.064 | 2.753 | |
| runDR | 5.109 | 0.000 | 5.103 | |
| sce2fcs | 10.638 | 0.044 | 10.682 | |