| Back to Multiple platform build/check report for BioC 3.17 |
|
This page was generated on 2023-04-12 10:55:22 -0400 (Wed, 12 Apr 2023).
| Hostname | OS | Arch (*) | R version | Installed pkgs |
|---|---|---|---|---|
| nebbiolo1 | Linux (Ubuntu 22.04.1 LTS) | x86_64 | 4.3.0 alpha (2023-04-03 r84154) | 4547 |
| nebbiolo2 | Linux (Ubuntu 20.04.5 LTS) | x86_64 | R Under development (unstable) (2023-02-14 r83833) -- "Unsuffered Consequences" | 4333 |
| Click on any hostname to see more info about the system (e.g. compilers) (*) as reported by 'uname -p', except on Windows and Mac OS X | ||||
|
To the developers/maintainers of the CAGEr package: - Allow up to 24 hours (and sometimes 48 hours) for your latest push to git@git.bioconductor.org:packages/CAGEr.git to reflect on this report. See Troubleshooting Build Report for more information. - Use the following Renviron settings to reproduce errors and warnings. Note: If "R CMD check" recently failed on the Linux builder over a missing dependency, add the missing dependency to "Suggests" in your DESCRIPTION file. See the Renviron.bioc for details. |
| Package 258/2207 | Hostname | OS / Arch | INSTALL | BUILD | CHECK | BUILD BIN | ||||||||
| CAGEr 2.5.0 (landing page) Charles Plessy
| nebbiolo1 | Linux (Ubuntu 22.04.1 LTS) / x86_64 | OK | OK | OK | |||||||||
| nebbiolo2 | Linux (Ubuntu 20.04.5 LTS) / x86_64 | OK | OK | OK | ||||||||||
| Package: CAGEr |
| Version: 2.5.0 |
| Command: /home/biocbuild/bbs-3.17-bioc/R/bin/R CMD check --install=check:CAGEr.install-out.txt --library=/home/biocbuild/bbs-3.17-bioc/R/site-library --timings CAGEr_2.5.0.tar.gz |
| StartedAt: 2023-04-11 19:03:02 -0400 (Tue, 11 Apr 2023) |
| EndedAt: 2023-04-11 19:13:10 -0400 (Tue, 11 Apr 2023) |
| EllapsedTime: 607.9 seconds |
| RetCode: 0 |
| Status: OK |
| CheckDir: CAGEr.Rcheck |
| Warnings: 0 |
##############################################################################
##############################################################################
###
### Running command:
###
### /home/biocbuild/bbs-3.17-bioc/R/bin/R CMD check --install=check:CAGEr.install-out.txt --library=/home/biocbuild/bbs-3.17-bioc/R/site-library --timings CAGEr_2.5.0.tar.gz
###
##############################################################################
##############################################################################
* using log directory ‘/home/biocbuild/bbs-3.17-bioc/meat/CAGEr.Rcheck’
* using R version 4.3.0 alpha (2023-04-03 r84154)
* using platform: x86_64-pc-linux-gnu (64-bit)
* R was compiled by
gcc (Ubuntu 11.3.0-1ubuntu1~22.04) 11.3.0
GNU Fortran (Ubuntu 11.3.0-1ubuntu1~22.04) 11.3.0
* running under: Ubuntu 22.04.2 LTS
* using session charset: UTF-8
* checking for file ‘CAGEr/DESCRIPTION’ ... OK
* this is package ‘CAGEr’ version ‘2.5.0’
* package encoding: UTF-8
* checking package namespace information ... OK
* checking package dependencies ... OK
* checking if this is a source package ... OK
* checking if there is a namespace ... OK
* checking for hidden files and directories ... OK
* checking for portable file names ... OK
* checking for sufficient/correct file permissions ... OK
* checking whether package ‘CAGEr’ can be installed ... OK
* checking installed package size ... OK
* checking package directory ... OK
* checking ‘build’ directory ... OK
* checking DESCRIPTION meta-information ... OK
* checking top-level files ... OK
* checking for left-over files ... OK
* checking index information ... OK
* checking package subdirectories ... OK
* checking R files for non-ASCII characters ... OK
* checking R files for syntax errors ... OK
* checking whether the package can be loaded ... OK
* checking whether the package can be loaded with stated dependencies ... OK
* checking whether the package can be unloaded cleanly ... OK
* checking whether the namespace can be loaded with stated dependencies ... OK
* checking whether the namespace can be unloaded cleanly ... OK
* checking loading without being on the library search path ... OK
* checking dependencies in R code ... OK
* checking S3 generic/method consistency ... OK
* checking replacement functions ... OK
* checking foreign function calls ... OK
* checking R code for possible problems ... OK
* checking Rd files ... OK
* checking Rd metadata ... OK
* checking Rd cross-references ... OK
* checking for missing documentation entries ... OK
* checking for code/documentation mismatches ... OK
* checking Rd \usage sections ... OK
* checking Rd contents ... OK
* checking for unstated dependencies in examples ... OK
* checking contents of ‘data’ directory ... OK
* checking data for non-ASCII characters ... OK
* checking LazyData ... OK
* checking data for ASCII and uncompressed saves ... OK
* checking files in ‘vignettes’ ... OK
* checking examples ... OK
Examples with CPU (user + system) or elapsed time > 5s
user system elapsed
cumulativeCTSSdistribution 33.085 6.983 40.054
clusterCTSS 30.152 0.920 31.062
exportToTrack 27.514 0.140 27.654
quantilePositions 16.575 0.024 16.600
aggregateTagClusters 6.321 0.144 6.439
* checking for unstated dependencies in vignettes ... OK
* checking package vignettes in ‘inst/doc’ ... OK
* checking running R code from vignettes ...
‘CAGE_Resources.Rmd’ using ‘UTF-8’... OK
‘CAGEexp.Rmd’ using ‘UTF-8’... OK
NONE
* checking re-building of vignette outputs ... OK
* checking PDF version of manual ... OK
* DONE
Status: OK
CAGEr.Rcheck/00install.out
############################################################################## ############################################################################## ### ### Running command: ### ### /home/biocbuild/bbs-3.17-bioc/R/bin/R CMD INSTALL CAGEr ### ############################################################################## ############################################################################## * installing to library ‘/home/biocbuild/bbs-3.17-bioc/R/site-library’ * installing *source* package ‘CAGEr’ ... ** using staged installation ** R ** data *** moving datasets to lazyload DB ** inst ** byte-compile and prepare package for lazy loading ** help *** installing help indices ** building package indices ** installing vignettes ** testing if installed package can be loaded from temporary location ** testing if installed package can be loaded from final location ** testing if installed package keeps a record of temporary installation path * DONE (CAGEr)
CAGEr.Rcheck/CAGEr-Ex.timings
| name | user | system | elapsed | |
| CAGEexp-class | 1.644 | 0.080 | 1.728 | |
| CAGEr_Multicore | 2.894 | 0.128 | 3.023 | |
| CTSS-class | 0.266 | 0.000 | 0.266 | |
| CTSSclusteringMethod | 0.001 | 0.000 | 0.001 | |
| CTSScoordinates | 0.066 | 0.000 | 0.067 | |
| CTSSnormalizedTpm | 0.660 | 0.072 | 0.732 | |
| CTSStagCount | 0.764 | 0.068 | 0.832 | |
| CTSStoGenes | 0.315 | 0.008 | 0.323 | |
| CustomConsensusClusters | 0.839 | 0.012 | 0.850 | |
| GeneExpDESeq2 | 0.406 | 0.008 | 0.413 | |
| GeneExpSE | 0.004 | 0.000 | 0.004 | |
| QuantileWidthFunctions | 0.100 | 0.004 | 0.104 | |
| aggregateTagClusters | 6.321 | 0.144 | 6.439 | |
| annotateCTSS | 1.413 | 0.024 | 1.437 | |
| byCtss | 0.006 | 0.000 | 0.007 | |
| clusterCTSS | 30.152 | 0.920 | 31.062 | |
| consensusClusters | 0.119 | 0.000 | 0.120 | |
| consensusClustersDESeq2 | 0.169 | 0.000 | 0.169 | |
| consensusClustersTpm | 0.003 | 0.004 | 0.006 | |
| coverage-functions | 3.432 | 0.428 | 3.860 | |
| cumulativeCTSSdistribution | 33.085 | 6.983 | 40.054 | |
| distclu-functions | 3.517 | 0.721 | 4.189 | |
| exampleCAGEexp | 0.000 | 0.000 | 0.001 | |
| exportToTrack | 27.514 | 0.140 | 27.654 | |
| expressionClasses | 0.011 | 0.004 | 0.014 | |
| genomeName | 0.001 | 0.000 | 0.000 | |
| getCTSS | 0.854 | 0.024 | 0.877 | |
| getExpressionProfiles | 1.412 | 0.003 | 1.417 | |
| getShiftingPromoters | 0.000 | 0.000 | 0.001 | |
| hanabi | 0.226 | 0.028 | 0.253 | |
| hanabiPlot | 0.264 | 0.012 | 0.276 | |
| import.CAGEscanMolecule | 0 | 0 | 0 | |
| import.CTSS | 0.073 | 0.004 | 0.078 | |
| import.bam | 0 | 0 | 0 | |
| import.bedCTSS | 0 | 0 | 0 | |
| import.bedScore | 0 | 0 | 0 | |
| import.bedmolecule | 0 | 0 | 0 | |
| inputFiles | 0.002 | 0.000 | 0.001 | |
| inputFilesType | 0.000 | 0.001 | 0.001 | |
| librarySizes | 0.000 | 0.001 | 0.001 | |
| mapStats | 0.044 | 0.005 | 0.048 | |
| mergeCAGEsets | 1.968 | 0.043 | 2.012 | |
| mergeSamples | 0.432 | 0.000 | 0.433 | |
| moleculesGR2CTSS | 0.146 | 0.008 | 0.154 | |
| normalizeTagCount | 0.480 | 0.003 | 0.462 | |
| parseCAGEscanBlocksToGrangeTSS | 0.025 | 0.000 | 0.025 | |
| plotAnnot | 2.735 | 0.020 | 2.755 | |
| plotCorrelation | 0.259 | 0.000 | 0.259 | |
| plotExpressionProfiles | 4.779 | 0.095 | 4.876 | |
| plotInterquantileWidth | 2.050 | 0.015 | 2.066 | |
| plotReverseCumulatives | 0.329 | 0.004 | 0.291 | |
| quantilePositions | 16.575 | 0.024 | 16.600 | |
| ranges2annot | 0.391 | 0.008 | 0.398 | |
| ranges2genes | 0.058 | 0.000 | 0.058 | |
| ranges2names | 0.058 | 0.000 | 0.059 | |
| sampleLabels | 0.005 | 0.000 | 0.005 | |
| scoreShift | 0.001 | 0.000 | 0.000 | |
| seqNameTotalsSE | 0.004 | 0.000 | 0.004 | |
| setColors | 0.304 | 0.002 | 0.306 | |
| strandInvaders | 0.574 | 0.082 | 0.643 | |
| summariseChrExpr | 0.353 | 0.004 | 0.357 | |
| tagClusters | 0.085 | 0.000 | 0.085 | |