| Back to Multiple platform build/check report for BioC 3.17 | 
 | 
This page was generated on 2023-04-12 10:55:34 -0400 (Wed, 12 Apr 2023).
| Hostname | OS | Arch (*) | R version | Installed pkgs | 
|---|---|---|---|---|
| nebbiolo1 | Linux (Ubuntu 22.04.1 LTS) | x86_64 | 4.3.0 alpha (2023-04-03 r84154) | 4547 | 
| nebbiolo2 | Linux (Ubuntu 20.04.5 LTS) | x86_64 | R Under development (unstable) (2023-02-14 r83833) -- "Unsuffered Consequences" | 4333 | 
| Click on any hostname to see more info about the system (e.g. compilers) (*) as reported by 'uname -p', except on Windows and Mac OS X | ||||
| To the developers/maintainers of the BufferedMatrixMethods package: - Allow up to 24 hours (and sometimes 48 hours) for your latest push to git@git.bioconductor.org:packages/BufferedMatrixMethods.git to reflect on this report. See Troubleshooting Build Report for more information. - Use the following Renviron settings to reproduce errors and warnings. Note: If "R CMD check" recently failed on the Linux builder over a missing dependency, add the missing dependency to "Suggests" in your DESCRIPTION file. See the Renviron.bioc for details. | 
| Package 245/2207 | Hostname | OS / Arch | INSTALL | BUILD | CHECK | BUILD BIN | ||||||||
| BufferedMatrixMethods 1.63.0  (landing page) Ben Bolstad 
 | nebbiolo1 | Linux (Ubuntu 22.04.1 LTS) / x86_64 | OK | OK | OK | |||||||||
| nebbiolo2 | Linux (Ubuntu 20.04.5 LTS) / x86_64 | OK | OK | OK | ||||||||||
| Package: BufferedMatrixMethods | 
| Version: 1.63.0 | 
| Command: /home/biocbuild/bbs-3.17-bioc/R/bin/R CMD INSTALL BufferedMatrixMethods | 
| StartedAt: 2023-04-12 01:34:26 -0400 (Wed, 12 Apr 2023) | 
| EndedAt: 2023-04-12 01:34:49 -0400 (Wed, 12 Apr 2023) | 
| EllapsedTime: 23.1 seconds | 
| RetCode: 0 | 
| Status: OK | 
##############################################################################
##############################################################################
###
### Running command:
###
###   /home/biocbuild/bbs-3.17-bioc/R/bin/R CMD INSTALL BufferedMatrixMethods
###
##############################################################################
##############################################################################
* installing to library ‘/home/biocbuild/bbs-3.17-bioc/R/site-library’
* installing *source* package ‘BufferedMatrixMethods’ ...
** using staged installation
** libs
using C compiler: ‘gcc (Ubuntu 9.4.0-1ubuntu1~20.04.1) 9.4.0’
gcc -I"/home/biocbuild/bbs-3.17-bioc/R/include" -DNDEBUG  -I'/home/biocbuild/bbs-3.17-bioc/R/site-library/BufferedMatrix/include' -I/usr/local/include    -fpic  -g -O2  -Wall -c init_package.c -o init_package.o
gcc -I"/home/biocbuild/bbs-3.17-bioc/R/include" -DNDEBUG  -I'/home/biocbuild/bbs-3.17-bioc/R/site-library/BufferedMatrix/include' -I/usr/local/include    -fpic  -g -O2  -Wall -c preprocess_bm.c -o preprocess_bm.o
preprocess_bm.c: In function ‘bm_rma_bg_correct’:
preprocess_bm.c:344:7: warning: unused variable ‘i’ [-Wunused-variable]
  344 |   int i,j;
      |       ^
preprocess_bm.c: In function ‘R_bm_rma_bg_correct’:
preprocess_bm.c:378:7: warning: unused variable ‘current_mode’ [-Wunused-variable]
  378 |   int current_mode;
      |       ^~~~~~~~~~~~
preprocess_bm.c: In function ‘R_bm_quantile_normalize’:
preprocess_bm.c:593:7: warning: unused variable ‘current_mode’ [-Wunused-variable]
  593 |   int current_mode;
      |       ^~~~~~~~~~~~
preprocess_bm.c: In function ‘do_RMA_buffmat’:
preprocess_bm.c:924:7: warning: variable ‘first_ind’ set but not used [-Wunused-but-set-variable]
  924 |   int first_ind;
      |       ^~~~~~~~~
preprocess_bm.c: In function ‘R_bm_rma_bg_correct_quantile_normalize’:
preprocess_bm.c:1151:7: warning: unused variable ‘current_mode’ [-Wunused-variable]
 1151 |   int current_mode;
      |       ^~~~~~~~~~~~
At top level:
preprocess_bm.c:453:12: warning: ‘min’ defined but not used [-Wunused-function]
  453 | static int min(int x1,int x2){
      |            ^~~
gcc -shared -L/home/biocbuild/bbs-3.17-bioc/R/lib -L/usr/local/lib -o BufferedMatrixMethods.so init_package.o preprocess_bm.o -L/home/biocbuild/bbs-3.17-bioc/R/lib -lR
installing to /home/biocbuild/bbs-3.17-bioc/R/site-library/00LOCK-BufferedMatrixMethods/00new/BufferedMatrixMethods/libs
** R
** byte-compile and prepare package for lazy loading
** help
*** installing help indices
** building package indices
** testing if installed package can be loaded from temporary location
** checking absolute paths in shared objects and dynamic libraries
** testing if installed package can be loaded from final location
** testing if installed package keeps a record of temporary installation path
* DONE (BufferedMatrixMethods)