| Back to Multiple platform build/check report for BioC 3.17 | 
 | 
This page was generated on 2023-02-09 10:55:25 -0500 (Thu, 09 Feb 2023).
| Hostname | OS | Arch (*) | R version | Installed pkgs | 
|---|---|---|---|---|
| nebbiolo1 | Linux (Ubuntu 22.04.1 LTS) | x86_64 | R Under development (unstable) (2023-01-10 r83596) -- "Unsuffered Consequences" | 4485 | 
| nebbiolo2 | Linux (Ubuntu 20.04.5 LTS) | x86_64 | R Under development (unstable) (2022-12-12 r83438) -- "Unsuffered Consequences" | 4254 | 
| Click on any hostname to see more info about the system (e.g. compilers) (*) as reported by 'uname -p', except on Windows and Mac OS X | ||||
| To the developers/maintainers of the BioMM package: - Please allow up to 24 hours (and sometimes 48 hours) for your latest push to git@git.bioconductor.org:packages/BioMM.git to reflect on this report. See How and When does the builder pull? When will my changes propagate? for more information. - Make sure to use the following settings in order to reproduce any error or warning you see on this page. | 
| Package 191/2164 | Hostname | OS / Arch | INSTALL | BUILD | CHECK | BUILD BIN | ||||||||
| BioMM 1.15.0  (landing page) Junfang Chen 
 | nebbiolo1 | Linux (Ubuntu 22.04.1 LTS) / x86_64 | OK | OK | OK | |||||||||
| nebbiolo2 | Linux (Ubuntu 20.04.5 LTS) / x86_64 | OK | OK | ERROR | ||||||||||
| Package: BioMM | 
| Version: 1.15.0 | 
| Command: /home/biocbuild/bbs-3.17-bioc/R/bin/R CMD check --install=check:BioMM.install-out.txt --library=/home/biocbuild/bbs-3.17-bioc/R/library --timings BioMM_1.15.0.tar.gz | 
| StartedAt: 2023-02-08 19:16:00 -0500 (Wed, 08 Feb 2023) | 
| EndedAt: 2023-02-08 19:19:20 -0500 (Wed, 08 Feb 2023) | 
| EllapsedTime: 199.9 seconds | 
| RetCode: 0 | 
| Status: OK | 
| CheckDir: BioMM.Rcheck | 
| Warnings: 0 | 
##############################################################################
##############################################################################
###
### Running command:
###
###   /home/biocbuild/bbs-3.17-bioc/R/bin/R CMD check --install=check:BioMM.install-out.txt --library=/home/biocbuild/bbs-3.17-bioc/R/library --timings BioMM_1.15.0.tar.gz
###
##############################################################################
##############################################################################
* using log directory ‘/home/biocbuild/bbs-3.17-bioc/meat/BioMM.Rcheck’
* using R Under development (unstable) (2023-01-10 r83596)
* using platform: x86_64-pc-linux-gnu (64-bit)
* R was compiled by
    gcc (Ubuntu 11.3.0-1ubuntu1~22.04) 11.3.0
    GNU Fortran (Ubuntu 11.3.0-1ubuntu1~22.04) 11.3.0
* running under: Ubuntu 22.04.1 LTS
* using session charset: UTF-8
* checking for file ‘BioMM/DESCRIPTION’ ... OK
* checking extension type ... Package
* this is package ‘BioMM’ version ‘1.15.0’
* package encoding: UTF-8
* checking package namespace information ... OK
* checking package dependencies ... OK
* checking if this is a source package ... OK
* checking if there is a namespace ... OK
* checking for hidden files and directories ... OK
* checking for portable file names ... OK
* checking for sufficient/correct file permissions ... OK
* checking whether package ‘BioMM’ can be installed ... OK
* checking installed package size ... OK
* checking package directory ... OK
* checking ‘build’ directory ... OK
* checking DESCRIPTION meta-information ... OK
* checking top-level files ... OK
* checking for left-over files ... OK
* checking index information ... OK
* checking package subdirectories ... OK
* checking R files for non-ASCII characters ... OK
* checking R files for syntax errors ... OK
* checking whether the package can be loaded ... OK
* checking whether the package can be loaded with stated dependencies ... OK
* checking whether the package can be unloaded cleanly ... OK
* checking whether the namespace can be loaded with stated dependencies ... OK
* checking whether the namespace can be unloaded cleanly ... OK
* checking dependencies in R code ... NOTE
Namespaces in Imports field not imported from:
  ‘imager’ ‘topGO’ ‘xlsx’
  All declared Imports should be used.
* checking S3 generic/method consistency ... OK
* checking replacement functions ... OK
* checking foreign function calls ... OK
* checking R code for possible problems ... OK
* checking Rd files ... OK
* checking Rd metadata ... OK
* checking Rd cross-references ... OK
* checking for missing documentation entries ... OK
* checking for code/documentation mismatches ... OK
* checking Rd \usage sections ... OK
* checking Rd contents ... OK
* checking for unstated dependencies in examples ... OK
* checking files in ‘vignettes’ ... OK
* checking examples ... OK
Examples with CPU (user + system) or elapsed time > 5s
                      user system elapsed
getDataByFilter     34.949  0.954   9.654
reconByUnsupervised 17.329  0.791  12.773
reconBySupervised   11.004  0.170  11.174
predByBS             6.848  1.205   3.192
predByCV             4.284  0.920   1.505
* checking for unstated dependencies in ‘tests’ ... OK
* checking tests ...
  Running ‘runTest.R’
 OK
* checking for unstated dependencies in vignettes ... OK
* checking package vignettes in ‘inst/doc’ ... OK
* checking running R code from vignettes ...
  ‘BioMMtutorial.Rmd’ using ‘UTF-8’... OK
 NONE
* checking re-building of vignette outputs ... OK
* checking PDF version of manual ... OK
* DONE
Status: 1 NOTE
See
  ‘/home/biocbuild/bbs-3.17-bioc/meat/BioMM.Rcheck/00check.log’
for details.
BioMM.Rcheck/00install.out
############################################################################## ############################################################################## ### ### Running command: ### ### /home/biocbuild/bbs-3.17-bioc/R/bin/R CMD INSTALL BioMM ### ############################################################################## ############################################################################## * installing to library ‘/home/biocbuild/bbs-3.17-bioc/R/library’ * installing *source* package ‘BioMM’ ... ** using staged installation ** R ** inst ** byte-compile and prepare package for lazy loading ** help *** installing help indices ** building package indices ** installing vignettes ** testing if installed package can be loaded from temporary location ** testing if installed package can be loaded from final location ** testing if installed package keeps a record of temporary installation path * DONE (BioMM)
BioMM.Rcheck/tests/runTest.Rout
R Under development (unstable) (2023-01-10 r83596) -- "Unsuffered Consequences"
Copyright (C) 2023 The R Foundation for Statistical Computing
Platform: x86_64-pc-linux-gnu (64-bit)
R is free software and comes with ABSOLUTELY NO WARRANTY.
You are welcome to redistribute it under certain conditions.
Type 'license()' or 'licence()' for distribution details.
R is a collaborative project with many contributors.
Type 'contributors()' for more information and
'citation()' on how to cite R or R packages in publications.
Type 'demo()' for some demos, 'help()' for on-line help, or
'help.start()' for an HTML browser interface to help.
Type 'q()' to quit R.
> BiocGenerics:::testPackage("BioMM")
RUNIT TEST PROTOCOL -- Wed Feb  8 19:17:49 2023 
*********************************************** 
Number of test functions: 2 
Number of errors: 0 
Number of failures: 0 
 
1 Test Suite : 
BioMM RUnit Tests - 2 test functions, 0 errors, 0 failures
Number of test functions: 2 
Number of errors: 0 
Number of failures: 0 
> 
> proc.time()
   user  system elapsed 
  3.243   0.251   3.474 
BioMM.Rcheck/BioMM-Ex.timings
| name | user | system | elapsed | |
| BioMM | 0.636 | 0.008 | 0.649 | |
| baseGLMnet | 0.414 | 0.008 | 0.423 | |
| baseModel | 0.263 | 0.008 | 0.258 | |
| baseRandForest | 0.257 | 0.013 | 0.260 | |
| baseSVM | 1.018 | 0.056 | 1.073 | |
| classifiACC | 1.200 | 0.441 | 1.041 | |
| getDataByFilter | 34.949 | 0.954 | 9.654 | |
| getMetrics | 1.750 | 0.669 | 1.284 | |
| omics2pathlist | 0.242 | 0.016 | 0.258 | |
| predByBS | 6.848 | 1.205 | 3.192 | |
| predByCV | 4.284 | 0.920 | 1.505 | |
| predByFS | 1.228 | 0.415 | 0.538 | |
| reconBySupervised | 11.004 | 0.170 | 11.174 | |
| reconByUnsupervised | 17.329 | 0.791 | 12.773 | |