| Back to Multiple platform build/check report for BioC 3.17 |
|
This page was generated on 2023-04-12 10:55:22 -0400 (Wed, 12 Apr 2023).
| Hostname | OS | Arch (*) | R version | Installed pkgs |
|---|---|---|---|---|
| nebbiolo1 | Linux (Ubuntu 22.04.1 LTS) | x86_64 | 4.3.0 alpha (2023-04-03 r84154) | 4547 |
| nebbiolo2 | Linux (Ubuntu 20.04.5 LTS) | x86_64 | R Under development (unstable) (2023-02-14 r83833) -- "Unsuffered Consequences" | 4333 |
| Click on any hostname to see more info about the system (e.g. compilers) (*) as reported by 'uname -p', except on Windows and Mac OS X | ||||
|
To the developers/maintainers of the BUS package: - Allow up to 24 hours (and sometimes 48 hours) for your latest push to git@git.bioconductor.org:packages/BUS.git to reflect on this report. See Troubleshooting Build Report for more information. - Use the following Renviron settings to reproduce errors and warnings. Note: If "R CMD check" recently failed on the Linux builder over a missing dependency, add the missing dependency to "Suggests" in your DESCRIPTION file. See the Renviron.bioc for details. |
| Package 250/2207 | Hostname | OS / Arch | INSTALL | BUILD | CHECK | BUILD BIN | ||||||||
| BUS 1.55.0 (landing page) Yuanhua Liu
| nebbiolo1 | Linux (Ubuntu 22.04.1 LTS) / x86_64 | OK | OK | OK | |||||||||
| nebbiolo2 | Linux (Ubuntu 20.04.5 LTS) / x86_64 | OK | OK | OK | ||||||||||
| Package: BUS |
| Version: 1.55.0 |
| Command: /home/biocbuild/bbs-3.17-bioc/R/bin/R CMD INSTALL BUS |
| StartedAt: 2023-04-11 15:37:03 -0400 (Tue, 11 Apr 2023) |
| EndedAt: 2023-04-11 15:37:06 -0400 (Tue, 11 Apr 2023) |
| EllapsedTime: 3.4 seconds |
| RetCode: 0 |
| Status: OK |
##############################################################################
##############################################################################
###
### Running command:
###
### /home/biocbuild/bbs-3.17-bioc/R/bin/R CMD INSTALL BUS
###
##############################################################################
##############################################################################
* installing to library ‘/home/biocbuild/bbs-3.17-bioc/R/site-library’
* installing *source* package ‘BUS’ ...
** using staged installation
** libs
using C++ compiler: ‘g++ (Ubuntu 11.3.0-1ubuntu1~22.04) 11.3.0’
g++ -std=gnu++17 -I"/home/biocbuild/bbs-3.17-bioc/R/include" -DNDEBUG -I/usr/local/include -fpic -g -O2 -Wall -c BUS.cpp -o BUS.o
BUS.cpp: In function ‘SEXPREC* MINempirical(SEXP, SEXP, SEXP, SEXP, SEXP)’:
BUS.cpp:22:7: warning: this ‘for’ clause does not guard... [-Wmisleading-indentation]
22 | for( int i=0; i<*ncols1; ++i )
| ^~~
In file included from /home/biocbuild/bbs-3.17-bioc/R/include/Rdefines.h:41,
from BUS.h:9,
from BUS.cpp:1:
/home/biocbuild/bbs-3.17-bioc/R/include/Rinternals.h:369:25: note: ...this statement, but the latter is misleadingly indented as if it were guarded by the ‘for’
369 | #define UNPROTECT(n) Rf_unprotect(n)
| ^~~~~~~~~~~~
BUS.cpp:27:10: note: in expansion of macro ‘UNPROTECT’
27 | UNPROTECT(6);
| ^~~~~~~~~
g++ -std=gnu++17 -shared -L/home/biocbuild/bbs-3.17-bioc/R/lib -L/usr/local/lib -o BUS.so BUS.o -L/home/biocbuild/bbs-3.17-bioc/R/lib -lR
installing to /home/biocbuild/bbs-3.17-bioc/R/site-library/00LOCK-BUS/00new/BUS/libs
** R
** data
** inst
** byte-compile and prepare package for lazy loading
** help
*** installing help indices
** building package indices
** installing vignettes
** testing if installed package can be loaded from temporary location
** checking absolute paths in shared objects and dynamic libraries
** testing if installed package can be loaded from final location
** testing if installed package keeps a record of temporary installation path
* DONE (BUS)