| Back to Multiple platform build/check report for BioC 3.17 | 
 | 
This page was generated on 2023-04-12 10:55:21 -0400 (Wed, 12 Apr 2023).
| Hostname | OS | Arch (*) | R version | Installed pkgs | 
|---|---|---|---|---|
| nebbiolo1 | Linux (Ubuntu 22.04.1 LTS) | x86_64 | 4.3.0 alpha (2023-04-03 r84154) | 4547 | 
| nebbiolo2 | Linux (Ubuntu 20.04.5 LTS) | x86_64 | R Under development (unstable) (2023-02-14 r83833) -- "Unsuffered Consequences" | 4333 | 
| Click on any hostname to see more info about the system (e.g. compilers) (*) as reported by 'uname -p', except on Windows and Mac OS X | ||||
| To the developers/maintainers of the BEclear package: - Allow up to 24 hours (and sometimes 48 hours) for your latest push to git@git.bioconductor.org:packages/BEclear.git to reflect on this report. See Troubleshooting Build Report for more information. - Use the following Renviron settings to reproduce errors and warnings. Note: If "R CMD check" recently failed on the Linux builder over a missing dependency, add the missing dependency to "Suggests" in your DESCRIPTION file. See the Renviron.bioc for details. | 
| Package 151/2207 | Hostname | OS / Arch | INSTALL | BUILD | CHECK | BUILD BIN | ||||||||
| BEclear 2.15.1  (landing page) Livia Rasp 
 | nebbiolo1 | Linux (Ubuntu 22.04.1 LTS) / x86_64 | OK | OK | OK | |||||||||
| nebbiolo2 | Linux (Ubuntu 20.04.5 LTS) / x86_64 | OK | OK | OK | ||||||||||
| Package: BEclear | 
| Version: 2.15.1 | 
| Command: /home/biocbuild/bbs-3.17-bioc/R/bin/R CMD check --install=check:BEclear.install-out.txt --library=/home/biocbuild/bbs-3.17-bioc/R/site-library --timings BEclear_2.15.1.tar.gz | 
| StartedAt: 2023-04-11 18:46:04 -0400 (Tue, 11 Apr 2023) | 
| EndedAt: 2023-04-11 18:47:18 -0400 (Tue, 11 Apr 2023) | 
| EllapsedTime: 74.3 seconds | 
| RetCode: 0 | 
| Status: OK | 
| CheckDir: BEclear.Rcheck | 
| Warnings: 0 | 
##############################################################################
##############################################################################
###
### Running command:
###
###   /home/biocbuild/bbs-3.17-bioc/R/bin/R CMD check --install=check:BEclear.install-out.txt --library=/home/biocbuild/bbs-3.17-bioc/R/site-library --timings BEclear_2.15.1.tar.gz
###
##############################################################################
##############################################################################
* using log directory ‘/home/biocbuild/bbs-3.17-bioc/meat/BEclear.Rcheck’
* using R version 4.3.0 alpha (2023-04-03 r84154)
* using platform: x86_64-pc-linux-gnu (64-bit)
* R was compiled by
    gcc (Ubuntu 11.3.0-1ubuntu1~22.04) 11.3.0
    GNU Fortran (Ubuntu 11.3.0-1ubuntu1~22.04) 11.3.0
* running under: Ubuntu 22.04.2 LTS
* using session charset: UTF-8
* checking for file ‘BEclear/DESCRIPTION’ ... OK
* checking extension type ... Package
* this is package ‘BEclear’ version ‘2.15.1’
* package encoding: UTF-8
* checking package namespace information ... OK
* checking package dependencies ... OK
* checking if this is a source package ... OK
* checking if there is a namespace ... OK
* checking for hidden files and directories ... NOTE
Found the following hidden files and directories:
  .travis.yml
These were most likely included in error. See section ‘Package
structure’ in the ‘Writing R Extensions’ manual.
* checking for portable file names ... OK
* checking for sufficient/correct file permissions ... OK
* checking whether package ‘BEclear’ can be installed ... OK
* used C++ compiler: ‘g++ (Ubuntu 11.3.0-1ubuntu1~22.04) 11.3.0’
* checking C++ specification ... NOTE
  Specified C++11: please drop specification unless essential
* checking installed package size ... OK
* checking package directory ... OK
* checking ‘build’ directory ... OK
* checking DESCRIPTION meta-information ... OK
* checking top-level files ... NOTE
File
  LICENSE
is not mentioned in the DESCRIPTION file.
* checking for left-over files ... OK
* checking index information ... OK
* checking package subdirectories ... OK
* checking R files for non-ASCII characters ... OK
* checking R files for syntax errors ... OK
* checking whether the package can be loaded ... OK
* checking whether the package can be loaded with stated dependencies ... OK
* checking whether the package can be unloaded cleanly ... OK
* checking whether the namespace can be loaded with stated dependencies ... OK
* checking whether the namespace can be unloaded cleanly ... OK
* checking loading without being on the library search path ... OK
* checking dependencies in R code ... OK
* checking S3 generic/method consistency ... OK
* checking replacement functions ... OK
* checking foreign function calls ... OK
* checking R code for possible problems ... OK
* checking Rd files ... OK
* checking Rd metadata ... OK
* checking Rd cross-references ... OK
* checking for missing documentation entries ... OK
* checking for code/documentation mismatches ... OK
* checking Rd \usage sections ... OK
* checking Rd contents ... OK
* checking for unstated dependencies in examples ... OK
* checking contents of ‘data’ directory ... OK
* checking data for non-ASCII characters ... OK
* checking data for ASCII and uncompressed saves ... OK
* checking line endings in C/C++/Fortran sources/headers ... OK
* checking compiled code ... NOTE
Note: information on .o files is not available
* checking files in ‘vignettes’ ... OK
* checking examples ... OK
Examples with CPU (user + system) or elapsed time > 5s
                  user system elapsed
calcBatchEffects 6.115  0.068   5.576
* checking for unstated dependencies in ‘tests’ ... OK
* checking tests ...
  Running ‘testthat.R’
 OK
* checking for unstated dependencies in vignettes ... OK
* checking package vignettes in ‘inst/doc’ ... OK
* checking running R code from vignettes ...
  ‘BEclear.Rmd’ using ‘UTF-8’... OK
 NONE
* checking re-building of vignette outputs ... OK
* checking PDF version of manual ... OK
* DONE
Status: 4 NOTEs
See
  ‘/home/biocbuild/bbs-3.17-bioc/meat/BEclear.Rcheck/00check.log’
for details.
BEclear.Rcheck/00install.out
############################################################################## ############################################################################## ### ### Running command: ### ### /home/biocbuild/bbs-3.17-bioc/R/bin/R CMD INSTALL BEclear ### ############################################################################## ############################################################################## * installing to library ‘/home/biocbuild/bbs-3.17-bioc/R/site-library’ * installing *source* package ‘BEclear’ ... ** using staged installation ** libs using C++ compiler: ‘g++ (Ubuntu 11.3.0-1ubuntu1~22.04) 11.3.0’ using C++11 g++ -std=gnu++11 -I"/home/biocbuild/bbs-3.17-bioc/R/include" -DNDEBUG -I'/home/biocbuild/bbs-3.17-bioc/R/site-library/Rcpp/include' -I/usr/local/include -fpic -g -O2 -Wall -c RcppExports.cpp -o RcppExports.o g++ -std=gnu++11 -I"/home/biocbuild/bbs-3.17-bioc/R/include" -DNDEBUG -I'/home/biocbuild/bbs-3.17-bioc/R/site-library/Rcpp/include' -I/usr/local/include -fpic -g -O2 -Wall -c localLoss.cpp -o localLoss.o g++ -std=gnu++11 -shared -L/home/biocbuild/bbs-3.17-bioc/R/lib -L/usr/local/lib -o BEclear.so RcppExports.o localLoss.o -L/home/biocbuild/bbs-3.17-bioc/R/lib -lR installing to /home/biocbuild/bbs-3.17-bioc/R/site-library/00LOCK-BEclear/00new/BEclear/libs ** R ** data ** inst ** byte-compile and prepare package for lazy loading ** help Loading required namespace: BEclear *** installing help indices ** building package indices ** installing vignettes ** testing if installed package can be loaded from temporary location ** checking absolute paths in shared objects and dynamic libraries ** testing if installed package can be loaded from final location ** testing if installed package keeps a record of temporary installation path * DONE (BEclear)
BEclear.Rcheck/tests/testthat.Rout
R version 4.3.0 alpha (2023-04-03 r84154)
Copyright (C) 2023 The R Foundation for Statistical Computing
Platform: x86_64-pc-linux-gnu (64-bit)
R is free software and comes with ABSOLUTELY NO WARRANTY.
You are welcome to redistribute it under certain conditions.
Type 'license()' or 'licence()' for distribution details.
R is a collaborative project with many contributors.
Type 'contributors()' for more information and
'citation()' on how to cite R or R packages in publications.
Type 'demo()' for some demos, 'help()' for on-line help, or
'help.start()' for an HTML browser interface to help.
Type 'q()' to quit R.
> library(testthat)
> library(BEclear)
Loading required package: BiocParallel
> test_check("BEclear")
INFO [2023-04-11 18:47:02] Calculate the batch effects for 2 batches
INFO [2023-04-11 18:47:03] Calculate the batch effects for 3 batches
INFO [2023-04-11 18:47:03] Calculate the batch effects for 3 batches
INFO [2023-04-11 18:47:03] Adjusting p-values
INFO [2023-04-11 18:47:03] Transforming matrix to data.table
INFO [2023-04-11 18:47:03] Calculate the batch effects for 4 batches
INFO [2023-04-11 18:47:03] Adjusting p-values
INFO [2023-04-11 18:47:03] Generating a summary table
INFO [2023-04-11 18:47:03] Calculating the scores for 4 batches
INFO [2023-04-11 18:47:03] Generating a summary table
INFO [2023-04-11 18:47:03] Generating a summary table
INFO [2023-04-11 18:47:03] 3 values outside of the boundaries found
INFO [2023-04-11 18:47:04] Starting the imputation of missing values.
INFO [2023-04-11 18:47:04] This might take a while.
INFO [2023-04-11 18:47:04] BEclear imputation is started:
INFO [2023-04-11 18:47:04] block size: 10  x  10
[ FAIL 0 | WARN 0 | SKIP 0 | PASS 80 ]
> 
> proc.time()
   user  system elapsed 
  4.117   0.225   4.297 
BEclear.Rcheck/BEclear-Ex.timings
| name | user | system | elapsed | |
| BEclear-package | 1.659 | 0.069 | 1.591 | |
| calcBatchEffects | 6.115 | 0.068 | 5.576 | |
| calcScore | 0.282 | 0.000 | 0.240 | |
| calcSummary | 0.286 | 0.000 | 0.244 | |
| clearBEgenes | 0.302 | 0.019 | 0.276 | |
| correctBatchEffect | 0.532 | 0.028 | 0.513 | |
| countValuesToPredict | 0.284 | 0.004 | 0.246 | |
| findOutsideValues | 0.285 | 0.000 | 0.285 | |
| imputeMissingData | 0.381 | 0.012 | 0.352 | |
| makeBoxplot | 0.316 | 0.000 | 0.264 | |
| preprocessBEclear | 0.008 | 0.004 | 0.012 | |
| replaceOutsideValues | 0.012 | 0.000 | 0.012 | |