| Back to Multiple platform build/check report for BioC 3.17 |
|
This page was generated on 2023-04-12 10:55:34 -0400 (Wed, 12 Apr 2023).
| Hostname | OS | Arch (*) | R version | Installed pkgs |
|---|---|---|---|---|
| nebbiolo1 | Linux (Ubuntu 22.04.1 LTS) | x86_64 | 4.3.0 alpha (2023-04-03 r84154) | 4547 |
| nebbiolo2 | Linux (Ubuntu 20.04.5 LTS) | x86_64 | R Under development (unstable) (2023-02-14 r83833) -- "Unsuffered Consequences" | 4333 |
| Click on any hostname to see more info about the system (e.g. compilers) (*) as reported by 'uname -p', except on Windows and Mac OS X | ||||
|
To the developers/maintainers of the BDMMAcorrect package: - Allow up to 24 hours (and sometimes 48 hours) for your latest push to git@git.bioconductor.org:packages/BDMMAcorrect.git to reflect on this report. See Troubleshooting Build Report for more information. - Use the following Renviron settings to reproduce errors and warnings. Note: If "R CMD check" recently failed on the Linux builder over a missing dependency, add the missing dependency to "Suggests" in your DESCRIPTION file. See the Renviron.bioc for details. |
| Package 144/2207 | Hostname | OS / Arch | INSTALL | BUILD | CHECK | BUILD BIN | ||||||||
| BDMMAcorrect 1.17.0 (landing page) ZHENWEI DAI
| nebbiolo1 | Linux (Ubuntu 22.04.1 LTS) / x86_64 | OK | OK | ERROR | |||||||||
| nebbiolo2 | Linux (Ubuntu 20.04.5 LTS) / x86_64 | OK | OK | ERROR | ||||||||||
| Package: BDMMAcorrect |
| Version: 1.17.0 |
| Command: /home/biocbuild/bbs-3.17-bioc/R/bin/R CMD check --install=check:BDMMAcorrect.install-out.txt --library=/home/biocbuild/bbs-3.17-bioc/R/site-library --timings BDMMAcorrect_1.17.0.tar.gz |
| StartedAt: 2023-04-12 04:51:09 -0400 (Wed, 12 Apr 2023) |
| EndedAt: 2023-04-12 04:57:25 -0400 (Wed, 12 Apr 2023) |
| EllapsedTime: 376.6 seconds |
| RetCode: 1 |
| Status: ERROR |
| CheckDir: BDMMAcorrect.Rcheck |
| Warnings: NA |
##############################################################################
##############################################################################
###
### Running command:
###
### /home/biocbuild/bbs-3.17-bioc/R/bin/R CMD check --install=check:BDMMAcorrect.install-out.txt --library=/home/biocbuild/bbs-3.17-bioc/R/site-library --timings BDMMAcorrect_1.17.0.tar.gz
###
##############################################################################
##############################################################################
* using log directory ‘/home/biocbuild/bbs-3.17-bioc/meat/BDMMAcorrect.Rcheck’
* using R Under development (unstable) (2023-02-14 r83833)
* using platform: x86_64-pc-linux-gnu (64-bit)
* R was compiled by
gcc (Ubuntu 9.4.0-1ubuntu1~20.04.1) 9.4.0
GNU Fortran (Ubuntu 9.4.0-1ubuntu1~20.04.1) 9.4.0
* running under: Ubuntu 20.04.6 LTS
* using session charset: UTF-8
* checking for file ‘BDMMAcorrect/DESCRIPTION’ ... OK
* checking extension type ... Package
* this is package ‘BDMMAcorrect’ version ‘1.17.0’
* package encoding: UTF-8
* checking package namespace information ... NOTE
Namespace with empty importFrom: ‘RcppEigen’
* checking package dependencies ... OK
* checking if this is a source package ... OK
* checking if there is a namespace ... OK
* checking for hidden files and directories ... OK
* checking for portable file names ... OK
* checking for sufficient/correct file permissions ... OK
* checking whether package ‘BDMMAcorrect’ can be installed ... OK
* used C++ compiler: ‘g++ (Ubuntu 9.4.0-1ubuntu1~20.04.1) 9.4.0’
* checking C++ specification ... NOTE
Specified C++11: please drop specification unless essential
* checking installed package size ... OK
* checking package directory ... OK
* checking ‘build’ directory ... OK
* checking DESCRIPTION meta-information ... OK
* checking top-level files ... OK
* checking for left-over files ... OK
* checking index information ... OK
* checking package subdirectories ... OK
* checking R files for non-ASCII characters ... OK
* checking R files for syntax errors ... OK
* checking whether the package can be loaded ... OK
* checking whether the package can be loaded with stated dependencies ... OK
* checking whether the package can be unloaded cleanly ... OK
* checking whether the namespace can be loaded with stated dependencies ... OK
* checking whether the namespace can be unloaded cleanly ... OK
* checking loading without being on the library search path ... OK
* checking dependencies in R code ... OK
* checking S3 generic/method consistency ... OK
* checking replacement functions ... OK
* checking foreign function calls ... OK
* checking R code for possible problems ... OK
* checking Rd files ... OK
* checking Rd metadata ... OK
* checking Rd cross-references ... OK
* checking for missing documentation entries ... OK
* checking for code/documentation mismatches ... OK
* checking Rd \usage sections ... OK
* checking Rd contents ... OK
* checking for unstated dependencies in examples ... OK
* checking contents of ‘data’ directory ... OK
* checking data for non-ASCII characters ... OK
* checking LazyData ... OK
* checking data for ASCII and uncompressed saves ... OK
* checking line endings in C/C++/Fortran sources/headers ... OK
* checking line endings in Makefiles ... OK
* checking compilation flags in Makevars ... OK
* checking for GNU extensions in Makefiles ... OK
* checking for portable use of $(BLAS_LIBS) and $(LAPACK_LIBS) ... OK
* checking use of PKG_*FLAGS in Makefiles ... OK
* checking compiled code ... NOTE
Note: information on .o files is not available
* checking files in ‘vignettes’ ... OK
* checking examples ... OK
* checking for unstated dependencies in ‘tests’ ... OK
* checking tests ...
Running ‘Test.R’
ERROR
Running the tests in ‘tests/Test.R’ failed.
Last 13 lines of output:
Attaching package: 'Biobase'
The following object is masked from 'package:MatrixGenerics':
rowMedians
The following objects are masked from 'package:matrixStats':
anyMissing, rowMedians
Error in library("RUnit", quietly = TRUE) :
there is no package called 'RUnit'
Calls: <Anonymous> -> library
Execution halted
* checking for unstated dependencies in vignettes ... OK
* checking package vignettes in ‘inst/doc’ ... OK
* checking running R code from vignettes ...
‘Vignette.Rmd’ using ‘UTF-8’... OK
NONE
* checking re-building of vignette outputs ... OK
* checking PDF version of manual ... OK
* DONE
Status: 1 ERROR, 3 NOTEs
See
‘/home/biocbuild/bbs-3.17-bioc/meat/BDMMAcorrect.Rcheck/00check.log’
for details.
BDMMAcorrect.Rcheck/00install.out
##############################################################################
##############################################################################
###
### Running command:
###
### /home/biocbuild/bbs-3.17-bioc/R/bin/R CMD INSTALL BDMMAcorrect
###
##############################################################################
##############################################################################
* installing to library ‘/home/biocbuild/bbs-3.17-bioc/R/site-library’
* installing *source* package ‘BDMMAcorrect’ ...
** using staged installation
** libs
using C++ compiler: ‘g++ (Ubuntu 9.4.0-1ubuntu1~20.04.1) 9.4.0’
using C++11
g++ -std=gnu++11 -I"/home/biocbuild/bbs-3.17-bioc/R/include" -DNDEBUG -I'/home/biocbuild/bbs-3.17-bioc/R/site-library/Rcpp/include' -I'/home/biocbuild/bbs-3.17-bioc/R/site-library/RcppArmadillo/include' -I'/home/biocbuild/bbs-3.17-bioc/R/site-library/RcppEigen/include' -I/usr/local/include -DARMA_DONT_USE_OPENMP -fpic -g -O2 -Wall -c MCMC_algorithm.cpp -o MCMC_algorithm.o
In file included from /home/biocbuild/bbs-3.17-bioc/R/site-library/RcppEigen/include/Eigen/Core:397,
from /home/biocbuild/bbs-3.17-bioc/R/site-library/RcppEigen/include/Eigen/Dense:1,
from /home/biocbuild/bbs-3.17-bioc/R/site-library/RcppEigen/include/RcppEigenForward.h:30,
from /home/biocbuild/bbs-3.17-bioc/R/site-library/RcppEigen/include/RcppEigen.h:25,
from MCMC_algorithm.cpp:3:
/home/biocbuild/bbs-3.17-bioc/R/site-library/RcppEigen/include/Eigen/src/Core/arch/SSE/PacketMath.h:60:39: warning: ignoring attributes on template argument ‘__m128’ {aka ‘__vector(4) float’} [-Wignored-attributes]
60 | template<> struct is_arithmetic<__m128> { enum { value = true }; };
| ^
/home/biocbuild/bbs-3.17-bioc/R/site-library/RcppEigen/include/Eigen/src/Core/arch/SSE/PacketMath.h:61:40: warning: ignoring attributes on template argument ‘__m128i’ {aka ‘__vector(2) long long int’} [-Wignored-attributes]
61 | template<> struct is_arithmetic<__m128i> { enum { value = true }; };
| ^
/home/biocbuild/bbs-3.17-bioc/R/site-library/RcppEigen/include/Eigen/src/Core/arch/SSE/PacketMath.h:62:40: warning: ignoring attributes on template argument ‘__m128d’ {aka ‘__vector(2) double’} [-Wignored-attributes]
62 | template<> struct is_arithmetic<__m128d> { enum { value = true }; };
| ^
/home/biocbuild/bbs-3.17-bioc/R/site-library/RcppEigen/include/Eigen/src/Core/arch/SSE/PacketMath.h:161:43: warning: ignoring attributes on template argument ‘Eigen::internal::Packet4f’ {aka ‘__vector(4) float’} [-Wignored-attributes]
161 | template<> struct unpacket_traits<Packet4f> { typedef float type; enum {size=4, alignment=Aligned16}; typedef Packet4f half; };
| ^
/home/biocbuild/bbs-3.17-bioc/R/site-library/RcppEigen/include/Eigen/src/Core/arch/SSE/PacketMath.h:162:43: warning: ignoring attributes on template argument ‘Eigen::internal::Packet2d’ {aka ‘__vector(2) double’} [-Wignored-attributes]
162 | template<> struct unpacket_traits<Packet2d> { typedef double type; enum {size=2, alignment=Aligned16}; typedef Packet2d half; };
| ^
/home/biocbuild/bbs-3.17-bioc/R/site-library/RcppEigen/include/Eigen/src/Core/arch/SSE/PacketMath.h:163:43: warning: ignoring attributes on template argument ‘Eigen::internal::Packet4i’ {aka ‘__vector(2) long long int’} [-Wignored-attributes]
163 | template<> struct unpacket_traits<Packet4i> { typedef int type; enum {size=4, alignment=Aligned16}; typedef Packet4i half; };
| ^
/home/biocbuild/bbs-3.17-bioc/R/site-library/RcppEigen/include/Eigen/src/Core/arch/SSE/PacketMath.h:718:35: warning: ignoring attributes on template argument ‘Eigen::internal::Packet4f’ {aka ‘__vector(4) float’} [-Wignored-attributes]
718 | struct palign_impl<Offset,Packet4f>
| ^
/home/biocbuild/bbs-3.17-bioc/R/site-library/RcppEigen/include/Eigen/src/Core/arch/SSE/PacketMath.h:741:35: warning: ignoring attributes on template argument ‘Eigen::internal::Packet4i’ {aka ‘__vector(2) long long int’} [-Wignored-attributes]
741 | struct palign_impl<Offset,Packet4i>
| ^
/home/biocbuild/bbs-3.17-bioc/R/site-library/RcppEigen/include/Eigen/src/Core/arch/SSE/PacketMath.h:764:35: warning: ignoring attributes on template argument ‘Eigen::internal::Packet2d’ {aka ‘__vector(2) double’} [-Wignored-attributes]
764 | struct palign_impl<Offset,Packet2d>
| ^
/home/biocbuild/bbs-3.17-bioc/R/site-library/RcppEigen/include/Eigen/src/Core/arch/SSE/PacketMath.h:778:34: warning: ignoring attributes on template argument ‘Eigen::internal::Packet4f’ {aka ‘__vector(4) float’} [-Wignored-attributes]
778 | ptranspose(PacketBlock<Packet4f,4>& kernel) {
| ^
/home/biocbuild/bbs-3.17-bioc/R/site-library/RcppEigen/include/Eigen/src/Core/arch/SSE/PacketMath.h:783:34: warning: ignoring attributes on template argument ‘Eigen::internal::Packet2d’ {aka ‘__vector(2) double’} [-Wignored-attributes]
783 | ptranspose(PacketBlock<Packet2d,2>& kernel) {
| ^
/home/biocbuild/bbs-3.17-bioc/R/site-library/RcppEigen/include/Eigen/src/Core/arch/SSE/PacketMath.h:790:34: warning: ignoring attributes on template argument ‘Eigen::internal::Packet4i’ {aka ‘__vector(2) long long int’} [-Wignored-attributes]
790 | ptranspose(PacketBlock<Packet4i,4>& kernel) {
| ^
In file included from /home/biocbuild/bbs-3.17-bioc/R/site-library/RcppEigen/include/Eigen/Core:377,
from /home/biocbuild/bbs-3.17-bioc/R/site-library/RcppEigen/include/Eigen/Dense:1,
from /home/biocbuild/bbs-3.17-bioc/R/site-library/RcppEigen/include/RcppEigenForward.h:30,
from /home/biocbuild/bbs-3.17-bioc/R/site-library/RcppEigen/include/RcppEigen.h:25,
from MCMC_algorithm.cpp:3:
/home/biocbuild/bbs-3.17-bioc/R/site-library/RcppEigen/include/Eigen/src/Core/arch/Default/ConjHelper.h:15:70: warning: ignoring attributes on template argument ‘Eigen::internal::Packet4f’ {aka ‘__vector(4) float’} [-Wignored-attributes]
15 | template<> struct conj_helper<PACKET_REAL, PACKET_CPLX, false,false> { \
| ^
/home/biocbuild/bbs-3.17-bioc/R/site-library/RcppEigen/include/Eigen/src/Core/arch/SSE/Complex.h:232:1: note: in expansion of macro ‘EIGEN_MAKE_CONJ_HELPER_CPLX_REAL’
232 | EIGEN_MAKE_CONJ_HELPER_CPLX_REAL(Packet2cf,Packet4f)
| ^~~~~~~~~~~~~~~~~~~~~~~~~~~~~~~~
/home/biocbuild/bbs-3.17-bioc/R/site-library/RcppEigen/include/Eigen/src/Core/arch/Default/ConjHelper.h:22:70: warning: ignoring attributes on template argument ‘Eigen::internal::Packet4f’ {aka ‘__vector(4) float’} [-Wignored-attributes]
22 | template<> struct conj_helper<PACKET_CPLX, PACKET_REAL, false,false> { \
| ^
/home/biocbuild/bbs-3.17-bioc/R/site-library/RcppEigen/include/Eigen/src/Core/arch/SSE/Complex.h:232:1: note: in expansion of macro ‘EIGEN_MAKE_CONJ_HELPER_CPLX_REAL’
232 | EIGEN_MAKE_CONJ_HELPER_CPLX_REAL(Packet2cf,Packet4f)
| ^~~~~~~~~~~~~~~~~~~~~~~~~~~~~~~~
/home/biocbuild/bbs-3.17-bioc/R/site-library/RcppEigen/include/Eigen/src/Core/arch/Default/ConjHelper.h:15:70: warning: ignoring attributes on template argument ‘Eigen::internal::Packet2d’ {aka ‘__vector(2) double’} [-Wignored-attributes]
15 | template<> struct conj_helper<PACKET_REAL, PACKET_CPLX, false,false> { \
| ^
/home/biocbuild/bbs-3.17-bioc/R/site-library/RcppEigen/include/Eigen/src/Core/arch/SSE/Complex.h:417:1: note: in expansion of macro ‘EIGEN_MAKE_CONJ_HELPER_CPLX_REAL’
417 | EIGEN_MAKE_CONJ_HELPER_CPLX_REAL(Packet1cd,Packet2d)
| ^~~~~~~~~~~~~~~~~~~~~~~~~~~~~~~~
/home/biocbuild/bbs-3.17-bioc/R/site-library/RcppEigen/include/Eigen/src/Core/arch/Default/ConjHelper.h:22:70: warning: ignoring attributes on template argument ‘Eigen::internal::Packet2d’ {aka ‘__vector(2) double’} [-Wignored-attributes]
22 | template<> struct conj_helper<PACKET_CPLX, PACKET_REAL, false,false> { \
| ^
/home/biocbuild/bbs-3.17-bioc/R/site-library/RcppEigen/include/Eigen/src/Core/arch/SSE/Complex.h:417:1: note: in expansion of macro ‘EIGEN_MAKE_CONJ_HELPER_CPLX_REAL’
417 | EIGEN_MAKE_CONJ_HELPER_CPLX_REAL(Packet1cd,Packet2d)
| ^~~~~~~~~~~~~~~~~~~~~~~~~~~~~~~~
In file included from /home/biocbuild/bbs-3.17-bioc/R/site-library/RcppEigen/include/Eigen/Core:370,
from /home/biocbuild/bbs-3.17-bioc/R/site-library/RcppEigen/include/Eigen/Dense:1,
from /home/biocbuild/bbs-3.17-bioc/R/site-library/RcppEigen/include/RcppEigenForward.h:30,
from /home/biocbuild/bbs-3.17-bioc/R/site-library/RcppEigen/include/RcppEigen.h:25,
from MCMC_algorithm.cpp:3:
/home/biocbuild/bbs-3.17-bioc/R/site-library/RcppEigen/include/Eigen/src/Core/util/XprHelper.h: In instantiation of ‘struct Eigen::internal::find_best_packet<float, 4>’:
/home/biocbuild/bbs-3.17-bioc/R/site-library/RcppEigen/include/Eigen/src/Core/Matrix.h:22:57: required from ‘struct Eigen::internal::traits<Eigen::Matrix<float, 4, 1> >’
/home/biocbuild/bbs-3.17-bioc/R/site-library/RcppEigen/include/Eigen/src/Geometry/Quaternion.h:242:7: required from ‘struct Eigen::internal::traits<Eigen::Quaternion<float> >’
/home/biocbuild/bbs-3.17-bioc/R/site-library/RcppEigen/include/Eigen/src/Geometry/arch/Geometry_SSE.h:24:46: required from here
/home/biocbuild/bbs-3.17-bioc/R/site-library/RcppEigen/include/Eigen/src/Core/util/XprHelper.h:187:44: warning: ignoring attributes on template argument ‘Eigen::internal::packet_traits<float>::type’ {aka ‘__vector(4) float’} [-Wignored-attributes]
187 | bool Stop = Size==Dynamic || (Size%unpacket_traits<PacketType>::size)==0 || is_same<PacketType,typename unpacket_traits<PacketType>::half>::value>
| ~~~~~^~~~~~~~~~~~~~~~~~~~~~~~~~~~~~~~~~~
/home/biocbuild/bbs-3.17-bioc/R/site-library/RcppEigen/include/Eigen/src/Core/util/XprHelper.h:187:83: warning: ignoring attributes on template argument ‘Eigen::internal::packet_traits<float>::type’ {aka ‘__vector(4) float’} [-Wignored-attributes]
187 | bool Stop = Size==Dynamic || (Size%unpacket_traits<PacketType>::size)==0 || is_same<PacketType,typename unpacket_traits<PacketType>::half>::value>
| ~~~~~~~~~~~~~~~~~~~~~~~~~~~~~~~~~~~~~~~~~~~~~~~~~~~~~~~~~~~~~^~~~~~~~~~~~~~~~~~~~~~~~~~~~~~~~~~~~~~~~~~~~~~~~~~~~~~~~~~~~~~~~~~~~~~~~
/home/biocbuild/bbs-3.17-bioc/R/site-library/RcppEigen/include/Eigen/src/Core/util/XprHelper.h:187:83: warning: ignoring attributes on template argument ‘Eigen::internal::packet_traits<float>::type’ {aka ‘__vector(4) float’} [-Wignored-attributes]
/home/biocbuild/bbs-3.17-bioc/R/site-library/RcppEigen/include/Eigen/src/Core/util/XprHelper.h:187:83: warning: ignoring attributes on template argument ‘Eigen::internal::unpacket_traits<__vector(4) float>::half’ {aka ‘__vector(4) float’} [-Wignored-attributes]
/home/biocbuild/bbs-3.17-bioc/R/site-library/RcppEigen/include/Eigen/src/Core/util/XprHelper.h:205:88: warning: ignoring attributes on template argument ‘Eigen::internal::packet_traits<float>::type’ {aka ‘__vector(4) float’} [-Wignored-attributes]
205 | typedef typename find_best_packet_helper<Size,typename packet_traits<T>::type>::type type;
| ^~~~
In file included from /home/biocbuild/bbs-3.17-bioc/R/site-library/RcppEigen/include/Eigen/Core:439,
from /home/biocbuild/bbs-3.17-bioc/R/site-library/RcppEigen/include/Eigen/Dense:1,
from /home/biocbuild/bbs-3.17-bioc/R/site-library/RcppEigen/include/RcppEigenForward.h:30,
from /home/biocbuild/bbs-3.17-bioc/R/site-library/RcppEigen/include/RcppEigen.h:25,
from MCMC_algorithm.cpp:3:
/home/biocbuild/bbs-3.17-bioc/R/site-library/RcppEigen/include/Eigen/src/Core/DenseCoeffsBase.h: In instantiation of ‘class Eigen::DenseCoeffsBase<Eigen::Matrix<float, 4, 1>, 0>’:
/home/biocbuild/bbs-3.17-bioc/R/site-library/RcppEigen/include/Eigen/src/Core/DenseCoeffsBase.h:300:7: required from ‘class Eigen::DenseCoeffsBase<Eigen::Matrix<float, 4, 1>, 1>’
/home/biocbuild/bbs-3.17-bioc/R/site-library/RcppEigen/include/Eigen/src/Core/DenseCoeffsBase.h:551:7: required from ‘class Eigen::DenseCoeffsBase<Eigen::Matrix<float, 4, 1>, 3>’
/home/biocbuild/bbs-3.17-bioc/R/site-library/RcppEigen/include/Eigen/src/Core/DenseBase.h:41:34: required from ‘class Eigen::DenseBase<Eigen::Matrix<float, 4, 1> >’
/home/biocbuild/bbs-3.17-bioc/R/site-library/RcppEigen/include/Eigen/src/Core/MatrixBase.h:48:34: required from ‘class Eigen::MatrixBase<Eigen::Matrix<float, 4, 1> >’
/home/biocbuild/bbs-3.17-bioc/R/site-library/RcppEigen/include/Eigen/src/Core/PlainObjectBase.h:98:7: required from ‘class Eigen::PlainObjectBase<Eigen::Matrix<float, 4, 1> >’
/home/biocbuild/bbs-3.17-bioc/R/site-library/RcppEigen/include/Eigen/src/Core/Matrix.h:178:7: required from ‘class Eigen::Matrix<float, 4, 1>’
/home/biocbuild/bbs-3.17-bioc/R/site-library/RcppEigen/include/Eigen/src/Geometry/Quaternion.h:46:50: required from ‘class Eigen::QuaternionBase<Eigen::Quaternion<float> >’
/home/biocbuild/bbs-3.17-bioc/R/site-library/RcppEigen/include/Eigen/src/Geometry/Quaternion.h:250:7: required from ‘class Eigen::Quaternion<float>’
/home/biocbuild/bbs-3.17-bioc/R/site-library/RcppEigen/include/Eigen/src/Geometry/arch/Geometry_SSE.h:27:3: required from here
/home/biocbuild/bbs-3.17-bioc/R/site-library/RcppEigen/include/Eigen/src/Core/DenseCoeffsBase.h:55:30: warning: ignoring attributes on template argument ‘Eigen::internal::packet_traits<float>::type’ {aka ‘__vector(4) float’} [-Wignored-attributes]
55 | >::type PacketReturnType;
| ^~~~~~~~~~~~~~~~
In file included from /home/biocbuild/bbs-3.17-bioc/R/site-library/RcppEigen/include/Eigen/Core:370,
from /home/biocbuild/bbs-3.17-bioc/R/site-library/RcppEigen/include/Eigen/Dense:1,
from /home/biocbuild/bbs-3.17-bioc/R/site-library/RcppEigen/include/RcppEigenForward.h:30,
from /home/biocbuild/bbs-3.17-bioc/R/site-library/RcppEigen/include/RcppEigen.h:25,
from MCMC_algorithm.cpp:3:
/home/biocbuild/bbs-3.17-bioc/R/site-library/RcppEigen/include/Eigen/src/Core/util/XprHelper.h: In instantiation of ‘struct Eigen::internal::find_best_packet<double, 4>’:
/home/biocbuild/bbs-3.17-bioc/R/site-library/RcppEigen/include/Eigen/src/Core/Matrix.h:22:57: required from ‘struct Eigen::internal::traits<Eigen::Matrix<double, 4, 1> >’
/home/biocbuild/bbs-3.17-bioc/R/site-library/RcppEigen/include/Eigen/src/Geometry/Quaternion.h:242:7: required from ‘struct Eigen::internal::traits<Eigen::Quaternion<double> >’
/home/biocbuild/bbs-3.17-bioc/R/site-library/RcppEigen/include/Eigen/src/Geometry/arch/Geometry_SSE.h:88:47: required from here
/home/biocbuild/bbs-3.17-bioc/R/site-library/RcppEigen/include/Eigen/src/Core/util/XprHelper.h:187:44: warning: ignoring attributes on template argument ‘Eigen::internal::packet_traits<double>::type’ {aka ‘__vector(2) double’} [-Wignored-attributes]
187 | bool Stop = Size==Dynamic || (Size%unpacket_traits<PacketType>::size)==0 || is_same<PacketType,typename unpacket_traits<PacketType>::half>::value>
| ~~~~~^~~~~~~~~~~~~~~~~~~~~~~~~~~~~~~~~~~
/home/biocbuild/bbs-3.17-bioc/R/site-library/RcppEigen/include/Eigen/src/Core/util/XprHelper.h:187:83: warning: ignoring attributes on template argument ‘Eigen::internal::packet_traits<double>::type’ {aka ‘__vector(2) double’} [-Wignored-attributes]
187 | bool Stop = Size==Dynamic || (Size%unpacket_traits<PacketType>::size)==0 || is_same<PacketType,typename unpacket_traits<PacketType>::half>::value>
| ~~~~~~~~~~~~~~~~~~~~~~~~~~~~~~~~~~~~~~~~~~~~~~~~~~~~~~~~~~~~~^~~~~~~~~~~~~~~~~~~~~~~~~~~~~~~~~~~~~~~~~~~~~~~~~~~~~~~~~~~~~~~~~~~~~~~~
/home/biocbuild/bbs-3.17-bioc/R/site-library/RcppEigen/include/Eigen/src/Core/util/XprHelper.h:187:83: warning: ignoring attributes on template argument ‘Eigen::internal::packet_traits<double>::type’ {aka ‘__vector(2) double’} [-Wignored-attributes]
/home/biocbuild/bbs-3.17-bioc/R/site-library/RcppEigen/include/Eigen/src/Core/util/XprHelper.h:187:83: warning: ignoring attributes on template argument ‘Eigen::internal::unpacket_traits<__vector(2) double>::half’ {aka ‘__vector(2) double’} [-Wignored-attributes]
/home/biocbuild/bbs-3.17-bioc/R/site-library/RcppEigen/include/Eigen/src/Core/util/XprHelper.h:205:88: warning: ignoring attributes on template argument ‘Eigen::internal::packet_traits<double>::type’ {aka ‘__vector(2) double’} [-Wignored-attributes]
205 | typedef typename find_best_packet_helper<Size,typename packet_traits<T>::type>::type type;
| ^~~~
In file included from /home/biocbuild/bbs-3.17-bioc/R/site-library/RcppEigen/include/Eigen/Core:439,
from /home/biocbuild/bbs-3.17-bioc/R/site-library/RcppEigen/include/Eigen/Dense:1,
from /home/biocbuild/bbs-3.17-bioc/R/site-library/RcppEigen/include/RcppEigenForward.h:30,
from /home/biocbuild/bbs-3.17-bioc/R/site-library/RcppEigen/include/RcppEigen.h:25,
from MCMC_algorithm.cpp:3:
/home/biocbuild/bbs-3.17-bioc/R/site-library/RcppEigen/include/Eigen/src/Core/DenseCoeffsBase.h: In instantiation of ‘class Eigen::DenseCoeffsBase<Eigen::Matrix<double, 4, 1>, 0>’:
/home/biocbuild/bbs-3.17-bioc/R/site-library/RcppEigen/include/Eigen/src/Core/DenseCoeffsBase.h:300:7: required from ‘class Eigen::DenseCoeffsBase<Eigen::Matrix<double, 4, 1>, 1>’
/home/biocbuild/bbs-3.17-bioc/R/site-library/RcppEigen/include/Eigen/src/Core/DenseCoeffsBase.h:551:7: required from ‘class Eigen::DenseCoeffsBase<Eigen::Matrix<double, 4, 1>, 3>’
/home/biocbuild/bbs-3.17-bioc/R/site-library/RcppEigen/include/Eigen/src/Core/DenseBase.h:41:34: required from ‘class Eigen::DenseBase<Eigen::Matrix<double, 4, 1> >’
/home/biocbuild/bbs-3.17-bioc/R/site-library/RcppEigen/include/Eigen/src/Core/MatrixBase.h:48:34: required from ‘class Eigen::MatrixBase<Eigen::Matrix<double, 4, 1> >’
/home/biocbuild/bbs-3.17-bioc/R/site-library/RcppEigen/include/Eigen/src/Core/PlainObjectBase.h:98:7: required from ‘class Eigen::PlainObjectBase<Eigen::Matrix<double, 4, 1> >’
/home/biocbuild/bbs-3.17-bioc/R/site-library/RcppEigen/include/Eigen/src/Core/Matrix.h:178:7: required from ‘class Eigen::Matrix<double, 4, 1>’
/home/biocbuild/bbs-3.17-bioc/R/site-library/RcppEigen/include/Eigen/src/Geometry/Quaternion.h:46:50: required from ‘class Eigen::QuaternionBase<Eigen::Quaternion<double> >’
/home/biocbuild/bbs-3.17-bioc/R/site-library/RcppEigen/include/Eigen/src/Geometry/Quaternion.h:250:7: required from ‘class Eigen::Quaternion<double>’
/home/biocbuild/bbs-3.17-bioc/R/site-library/RcppEigen/include/Eigen/src/Geometry/arch/Geometry_SSE.h:92:3: required from here
/home/biocbuild/bbs-3.17-bioc/R/site-library/RcppEigen/include/Eigen/src/Core/DenseCoeffsBase.h:55:30: warning: ignoring attributes on template argument ‘Eigen::internal::packet_traits<double>::type’ {aka ‘__vector(2) double’} [-Wignored-attributes]
55 | >::type PacketReturnType;
| ^~~~~~~~~~~~~~~~
In file included from /home/biocbuild/bbs-3.17-bioc/R/site-library/RcppEigen/include/Eigen/SparseCore:37,
from /home/biocbuild/bbs-3.17-bioc/R/site-library/RcppEigen/include/Eigen/Sparse:26,
from /home/biocbuild/bbs-3.17-bioc/R/site-library/RcppEigen/include/RcppEigenForward.h:31,
from /home/biocbuild/bbs-3.17-bioc/R/site-library/RcppEigen/include/RcppEigen.h:25,
from MCMC_algorithm.cpp:3:
/home/biocbuild/bbs-3.17-bioc/R/site-library/RcppEigen/include/Eigen/src/SparseCore/SparseMatrixBase.h: In instantiation of ‘class Eigen::SparseMatrixBase<Eigen::SparseMatrix<double, 0, int> >’:
/home/biocbuild/bbs-3.17-bioc/R/site-library/RcppEigen/include/Eigen/src/SparseCore/SparseCompressedBase.h:36:7: required from ‘class Eigen::SparseCompressedBase<Eigen::SparseMatrix<double, 0, int> >’
/home/biocbuild/bbs-3.17-bioc/R/site-library/RcppEigen/include/Eigen/src/SparseCore/SparseMatrix.h:96:7: required from ‘class Eigen::SparseMatrix<double, 0, int>’
/home/biocbuild/bbs-3.17-bioc/R/site-library/RcppEigen/include/unsupported/Eigen/src/IterativeSolvers/ConstrainedConjGrad.h:61:25: required from here
/home/biocbuild/bbs-3.17-bioc/R/site-library/RcppEigen/include/Eigen/src/SparseCore/SparseMatrixBase.h:47:30: warning: ignoring attributes on template argument ‘Eigen::internal::packet_traits<double>::type’ {aka ‘__vector(2) double’} [-Wignored-attributes]
47 | >::type PacketReturnType;
| ^~~~~~~~~~~~~~~~
In file included from /home/biocbuild/bbs-3.17-bioc/R/site-library/RcppEigen/include/Eigen/Core:370,
from /home/biocbuild/bbs-3.17-bioc/R/site-library/RcppEigen/include/Eigen/Dense:1,
from /home/biocbuild/bbs-3.17-bioc/R/site-library/RcppEigen/include/RcppEigenForward.h:30,
from /home/biocbuild/bbs-3.17-bioc/R/site-library/RcppEigen/include/RcppEigen.h:25,
from MCMC_algorithm.cpp:3:
/home/biocbuild/bbs-3.17-bioc/R/site-library/RcppEigen/include/Eigen/src/Core/util/XprHelper.h: In instantiation of ‘struct Eigen::internal::find_best_packet<int, -1>’:
/home/biocbuild/bbs-3.17-bioc/R/site-library/RcppEigen/include/Eigen/src/Core/Matrix.h:22:57: required from ‘struct Eigen::internal::traits<Eigen::Matrix<int, -1, 1> >’
/home/biocbuild/bbs-3.17-bioc/R/site-library/RcppEigen/include/Eigen/src/Core/PlainObjectBase.h:98:7: required from ‘class Eigen::PlainObjectBase<Eigen::Matrix<int, -1, 1> >’
/home/biocbuild/bbs-3.17-bioc/R/site-library/RcppEigen/include/Eigen/src/Core/Matrix.h:178:7: required from ‘class Eigen::Matrix<int, -1, 1>’
/home/biocbuild/bbs-3.17-bioc/R/site-library/RcppEigen/include/unsupported/Eigen/src/KroneckerProduct/KroneckerTensorProduct.h:168:29: required from here
/home/biocbuild/bbs-3.17-bioc/R/site-library/RcppEigen/include/Eigen/src/Core/util/XprHelper.h:187:44: warning: ignoring attributes on template argument ‘Eigen::internal::packet_traits<int>::type’ {aka ‘__vector(2) long long int’} [-Wignored-attributes]
187 | bool Stop = Size==Dynamic || (Size%unpacket_traits<PacketType>::size)==0 || is_same<PacketType,typename unpacket_traits<PacketType>::half>::value>
| ~~~~~^~~~~~~~~~~~~~~~~~~~~~~~~~~~~~~~~~~
/home/biocbuild/bbs-3.17-bioc/R/site-library/RcppEigen/include/Eigen/src/Core/util/XprHelper.h:187:83: warning: ignoring attributes on template argument ‘Eigen::internal::packet_traits<int>::type’ {aka ‘__vector(2) long long int’} [-Wignored-attributes]
187 | bool Stop = Size==Dynamic || (Size%unpacket_traits<PacketType>::size)==0 || is_same<PacketType,typename unpacket_traits<PacketType>::half>::value>
| ~~~~~~~~~~~~~~~~~~~~~~~~~~~~~~~~~~~~~~~~~~~~~~~~~~~~~~~~~~~~~^~~~~~~~~~~~~~~~~~~~~~~~~~~~~~~~~~~~~~~~~~~~~~~~~~~~~~~~~~~~~~~~~~~~~~~~
/home/biocbuild/bbs-3.17-bioc/R/site-library/RcppEigen/include/Eigen/src/Core/util/XprHelper.h:187:83: warning: ignoring attributes on template argument ‘Eigen::internal::packet_traits<int>::type’ {aka ‘__vector(2) long long int’} [-Wignored-attributes]
/home/biocbuild/bbs-3.17-bioc/R/site-library/RcppEigen/include/Eigen/src/Core/util/XprHelper.h:187:83: warning: ignoring attributes on template argument ‘Eigen::internal::unpacket_traits<__vector(2) long long int>::half’ {aka ‘__vector(2) long long int’} [-Wignored-attributes]
/home/biocbuild/bbs-3.17-bioc/R/site-library/RcppEigen/include/Eigen/src/Core/util/XprHelper.h:205:88: warning: ignoring attributes on template argument ‘Eigen::internal::packet_traits<int>::type’ {aka ‘__vector(2) long long int’} [-Wignored-attributes]
205 | typedef typename find_best_packet_helper<Size,typename packet_traits<T>::type>::type type;
| ^~~~
In file included from /home/biocbuild/bbs-3.17-bioc/R/site-library/RcppEigen/include/Eigen/Core:439,
from /home/biocbuild/bbs-3.17-bioc/R/site-library/RcppEigen/include/Eigen/Dense:1,
from /home/biocbuild/bbs-3.17-bioc/R/site-library/RcppEigen/include/RcppEigenForward.h:30,
from /home/biocbuild/bbs-3.17-bioc/R/site-library/RcppEigen/include/RcppEigen.h:25,
from MCMC_algorithm.cpp:3:
/home/biocbuild/bbs-3.17-bioc/R/site-library/RcppEigen/include/Eigen/src/Core/DenseCoeffsBase.h: In instantiation of ‘class Eigen::DenseCoeffsBase<Eigen::Matrix<int, -1, 1>, 0>’:
/home/biocbuild/bbs-3.17-bioc/R/site-library/RcppEigen/include/Eigen/src/Core/DenseCoeffsBase.h:300:7: required from ‘class Eigen::DenseCoeffsBase<Eigen::Matrix<int, -1, 1>, 1>’
/home/biocbuild/bbs-3.17-bioc/R/site-library/RcppEigen/include/Eigen/src/Core/DenseCoeffsBase.h:551:7: required from ‘class Eigen::DenseCoeffsBase<Eigen::Matrix<int, -1, 1>, 3>’
/home/biocbuild/bbs-3.17-bioc/R/site-library/RcppEigen/include/Eigen/src/Core/DenseBase.h:41:34: required from ‘class Eigen::DenseBase<Eigen::Matrix<int, -1, 1> >’
/home/biocbuild/bbs-3.17-bioc/R/site-library/RcppEigen/include/Eigen/src/Core/MatrixBase.h:48:34: required from ‘class Eigen::MatrixBase<Eigen::Matrix<int, -1, 1> >’
/home/biocbuild/bbs-3.17-bioc/R/site-library/RcppEigen/include/Eigen/src/Core/PlainObjectBase.h:98:7: required from ‘class Eigen::PlainObjectBase<Eigen::Matrix<int, -1, 1> >’
/home/biocbuild/bbs-3.17-bioc/R/site-library/RcppEigen/include/Eigen/src/Core/Matrix.h:178:7: required from ‘class Eigen::Matrix<int, -1, 1>’
/home/biocbuild/bbs-3.17-bioc/R/site-library/RcppEigen/include/unsupported/Eigen/src/KroneckerProduct/KroneckerTensorProduct.h:168:29: required from here
/home/biocbuild/bbs-3.17-bioc/R/site-library/RcppEigen/include/Eigen/src/Core/DenseCoeffsBase.h:55:30: warning: ignoring attributes on template argument ‘Eigen::internal::packet_traits<int>::type’ {aka ‘__vector(2) long long int’} [-Wignored-attributes]
55 | >::type PacketReturnType;
| ^~~~~~~~~~~~~~~~
/home/biocbuild/bbs-3.17-bioc/R/site-library/RcppEigen/include/Eigen/src/Core/DenseCoeffsBase.h: In instantiation of ‘class Eigen::DenseCoeffsBase<Eigen::Transpose<Eigen::Matrix<int, -1, 1> >, 0>’:
/home/biocbuild/bbs-3.17-bioc/R/site-library/RcppEigen/include/Eigen/src/Core/DenseCoeffsBase.h:300:7: required from ‘class Eigen::DenseCoeffsBase<Eigen::Transpose<Eigen::Matrix<int, -1, 1> >, 1>’
/home/biocbuild/bbs-3.17-bioc/R/site-library/RcppEigen/include/Eigen/src/Core/DenseCoeffsBase.h:551:7: required from ‘class Eigen::DenseCoeffsBase<Eigen::Transpose<Eigen::Matrix<int, -1, 1> >, 3>’
/home/biocbuild/bbs-3.17-bioc/R/site-library/RcppEigen/include/Eigen/src/Core/DenseBase.h:41:34: required from ‘class Eigen::DenseBase<Eigen::Transpose<Eigen::Matrix<int, -1, 1> > >’
/home/biocbuild/bbs-3.17-bioc/R/site-library/RcppEigen/include/Eigen/src/Core/MatrixBase.h:48:34: required from ‘class Eigen::MatrixBase<Eigen::Transpose<Eigen::Matrix<int, -1, 1> > >’
/home/biocbuild/bbs-3.17-bioc/R/site-library/RcppEigen/include/Eigen/src/Core/Transpose.h:115:37: required from ‘class Eigen::TransposeImpl<Eigen::Matrix<int, -1, 1>, Eigen::Dense>’
/home/biocbuild/bbs-3.17-bioc/R/site-library/RcppEigen/include/Eigen/src/Core/Transpose.h:52:37: required from ‘class Eigen::Transpose<Eigen::Matrix<int, -1, 1> >’
/home/biocbuild/bbs-3.17-bioc/R/site-library/RcppEigen/include/unsupported/Eigen/src/KroneckerProduct/KroneckerTensorProduct.h:178:72: required from here
/home/biocbuild/bbs-3.17-bioc/R/site-library/RcppEigen/include/Eigen/src/Core/DenseCoeffsBase.h:55:30: warning: ignoring attributes on template argument ‘Eigen::internal::packet_traits<int>::type’ {aka ‘__vector(2) long long int’} [-Wignored-attributes]
/home/biocbuild/bbs-3.17-bioc/R/site-library/RcppEigen/include/Eigen/src/Core/DenseCoeffsBase.h: In instantiation of ‘class Eigen::DenseCoeffsBase<Eigen::Matrix<int, -1, -1>, 0>’:
/home/biocbuild/bbs-3.17-bioc/R/site-library/RcppEigen/include/Eigen/src/Core/DenseCoeffsBase.h:300:7: required from ‘class Eigen::DenseCoeffsBase<Eigen::Matrix<int, -1, -1>, 1>’
/home/biocbuild/bbs-3.17-bioc/R/site-library/RcppEigen/include/Eigen/src/Core/DenseCoeffsBase.h:551:7: required from ‘class Eigen::DenseCoeffsBase<Eigen::Matrix<int, -1, -1>, 3>’
/home/biocbuild/bbs-3.17-bioc/R/site-library/RcppEigen/include/Eigen/src/Core/DenseBase.h:41:34: required from ‘class Eigen::DenseBase<Eigen::Matrix<int, -1, -1> >’
/home/biocbuild/bbs-3.17-bioc/R/site-library/RcppEigen/include/Eigen/src/Core/MatrixBase.h:48:34: required from ‘class Eigen::MatrixBase<Eigen::Matrix<int, -1, -1> >’
/home/biocbuild/bbs-3.17-bioc/R/site-library/RcppEigen/include/Eigen/src/Core/PlainObjectBase.h:98:7: required from ‘class Eigen::PlainObjectBase<Eigen::Matrix<int, -1, -1> >’
/home/biocbuild/bbs-3.17-bioc/R/site-library/RcppEigen/include/Eigen/src/Core/Matrix.h:178:7: required from ‘class Eigen::Matrix<int, -1, -1>’
/home/biocbuild/bbs-3.17-bioc/R/site-library/RcppEigen/include/unsupported/Eigen/src/KroneckerProduct/KroneckerTensorProduct.h:179:36: required from here
/home/biocbuild/bbs-3.17-bioc/R/site-library/RcppEigen/include/Eigen/src/Core/DenseCoeffsBase.h:55:30: warning: ignoring attributes on template argument ‘Eigen::internal::packet_traits<int>::type’ {aka ‘__vector(2) long long int’} [-Wignored-attributes]
g++ -std=gnu++11 -I"/home/biocbuild/bbs-3.17-bioc/R/include" -DNDEBUG -I'/home/biocbuild/bbs-3.17-bioc/R/site-library/Rcpp/include' -I'/home/biocbuild/bbs-3.17-bioc/R/site-library/RcppArmadillo/include' -I'/home/biocbuild/bbs-3.17-bioc/R/site-library/RcppEigen/include' -I/usr/local/include -DARMA_DONT_USE_OPENMP -fpic -g -O2 -Wall -c RcppExports.cpp -o RcppExports.o
In file included from /home/biocbuild/bbs-3.17-bioc/R/site-library/RcppEigen/include/Eigen/Core:397,
from /home/biocbuild/bbs-3.17-bioc/R/site-library/RcppEigen/include/Eigen/Dense:1,
from /home/biocbuild/bbs-3.17-bioc/R/site-library/RcppEigen/include/RcppEigenForward.h:30,
from /home/biocbuild/bbs-3.17-bioc/R/site-library/RcppEigen/include/RcppEigen.h:25,
from RcppExports.cpp:5:
/home/biocbuild/bbs-3.17-bioc/R/site-library/RcppEigen/include/Eigen/src/Core/arch/SSE/PacketMath.h:60:39: warning: ignoring attributes on template argument ‘__m128’ {aka ‘__vector(4) float’} [-Wignored-attributes]
60 | template<> struct is_arithmetic<__m128> { enum { value = true }; };
| ^
/home/biocbuild/bbs-3.17-bioc/R/site-library/RcppEigen/include/Eigen/src/Core/arch/SSE/PacketMath.h:61:40: warning: ignoring attributes on template argument ‘__m128i’ {aka ‘__vector(2) long long int’} [-Wignored-attributes]
61 | template<> struct is_arithmetic<__m128i> { enum { value = true }; };
| ^
/home/biocbuild/bbs-3.17-bioc/R/site-library/RcppEigen/include/Eigen/src/Core/arch/SSE/PacketMath.h:62:40: warning: ignoring attributes on template argument ‘__m128d’ {aka ‘__vector(2) double’} [-Wignored-attributes]
62 | template<> struct is_arithmetic<__m128d> { enum { value = true }; };
| ^
/home/biocbuild/bbs-3.17-bioc/R/site-library/RcppEigen/include/Eigen/src/Core/arch/SSE/PacketMath.h:161:43: warning: ignoring attributes on template argument ‘Eigen::internal::Packet4f’ {aka ‘__vector(4) float’} [-Wignored-attributes]
161 | template<> struct unpacket_traits<Packet4f> { typedef float type; enum {size=4, alignment=Aligned16}; typedef Packet4f half; };
| ^
/home/biocbuild/bbs-3.17-bioc/R/site-library/RcppEigen/include/Eigen/src/Core/arch/SSE/PacketMath.h:162:43: warning: ignoring attributes on template argument ‘Eigen::internal::Packet2d’ {aka ‘__vector(2) double’} [-Wignored-attributes]
162 | template<> struct unpacket_traits<Packet2d> { typedef double type; enum {size=2, alignment=Aligned16}; typedef Packet2d half; };
| ^
/home/biocbuild/bbs-3.17-bioc/R/site-library/RcppEigen/include/Eigen/src/Core/arch/SSE/PacketMath.h:163:43: warning: ignoring attributes on template argument ‘Eigen::internal::Packet4i’ {aka ‘__vector(2) long long int’} [-Wignored-attributes]
163 | template<> struct unpacket_traits<Packet4i> { typedef int type; enum {size=4, alignment=Aligned16}; typedef Packet4i half; };
| ^
/home/biocbuild/bbs-3.17-bioc/R/site-library/RcppEigen/include/Eigen/src/Core/arch/SSE/PacketMath.h:718:35: warning: ignoring attributes on template argument ‘Eigen::internal::Packet4f’ {aka ‘__vector(4) float’} [-Wignored-attributes]
718 | struct palign_impl<Offset,Packet4f>
| ^
/home/biocbuild/bbs-3.17-bioc/R/site-library/RcppEigen/include/Eigen/src/Core/arch/SSE/PacketMath.h:741:35: warning: ignoring attributes on template argument ‘Eigen::internal::Packet4i’ {aka ‘__vector(2) long long int’} [-Wignored-attributes]
741 | struct palign_impl<Offset,Packet4i>
| ^
/home/biocbuild/bbs-3.17-bioc/R/site-library/RcppEigen/include/Eigen/src/Core/arch/SSE/PacketMath.h:764:35: warning: ignoring attributes on template argument ‘Eigen::internal::Packet2d’ {aka ‘__vector(2) double’} [-Wignored-attributes]
764 | struct palign_impl<Offset,Packet2d>
| ^
/home/biocbuild/bbs-3.17-bioc/R/site-library/RcppEigen/include/Eigen/src/Core/arch/SSE/PacketMath.h:778:34: warning: ignoring attributes on template argument ‘Eigen::internal::Packet4f’ {aka ‘__vector(4) float’} [-Wignored-attributes]
778 | ptranspose(PacketBlock<Packet4f,4>& kernel) {
| ^
/home/biocbuild/bbs-3.17-bioc/R/site-library/RcppEigen/include/Eigen/src/Core/arch/SSE/PacketMath.h:783:34: warning: ignoring attributes on template argument ‘Eigen::internal::Packet2d’ {aka ‘__vector(2) double’} [-Wignored-attributes]
783 | ptranspose(PacketBlock<Packet2d,2>& kernel) {
| ^
/home/biocbuild/bbs-3.17-bioc/R/site-library/RcppEigen/include/Eigen/src/Core/arch/SSE/PacketMath.h:790:34: warning: ignoring attributes on template argument ‘Eigen::internal::Packet4i’ {aka ‘__vector(2) long long int’} [-Wignored-attributes]
790 | ptranspose(PacketBlock<Packet4i,4>& kernel) {
| ^
In file included from /home/biocbuild/bbs-3.17-bioc/R/site-library/RcppEigen/include/Eigen/Core:377,
from /home/biocbuild/bbs-3.17-bioc/R/site-library/RcppEigen/include/Eigen/Dense:1,
from /home/biocbuild/bbs-3.17-bioc/R/site-library/RcppEigen/include/RcppEigenForward.h:30,
from /home/biocbuild/bbs-3.17-bioc/R/site-library/RcppEigen/include/RcppEigen.h:25,
from RcppExports.cpp:5:
/home/biocbuild/bbs-3.17-bioc/R/site-library/RcppEigen/include/Eigen/src/Core/arch/Default/ConjHelper.h:15:70: warning: ignoring attributes on template argument ‘Eigen::internal::Packet4f’ {aka ‘__vector(4) float’} [-Wignored-attributes]
15 | template<> struct conj_helper<PACKET_REAL, PACKET_CPLX, false,false> { \
| ^
/home/biocbuild/bbs-3.17-bioc/R/site-library/RcppEigen/include/Eigen/src/Core/arch/SSE/Complex.h:232:1: note: in expansion of macro ‘EIGEN_MAKE_CONJ_HELPER_CPLX_REAL’
232 | EIGEN_MAKE_CONJ_HELPER_CPLX_REAL(Packet2cf,Packet4f)
| ^~~~~~~~~~~~~~~~~~~~~~~~~~~~~~~~
/home/biocbuild/bbs-3.17-bioc/R/site-library/RcppEigen/include/Eigen/src/Core/arch/Default/ConjHelper.h:22:70: warning: ignoring attributes on template argument ‘Eigen::internal::Packet4f’ {aka ‘__vector(4) float’} [-Wignored-attributes]
22 | template<> struct conj_helper<PACKET_CPLX, PACKET_REAL, false,false> { \
| ^
/home/biocbuild/bbs-3.17-bioc/R/site-library/RcppEigen/include/Eigen/src/Core/arch/SSE/Complex.h:232:1: note: in expansion of macro ‘EIGEN_MAKE_CONJ_HELPER_CPLX_REAL’
232 | EIGEN_MAKE_CONJ_HELPER_CPLX_REAL(Packet2cf,Packet4f)
| ^~~~~~~~~~~~~~~~~~~~~~~~~~~~~~~~
/home/biocbuild/bbs-3.17-bioc/R/site-library/RcppEigen/include/Eigen/src/Core/arch/Default/ConjHelper.h:15:70: warning: ignoring attributes on template argument ‘Eigen::internal::Packet2d’ {aka ‘__vector(2) double’} [-Wignored-attributes]
15 | template<> struct conj_helper<PACKET_REAL, PACKET_CPLX, false,false> { \
| ^
/home/biocbuild/bbs-3.17-bioc/R/site-library/RcppEigen/include/Eigen/src/Core/arch/SSE/Complex.h:417:1: note: in expansion of macro ‘EIGEN_MAKE_CONJ_HELPER_CPLX_REAL’
417 | EIGEN_MAKE_CONJ_HELPER_CPLX_REAL(Packet1cd,Packet2d)
| ^~~~~~~~~~~~~~~~~~~~~~~~~~~~~~~~
/home/biocbuild/bbs-3.17-bioc/R/site-library/RcppEigen/include/Eigen/src/Core/arch/Default/ConjHelper.h:22:70: warning: ignoring attributes on template argument ‘Eigen::internal::Packet2d’ {aka ‘__vector(2) double’} [-Wignored-attributes]
22 | template<> struct conj_helper<PACKET_CPLX, PACKET_REAL, false,false> { \
| ^
/home/biocbuild/bbs-3.17-bioc/R/site-library/RcppEigen/include/Eigen/src/Core/arch/SSE/Complex.h:417:1: note: in expansion of macro ‘EIGEN_MAKE_CONJ_HELPER_CPLX_REAL’
417 | EIGEN_MAKE_CONJ_HELPER_CPLX_REAL(Packet1cd,Packet2d)
| ^~~~~~~~~~~~~~~~~~~~~~~~~~~~~~~~
In file included from /home/biocbuild/bbs-3.17-bioc/R/site-library/RcppEigen/include/Eigen/Core:370,
from /home/biocbuild/bbs-3.17-bioc/R/site-library/RcppEigen/include/Eigen/Dense:1,
from /home/biocbuild/bbs-3.17-bioc/R/site-library/RcppEigen/include/RcppEigenForward.h:30,
from /home/biocbuild/bbs-3.17-bioc/R/site-library/RcppEigen/include/RcppEigen.h:25,
from RcppExports.cpp:5:
/home/biocbuild/bbs-3.17-bioc/R/site-library/RcppEigen/include/Eigen/src/Core/util/XprHelper.h: In instantiation of ‘struct Eigen::internal::find_best_packet<float, 4>’:
/home/biocbuild/bbs-3.17-bioc/R/site-library/RcppEigen/include/Eigen/src/Core/Matrix.h:22:57: required from ‘struct Eigen::internal::traits<Eigen::Matrix<float, 4, 1> >’
/home/biocbuild/bbs-3.17-bioc/R/site-library/RcppEigen/include/Eigen/src/Geometry/Quaternion.h:242:7: required from ‘struct Eigen::internal::traits<Eigen::Quaternion<float> >’
/home/biocbuild/bbs-3.17-bioc/R/site-library/RcppEigen/include/Eigen/src/Geometry/arch/Geometry_SSE.h:24:46: required from here
/home/biocbuild/bbs-3.17-bioc/R/site-library/RcppEigen/include/Eigen/src/Core/util/XprHelper.h:187:44: warning: ignoring attributes on template argument ‘Eigen::internal::packet_traits<float>::type’ {aka ‘__vector(4) float’} [-Wignored-attributes]
187 | bool Stop = Size==Dynamic || (Size%unpacket_traits<PacketType>::size)==0 || is_same<PacketType,typename unpacket_traits<PacketType>::half>::value>
| ~~~~~^~~~~~~~~~~~~~~~~~~~~~~~~~~~~~~~~~~
/home/biocbuild/bbs-3.17-bioc/R/site-library/RcppEigen/include/Eigen/src/Core/util/XprHelper.h:187:83: warning: ignoring attributes on template argument ‘Eigen::internal::packet_traits<float>::type’ {aka ‘__vector(4) float’} [-Wignored-attributes]
187 | bool Stop = Size==Dynamic || (Size%unpacket_traits<PacketType>::size)==0 || is_same<PacketType,typename unpacket_traits<PacketType>::half>::value>
| ~~~~~~~~~~~~~~~~~~~~~~~~~~~~~~~~~~~~~~~~~~~~~~~~~~~~~~~~~~~~~^~~~~~~~~~~~~~~~~~~~~~~~~~~~~~~~~~~~~~~~~~~~~~~~~~~~~~~~~~~~~~~~~~~~~~~~
/home/biocbuild/bbs-3.17-bioc/R/site-library/RcppEigen/include/Eigen/src/Core/util/XprHelper.h:187:83: warning: ignoring attributes on template argument ‘Eigen::internal::packet_traits<float>::type’ {aka ‘__vector(4) float’} [-Wignored-attributes]
/home/biocbuild/bbs-3.17-bioc/R/site-library/RcppEigen/include/Eigen/src/Core/util/XprHelper.h:187:83: warning: ignoring attributes on template argument ‘Eigen::internal::unpacket_traits<__vector(4) float>::half’ {aka ‘__vector(4) float’} [-Wignored-attributes]
/home/biocbuild/bbs-3.17-bioc/R/site-library/RcppEigen/include/Eigen/src/Core/util/XprHelper.h:205:88: warning: ignoring attributes on template argument ‘Eigen::internal::packet_traits<float>::type’ {aka ‘__vector(4) float’} [-Wignored-attributes]
205 | typedef typename find_best_packet_helper<Size,typename packet_traits<T>::type>::type type;
| ^~~~
In file included from /home/biocbuild/bbs-3.17-bioc/R/site-library/RcppEigen/include/Eigen/Core:439,
from /home/biocbuild/bbs-3.17-bioc/R/site-library/RcppEigen/include/Eigen/Dense:1,
from /home/biocbuild/bbs-3.17-bioc/R/site-library/RcppEigen/include/RcppEigenForward.h:30,
from /home/biocbuild/bbs-3.17-bioc/R/site-library/RcppEigen/include/RcppEigen.h:25,
from RcppExports.cpp:5:
/home/biocbuild/bbs-3.17-bioc/R/site-library/RcppEigen/include/Eigen/src/Core/DenseCoeffsBase.h: In instantiation of ‘class Eigen::DenseCoeffsBase<Eigen::Matrix<float, 4, 1>, 0>’:
/home/biocbuild/bbs-3.17-bioc/R/site-library/RcppEigen/include/Eigen/src/Core/DenseCoeffsBase.h:300:7: required from ‘class Eigen::DenseCoeffsBase<Eigen::Matrix<float, 4, 1>, 1>’
/home/biocbuild/bbs-3.17-bioc/R/site-library/RcppEigen/include/Eigen/src/Core/DenseCoeffsBase.h:551:7: required from ‘class Eigen::DenseCoeffsBase<Eigen::Matrix<float, 4, 1>, 3>’
/home/biocbuild/bbs-3.17-bioc/R/site-library/RcppEigen/include/Eigen/src/Core/DenseBase.h:41:34: required from ‘class Eigen::DenseBase<Eigen::Matrix<float, 4, 1> >’
/home/biocbuild/bbs-3.17-bioc/R/site-library/RcppEigen/include/Eigen/src/Core/MatrixBase.h:48:34: required from ‘class Eigen::MatrixBase<Eigen::Matrix<float, 4, 1> >’
/home/biocbuild/bbs-3.17-bioc/R/site-library/RcppEigen/include/Eigen/src/Core/PlainObjectBase.h:98:7: required from ‘class Eigen::PlainObjectBase<Eigen::Matrix<float, 4, 1> >’
/home/biocbuild/bbs-3.17-bioc/R/site-library/RcppEigen/include/Eigen/src/Core/Matrix.h:178:7: required from ‘class Eigen::Matrix<float, 4, 1>’
/home/biocbuild/bbs-3.17-bioc/R/site-library/RcppEigen/include/Eigen/src/Geometry/Quaternion.h:46:50: required from ‘class Eigen::QuaternionBase<Eigen::Quaternion<float> >’
/home/biocbuild/bbs-3.17-bioc/R/site-library/RcppEigen/include/Eigen/src/Geometry/Quaternion.h:250:7: required from ‘class Eigen::Quaternion<float>’
/home/biocbuild/bbs-3.17-bioc/R/site-library/RcppEigen/include/Eigen/src/Geometry/arch/Geometry_SSE.h:27:3: required from here
/home/biocbuild/bbs-3.17-bioc/R/site-library/RcppEigen/include/Eigen/src/Core/DenseCoeffsBase.h:55:30: warning: ignoring attributes on template argument ‘Eigen::internal::packet_traits<float>::type’ {aka ‘__vector(4) float’} [-Wignored-attributes]
55 | >::type PacketReturnType;
| ^~~~~~~~~~~~~~~~
In file included from /home/biocbuild/bbs-3.17-bioc/R/site-library/RcppEigen/include/Eigen/Core:370,
from /home/biocbuild/bbs-3.17-bioc/R/site-library/RcppEigen/include/Eigen/Dense:1,
from /home/biocbuild/bbs-3.17-bioc/R/site-library/RcppEigen/include/RcppEigenForward.h:30,
from /home/biocbuild/bbs-3.17-bioc/R/site-library/RcppEigen/include/RcppEigen.h:25,
from RcppExports.cpp:5:
/home/biocbuild/bbs-3.17-bioc/R/site-library/RcppEigen/include/Eigen/src/Core/util/XprHelper.h: In instantiation of ‘struct Eigen::internal::find_best_packet<double, 4>’:
/home/biocbuild/bbs-3.17-bioc/R/site-library/RcppEigen/include/Eigen/src/Core/Matrix.h:22:57: required from ‘struct Eigen::internal::traits<Eigen::Matrix<double, 4, 1> >’
/home/biocbuild/bbs-3.17-bioc/R/site-library/RcppEigen/include/Eigen/src/Geometry/Quaternion.h:242:7: required from ‘struct Eigen::internal::traits<Eigen::Quaternion<double> >’
/home/biocbuild/bbs-3.17-bioc/R/site-library/RcppEigen/include/Eigen/src/Geometry/arch/Geometry_SSE.h:88:47: required from here
/home/biocbuild/bbs-3.17-bioc/R/site-library/RcppEigen/include/Eigen/src/Core/util/XprHelper.h:187:44: warning: ignoring attributes on template argument ‘Eigen::internal::packet_traits<double>::type’ {aka ‘__vector(2) double’} [-Wignored-attributes]
187 | bool Stop = Size==Dynamic || (Size%unpacket_traits<PacketType>::size)==0 || is_same<PacketType,typename unpacket_traits<PacketType>::half>::value>
| ~~~~~^~~~~~~~~~~~~~~~~~~~~~~~~~~~~~~~~~~
/home/biocbuild/bbs-3.17-bioc/R/site-library/RcppEigen/include/Eigen/src/Core/util/XprHelper.h:187:83: warning: ignoring attributes on template argument ‘Eigen::internal::packet_traits<double>::type’ {aka ‘__vector(2) double’} [-Wignored-attributes]
187 | bool Stop = Size==Dynamic || (Size%unpacket_traits<PacketType>::size)==0 || is_same<PacketType,typename unpacket_traits<PacketType>::half>::value>
| ~~~~~~~~~~~~~~~~~~~~~~~~~~~~~~~~~~~~~~~~~~~~~~~~~~~~~~~~~~~~~^~~~~~~~~~~~~~~~~~~~~~~~~~~~~~~~~~~~~~~~~~~~~~~~~~~~~~~~~~~~~~~~~~~~~~~~
/home/biocbuild/bbs-3.17-bioc/R/site-library/RcppEigen/include/Eigen/src/Core/util/XprHelper.h:187:83: warning: ignoring attributes on template argument ‘Eigen::internal::packet_traits<double>::type’ {aka ‘__vector(2) double’} [-Wignored-attributes]
/home/biocbuild/bbs-3.17-bioc/R/site-library/RcppEigen/include/Eigen/src/Core/util/XprHelper.h:187:83: warning: ignoring attributes on template argument ‘Eigen::internal::unpacket_traits<__vector(2) double>::half’ {aka ‘__vector(2) double’} [-Wignored-attributes]
/home/biocbuild/bbs-3.17-bioc/R/site-library/RcppEigen/include/Eigen/src/Core/util/XprHelper.h:205:88: warning: ignoring attributes on template argument ‘Eigen::internal::packet_traits<double>::type’ {aka ‘__vector(2) double’} [-Wignored-attributes]
205 | typedef typename find_best_packet_helper<Size,typename packet_traits<T>::type>::type type;
| ^~~~
In file included from /home/biocbuild/bbs-3.17-bioc/R/site-library/RcppEigen/include/Eigen/Core:439,
from /home/biocbuild/bbs-3.17-bioc/R/site-library/RcppEigen/include/Eigen/Dense:1,
from /home/biocbuild/bbs-3.17-bioc/R/site-library/RcppEigen/include/RcppEigenForward.h:30,
from /home/biocbuild/bbs-3.17-bioc/R/site-library/RcppEigen/include/RcppEigen.h:25,
from RcppExports.cpp:5:
/home/biocbuild/bbs-3.17-bioc/R/site-library/RcppEigen/include/Eigen/src/Core/DenseCoeffsBase.h: In instantiation of ‘class Eigen::DenseCoeffsBase<Eigen::Matrix<double, 4, 1>, 0>’:
/home/biocbuild/bbs-3.17-bioc/R/site-library/RcppEigen/include/Eigen/src/Core/DenseCoeffsBase.h:300:7: required from ‘class Eigen::DenseCoeffsBase<Eigen::Matrix<double, 4, 1>, 1>’
/home/biocbuild/bbs-3.17-bioc/R/site-library/RcppEigen/include/Eigen/src/Core/DenseCoeffsBase.h:551:7: required from ‘class Eigen::DenseCoeffsBase<Eigen::Matrix<double, 4, 1>, 3>’
/home/biocbuild/bbs-3.17-bioc/R/site-library/RcppEigen/include/Eigen/src/Core/DenseBase.h:41:34: required from ‘class Eigen::DenseBase<Eigen::Matrix<double, 4, 1> >’
/home/biocbuild/bbs-3.17-bioc/R/site-library/RcppEigen/include/Eigen/src/Core/MatrixBase.h:48:34: required from ‘class Eigen::MatrixBase<Eigen::Matrix<double, 4, 1> >’
/home/biocbuild/bbs-3.17-bioc/R/site-library/RcppEigen/include/Eigen/src/Core/PlainObjectBase.h:98:7: required from ‘class Eigen::PlainObjectBase<Eigen::Matrix<double, 4, 1> >’
/home/biocbuild/bbs-3.17-bioc/R/site-library/RcppEigen/include/Eigen/src/Core/Matrix.h:178:7: required from ‘class Eigen::Matrix<double, 4, 1>’
/home/biocbuild/bbs-3.17-bioc/R/site-library/RcppEigen/include/Eigen/src/Geometry/Quaternion.h:46:50: required from ‘class Eigen::QuaternionBase<Eigen::Quaternion<double> >’
/home/biocbuild/bbs-3.17-bioc/R/site-library/RcppEigen/include/Eigen/src/Geometry/Quaternion.h:250:7: required from ‘class Eigen::Quaternion<double>’
/home/biocbuild/bbs-3.17-bioc/R/site-library/RcppEigen/include/Eigen/src/Geometry/arch/Geometry_SSE.h:92:3: required from here
/home/biocbuild/bbs-3.17-bioc/R/site-library/RcppEigen/include/Eigen/src/Core/DenseCoeffsBase.h:55:30: warning: ignoring attributes on template argument ‘Eigen::internal::packet_traits<double>::type’ {aka ‘__vector(2) double’} [-Wignored-attributes]
55 | >::type PacketReturnType;
| ^~~~~~~~~~~~~~~~
In file included from /home/biocbuild/bbs-3.17-bioc/R/site-library/RcppEigen/include/Eigen/SparseCore:37,
from /home/biocbuild/bbs-3.17-bioc/R/site-library/RcppEigen/include/Eigen/Sparse:26,
from /home/biocbuild/bbs-3.17-bioc/R/site-library/RcppEigen/include/RcppEigenForward.h:31,
from /home/biocbuild/bbs-3.17-bioc/R/site-library/RcppEigen/include/RcppEigen.h:25,
from RcppExports.cpp:5:
/home/biocbuild/bbs-3.17-bioc/R/site-library/RcppEigen/include/Eigen/src/SparseCore/SparseMatrixBase.h: In instantiation of ‘class Eigen::SparseMatrixBase<Eigen::SparseMatrix<double, 0, int> >’:
/home/biocbuild/bbs-3.17-bioc/R/site-library/RcppEigen/include/Eigen/src/SparseCore/SparseCompressedBase.h:36:7: required from ‘class Eigen::SparseCompressedBase<Eigen::SparseMatrix<double, 0, int> >’
/home/biocbuild/bbs-3.17-bioc/R/site-library/RcppEigen/include/Eigen/src/SparseCore/SparseMatrix.h:96:7: required from ‘class Eigen::SparseMatrix<double, 0, int>’
/home/biocbuild/bbs-3.17-bioc/R/site-library/RcppEigen/include/unsupported/Eigen/src/IterativeSolvers/ConstrainedConjGrad.h:61:25: required from here
/home/biocbuild/bbs-3.17-bioc/R/site-library/RcppEigen/include/Eigen/src/SparseCore/SparseMatrixBase.h:47:30: warning: ignoring attributes on template argument ‘Eigen::internal::packet_traits<double>::type’ {aka ‘__vector(2) double’} [-Wignored-attributes]
47 | >::type PacketReturnType;
| ^~~~~~~~~~~~~~~~
In file included from /home/biocbuild/bbs-3.17-bioc/R/site-library/RcppEigen/include/Eigen/Core:370,
from /home/biocbuild/bbs-3.17-bioc/R/site-library/RcppEigen/include/Eigen/Dense:1,
from /home/biocbuild/bbs-3.17-bioc/R/site-library/RcppEigen/include/RcppEigenForward.h:30,
from /home/biocbuild/bbs-3.17-bioc/R/site-library/RcppEigen/include/RcppEigen.h:25,
from RcppExports.cpp:5:
/home/biocbuild/bbs-3.17-bioc/R/site-library/RcppEigen/include/Eigen/src/Core/util/XprHelper.h: In instantiation of ‘struct Eigen::internal::find_best_packet<int, -1>’:
/home/biocbuild/bbs-3.17-bioc/R/site-library/RcppEigen/include/Eigen/src/Core/Matrix.h:22:57: required from ‘struct Eigen::internal::traits<Eigen::Matrix<int, -1, 1> >’
/home/biocbuild/bbs-3.17-bioc/R/site-library/RcppEigen/include/Eigen/src/Core/PlainObjectBase.h:98:7: required from ‘class Eigen::PlainObjectBase<Eigen::Matrix<int, -1, 1> >’
/home/biocbuild/bbs-3.17-bioc/R/site-library/RcppEigen/include/Eigen/src/Core/Matrix.h:178:7: required from ‘class Eigen::Matrix<int, -1, 1>’
/home/biocbuild/bbs-3.17-bioc/R/site-library/RcppEigen/include/unsupported/Eigen/src/KroneckerProduct/KroneckerTensorProduct.h:168:29: required from here
/home/biocbuild/bbs-3.17-bioc/R/site-library/RcppEigen/include/Eigen/src/Core/util/XprHelper.h:187:44: warning: ignoring attributes on template argument ‘Eigen::internal::packet_traits<int>::type’ {aka ‘__vector(2) long long int’} [-Wignored-attributes]
187 | bool Stop = Size==Dynamic || (Size%unpacket_traits<PacketType>::size)==0 || is_same<PacketType,typename unpacket_traits<PacketType>::half>::value>
| ~~~~~^~~~~~~~~~~~~~~~~~~~~~~~~~~~~~~~~~~
/home/biocbuild/bbs-3.17-bioc/R/site-library/RcppEigen/include/Eigen/src/Core/util/XprHelper.h:187:83: warning: ignoring attributes on template argument ‘Eigen::internal::packet_traits<int>::type’ {aka ‘__vector(2) long long int’} [-Wignored-attributes]
187 | bool Stop = Size==Dynamic || (Size%unpacket_traits<PacketType>::size)==0 || is_same<PacketType,typename unpacket_traits<PacketType>::half>::value>
| ~~~~~~~~~~~~~~~~~~~~~~~~~~~~~~~~~~~~~~~~~~~~~~~~~~~~~~~~~~~~~^~~~~~~~~~~~~~~~~~~~~~~~~~~~~~~~~~~~~~~~~~~~~~~~~~~~~~~~~~~~~~~~~~~~~~~~
/home/biocbuild/bbs-3.17-bioc/R/site-library/RcppEigen/include/Eigen/src/Core/util/XprHelper.h:187:83: warning: ignoring attributes on template argument ‘Eigen::internal::packet_traits<int>::type’ {aka ‘__vector(2) long long int’} [-Wignored-attributes]
/home/biocbuild/bbs-3.17-bioc/R/site-library/RcppEigen/include/Eigen/src/Core/util/XprHelper.h:187:83: warning: ignoring attributes on template argument ‘Eigen::internal::unpacket_traits<__vector(2) long long int>::half’ {aka ‘__vector(2) long long int’} [-Wignored-attributes]
/home/biocbuild/bbs-3.17-bioc/R/site-library/RcppEigen/include/Eigen/src/Core/util/XprHelper.h:205:88: warning: ignoring attributes on template argument ‘Eigen::internal::packet_traits<int>::type’ {aka ‘__vector(2) long long int’} [-Wignored-attributes]
205 | typedef typename find_best_packet_helper<Size,typename packet_traits<T>::type>::type type;
| ^~~~
In file included from /home/biocbuild/bbs-3.17-bioc/R/site-library/RcppEigen/include/Eigen/Core:439,
from /home/biocbuild/bbs-3.17-bioc/R/site-library/RcppEigen/include/Eigen/Dense:1,
from /home/biocbuild/bbs-3.17-bioc/R/site-library/RcppEigen/include/RcppEigenForward.h:30,
from /home/biocbuild/bbs-3.17-bioc/R/site-library/RcppEigen/include/RcppEigen.h:25,
from RcppExports.cpp:5:
/home/biocbuild/bbs-3.17-bioc/R/site-library/RcppEigen/include/Eigen/src/Core/DenseCoeffsBase.h: In instantiation of ‘class Eigen::DenseCoeffsBase<Eigen::Matrix<int, -1, 1>, 0>’:
/home/biocbuild/bbs-3.17-bioc/R/site-library/RcppEigen/include/Eigen/src/Core/DenseCoeffsBase.h:300:7: required from ‘class Eigen::DenseCoeffsBase<Eigen::Matrix<int, -1, 1>, 1>’
/home/biocbuild/bbs-3.17-bioc/R/site-library/RcppEigen/include/Eigen/src/Core/DenseCoeffsBase.h:551:7: required from ‘class Eigen::DenseCoeffsBase<Eigen::Matrix<int, -1, 1>, 3>’
/home/biocbuild/bbs-3.17-bioc/R/site-library/RcppEigen/include/Eigen/src/Core/DenseBase.h:41:34: required from ‘class Eigen::DenseBase<Eigen::Matrix<int, -1, 1> >’
/home/biocbuild/bbs-3.17-bioc/R/site-library/RcppEigen/include/Eigen/src/Core/MatrixBase.h:48:34: required from ‘class Eigen::MatrixBase<Eigen::Matrix<int, -1, 1> >’
/home/biocbuild/bbs-3.17-bioc/R/site-library/RcppEigen/include/Eigen/src/Core/PlainObjectBase.h:98:7: required from ‘class Eigen::PlainObjectBase<Eigen::Matrix<int, -1, 1> >’
/home/biocbuild/bbs-3.17-bioc/R/site-library/RcppEigen/include/Eigen/src/Core/Matrix.h:178:7: required from ‘class Eigen::Matrix<int, -1, 1>’
/home/biocbuild/bbs-3.17-bioc/R/site-library/RcppEigen/include/unsupported/Eigen/src/KroneckerProduct/KroneckerTensorProduct.h:168:29: required from here
/home/biocbuild/bbs-3.17-bioc/R/site-library/RcppEigen/include/Eigen/src/Core/DenseCoeffsBase.h:55:30: warning: ignoring attributes on template argument ‘Eigen::internal::packet_traits<int>::type’ {aka ‘__vector(2) long long int’} [-Wignored-attributes]
55 | >::type PacketReturnType;
| ^~~~~~~~~~~~~~~~
/home/biocbuild/bbs-3.17-bioc/R/site-library/RcppEigen/include/Eigen/src/Core/DenseCoeffsBase.h: In instantiation of ‘class Eigen::DenseCoeffsBase<Eigen::Transpose<Eigen::Matrix<int, -1, 1> >, 0>’:
/home/biocbuild/bbs-3.17-bioc/R/site-library/RcppEigen/include/Eigen/src/Core/DenseCoeffsBase.h:300:7: required from ‘class Eigen::DenseCoeffsBase<Eigen::Transpose<Eigen::Matrix<int, -1, 1> >, 1>’
/home/biocbuild/bbs-3.17-bioc/R/site-library/RcppEigen/include/Eigen/src/Core/DenseCoeffsBase.h:551:7: required from ‘class Eigen::DenseCoeffsBase<Eigen::Transpose<Eigen::Matrix<int, -1, 1> >, 3>’
/home/biocbuild/bbs-3.17-bioc/R/site-library/RcppEigen/include/Eigen/src/Core/DenseBase.h:41:34: required from ‘class Eigen::DenseBase<Eigen::Transpose<Eigen::Matrix<int, -1, 1> > >’
/home/biocbuild/bbs-3.17-bioc/R/site-library/RcppEigen/include/Eigen/src/Core/MatrixBase.h:48:34: required from ‘class Eigen::MatrixBase<Eigen::Transpose<Eigen::Matrix<int, -1, 1> > >’
/home/biocbuild/bbs-3.17-bioc/R/site-library/RcppEigen/include/Eigen/src/Core/Transpose.h:115:37: required from ‘class Eigen::TransposeImpl<Eigen::Matrix<int, -1, 1>, Eigen::Dense>’
/home/biocbuild/bbs-3.17-bioc/R/site-library/RcppEigen/include/Eigen/src/Core/Transpose.h:52:37: required from ‘class Eigen::Transpose<Eigen::Matrix<int, -1, 1> >’
/home/biocbuild/bbs-3.17-bioc/R/site-library/RcppEigen/include/unsupported/Eigen/src/KroneckerProduct/KroneckerTensorProduct.h:178:72: required from here
/home/biocbuild/bbs-3.17-bioc/R/site-library/RcppEigen/include/Eigen/src/Core/DenseCoeffsBase.h:55:30: warning: ignoring attributes on template argument ‘Eigen::internal::packet_traits<int>::type’ {aka ‘__vector(2) long long int’} [-Wignored-attributes]
/home/biocbuild/bbs-3.17-bioc/R/site-library/RcppEigen/include/Eigen/src/Core/DenseCoeffsBase.h: In instantiation of ‘class Eigen::DenseCoeffsBase<Eigen::Matrix<int, -1, -1>, 0>’:
/home/biocbuild/bbs-3.17-bioc/R/site-library/RcppEigen/include/Eigen/src/Core/DenseCoeffsBase.h:300:7: required from ‘class Eigen::DenseCoeffsBase<Eigen::Matrix<int, -1, -1>, 1>’
/home/biocbuild/bbs-3.17-bioc/R/site-library/RcppEigen/include/Eigen/src/Core/DenseCoeffsBase.h:551:7: required from ‘class Eigen::DenseCoeffsBase<Eigen::Matrix<int, -1, -1>, 3>’
/home/biocbuild/bbs-3.17-bioc/R/site-library/RcppEigen/include/Eigen/src/Core/DenseBase.h:41:34: required from ‘class Eigen::DenseBase<Eigen::Matrix<int, -1, -1> >’
/home/biocbuild/bbs-3.17-bioc/R/site-library/RcppEigen/include/Eigen/src/Core/MatrixBase.h:48:34: required from ‘class Eigen::MatrixBase<Eigen::Matrix<int, -1, -1> >’
/home/biocbuild/bbs-3.17-bioc/R/site-library/RcppEigen/include/Eigen/src/Core/PlainObjectBase.h:98:7: required from ‘class Eigen::PlainObjectBase<Eigen::Matrix<int, -1, -1> >’
/home/biocbuild/bbs-3.17-bioc/R/site-library/RcppEigen/include/Eigen/src/Core/Matrix.h:178:7: required from ‘class Eigen::Matrix<int, -1, -1>’
/home/biocbuild/bbs-3.17-bioc/R/site-library/RcppEigen/include/unsupported/Eigen/src/KroneckerProduct/KroneckerTensorProduct.h:179:36: required from here
/home/biocbuild/bbs-3.17-bioc/R/site-library/RcppEigen/include/Eigen/src/Core/DenseCoeffsBase.h:55:30: warning: ignoring attributes on template argument ‘Eigen::internal::packet_traits<int>::type’ {aka ‘__vector(2) long long int’} [-Wignored-attributes]
g++ -std=gnu++11 -shared -L/home/biocbuild/bbs-3.17-bioc/R/lib -L/usr/local/lib -o BDMMAcorrect.so MCMC_algorithm.o RcppExports.o -L/home/biocbuild/bbs-3.17-bioc/R/lib -lRlapack -L/home/biocbuild/bbs-3.17-bioc/R/lib -lRblas -lgfortran -lm -lquadmath -g -O2 -msse2 -mfpmath=sse -L/home/biocbuild/bbs-3.17-bioc/R/lib -lR
installing to /home/biocbuild/bbs-3.17-bioc/R/site-library/00LOCK-BDMMAcorrect/00new/BDMMAcorrect/libs
** R
** data
*** moving datasets to lazyload DB
** inst
** byte-compile and prepare package for lazy loading
** help
*** installing help indices
** building package indices
** installing vignettes
** testing if installed package can be loaded from temporary location
** checking absolute paths in shared objects and dynamic libraries
** testing if installed package can be loaded from final location
** testing if installed package keeps a record of temporary installation path
* DONE (BDMMAcorrect)
BDMMAcorrect.Rcheck/tests/Test.Rout.fail
R Under development (unstable) (2023-02-14 r83833) -- "Unsuffered Consequences"
Copyright (C) 2023 The R Foundation for Statistical Computing
Platform: x86_64-pc-linux-gnu (64-bit)
R is free software and comes with ABSOLUTELY NO WARRANTY.
You are welcome to redistribute it under certain conditions.
Type 'license()' or 'licence()' for distribution details.
R is a collaborative project with many contributors.
Type 'contributors()' for more information and
'citation()' on how to cite R or R packages in publications.
Type 'demo()' for some demos, 'help()' for on-line help, or
'help.start()' for an HTML browser interface to help.
Type 'q()' to quit R.
> BiocGenerics:::testPackage("BDMMAcorrect")
This is vegan 2.6-4
Attaching package: 'ellipse'
The following object is masked from 'package:graphics':
pairs
Attaching package: 'MatrixGenerics'
The following objects are masked from 'package:matrixStats':
colAlls, colAnyNAs, colAnys, colAvgsPerRowSet, colCollapse,
colCounts, colCummaxs, colCummins, colCumprods, colCumsums,
colDiffs, colIQRDiffs, colIQRs, colLogSumExps, colMadDiffs,
colMads, colMaxs, colMeans2, colMedians, colMins, colOrderStats,
colProds, colQuantiles, colRanges, colRanks, colSdDiffs, colSds,
colSums2, colTabulates, colVarDiffs, colVars, colWeightedMads,
colWeightedMeans, colWeightedMedians, colWeightedSds,
colWeightedVars, rowAlls, rowAnyNAs, rowAnys, rowAvgsPerColSet,
rowCollapse, rowCounts, rowCummaxs, rowCummins, rowCumprods,
rowCumsums, rowDiffs, rowIQRDiffs, rowIQRs, rowLogSumExps,
rowMadDiffs, rowMads, rowMaxs, rowMeans2, rowMedians, rowMins,
rowOrderStats, rowProds, rowQuantiles, rowRanges, rowRanks,
rowSdDiffs, rowSds, rowSums2, rowTabulates, rowVarDiffs, rowVars,
rowWeightedMads, rowWeightedMeans, rowWeightedMedians,
rowWeightedSds, rowWeightedVars
Attaching package: 'BiocGenerics'
The following objects are masked from 'package:stats':
IQR, mad, sd, var, xtabs
The following objects are masked from 'package:base':
Filter, Find, Map, Position, Reduce, anyDuplicated, aperm, append,
as.data.frame, basename, cbind, colnames, dirname, do.call,
duplicated, eval, evalq, get, grep, grepl, intersect, is.unsorted,
lapply, mapply, match, mget, order, paste, pmax, pmax.int, pmin,
pmin.int, rank, rbind, rownames, sapply, setdiff, sort, table,
tapply, union, unique, unsplit, which.max, which.min
Attaching package: 'S4Vectors'
The following objects are masked from 'package:base':
I, expand.grid, unname
Welcome to Bioconductor
Vignettes contain introductory material; view with
'browseVignettes()'. To cite Bioconductor, see
'citation("Biobase")', and for packages 'citation("pkgname")'.
Attaching package: 'Biobase'
The following object is masked from 'package:MatrixGenerics':
rowMedians
The following objects are masked from 'package:matrixStats':
anyMissing, rowMedians
Error in library("RUnit", quietly = TRUE) :
there is no package called 'RUnit'
Calls: <Anonymous> -> library
Execution halted
BDMMAcorrect.Rcheck/BDMMAcorrect-Ex.timings
| name | user | system | elapsed | |
| BDMMA | 0.002 | 0.000 | 0.002 | |
| VBatch | 0.387 | 0.031 | 0.420 | |
| fdr_cut | 0.002 | 0.001 | 0.002 | |
| trace_plot | 0.002 | 0.000 | 0.001 | |