| Back to Multiple platform build/check report for BioC 3.17 |
|
This page was generated on 2023-04-12 10:55:33 -0400 (Wed, 12 Apr 2023).
| Hostname | OS | Arch (*) | R version | Installed pkgs |
|---|---|---|---|---|
| nebbiolo1 | Linux (Ubuntu 22.04.1 LTS) | x86_64 | 4.3.0 alpha (2023-04-03 r84154) | 4547 |
| nebbiolo2 | Linux (Ubuntu 20.04.5 LTS) | x86_64 | R Under development (unstable) (2023-02-14 r83833) -- "Unsuffered Consequences" | 4333 |
| Click on any hostname to see more info about the system (e.g. compilers) (*) as reported by 'uname -p', except on Windows and Mac OS X | ||||
|
To the developers/maintainers of the AllelicImbalance package: - Allow up to 24 hours (and sometimes 48 hours) for your latest push to git@git.bioconductor.org:packages/AllelicImbalance.git to reflect on this report. See Troubleshooting Build Report for more information. - Use the following Renviron settings to reproduce errors and warnings. Note: If "R CMD check" recently failed on the Linux builder over a missing dependency, add the missing dependency to "Suggests" in your DESCRIPTION file. See the Renviron.bioc for details. |
| Package 52/2207 | Hostname | OS / Arch | INSTALL | BUILD | CHECK | BUILD BIN | ||||||||
| AllelicImbalance 1.37.0 (landing page) Jesper R Gadin
| nebbiolo1 | Linux (Ubuntu 22.04.1 LTS) / x86_64 | OK | OK | OK | |||||||||
| nebbiolo2 | Linux (Ubuntu 20.04.5 LTS) / x86_64 | OK | OK | OK | ||||||||||
| Package: AllelicImbalance |
| Version: 1.37.0 |
| Command: /home/biocbuild/bbs-3.17-bioc/R/bin/R CMD check --install=check:AllelicImbalance.install-out.txt --library=/home/biocbuild/bbs-3.17-bioc/R/site-library --timings AllelicImbalance_1.37.0.tar.gz |
| StartedAt: 2023-04-12 04:37:40 -0400 (Wed, 12 Apr 2023) |
| EndedAt: 2023-04-12 04:47:21 -0400 (Wed, 12 Apr 2023) |
| EllapsedTime: 581.7 seconds |
| RetCode: 0 |
| Status: OK |
| CheckDir: AllelicImbalance.Rcheck |
| Warnings: 0 |
##############################################################################
##############################################################################
###
### Running command:
###
### /home/biocbuild/bbs-3.17-bioc/R/bin/R CMD check --install=check:AllelicImbalance.install-out.txt --library=/home/biocbuild/bbs-3.17-bioc/R/site-library --timings AllelicImbalance_1.37.0.tar.gz
###
##############################################################################
##############################################################################
* using log directory ‘/home/biocbuild/bbs-3.17-bioc/meat/AllelicImbalance.Rcheck’
* using R Under development (unstable) (2023-02-14 r83833)
* using platform: x86_64-pc-linux-gnu (64-bit)
* R was compiled by
gcc (Ubuntu 9.4.0-1ubuntu1~20.04.1) 9.4.0
GNU Fortran (Ubuntu 9.4.0-1ubuntu1~20.04.1) 9.4.0
* running under: Ubuntu 20.04.6 LTS
* using session charset: UTF-8
* checking for file ‘AllelicImbalance/DESCRIPTION’ ... OK
* checking extension type ... Package
* this is package ‘AllelicImbalance’ version ‘1.37.0’
* package encoding: UTF-8
* checking package namespace information ... OK
* checking package dependencies ... OK
* checking if this is a source package ... OK
* checking if there is a namespace ... OK
* checking for hidden files and directories ... OK
* checking for portable file names ... OK
* checking for sufficient/correct file permissions ... OK
* checking whether package ‘AllelicImbalance’ can be installed ... OK
* checking installed package size ... OK
* checking package directory ... OK
* checking ‘build’ directory ... OK
* checking DESCRIPTION meta-information ... OK
* checking top-level files ... OK
* checking for left-over files ... OK
* checking index information ... OK
* checking package subdirectories ... NOTE
Problems with news in ‘NEWS’:
Cannot process chunk/lines:
CHANGES IN VERSION 1.12.0
* checking R files for non-ASCII characters ... OK
* checking R files for syntax errors ... OK
* checking whether the package can be loaded ... OK
* checking whether the package can be loaded with stated dependencies ... OK
* checking whether the package can be unloaded cleanly ... OK
* checking whether the namespace can be loaded with stated dependencies ... OK
* checking whether the namespace can be unloaded cleanly ... OK
* checking loading without being on the library search path ... OK
* checking dependencies in R code ... OK
* checking S3 generic/method consistency ... OK
* checking replacement functions ... OK
* checking foreign function calls ... OK
* checking R code for possible problems ... OK
* checking Rd files ... OK
* checking Rd metadata ... OK
* checking Rd cross-references ... OK
* checking for missing documentation entries ... OK
* checking for code/documentation mismatches ... OK
* checking Rd \usage sections ... OK
* checking Rd contents ... OK
* checking for unstated dependencies in examples ... OK
* checking contents of ‘data’ directory ... OK
* checking data for non-ASCII characters ... OK
* checking LazyData ... OK
* checking data for ASCII and uncompressed saves ... OK
* checking files in ‘vignettes’ ... OK
* checking examples ... OK
Examples with CPU (user + system) or elapsed time > 5s
user system elapsed
import-bam 30.381 0.567 30.961
getSnpIdFromLocation 20.175 1.616 21.793
lva 9.646 0.020 9.666
getAlleleCounts 5.560 0.180 5.740
* checking for unstated dependencies in ‘tests’ ... OK
* checking tests ...
Running ‘test-all.R’
OK
* checking for unstated dependencies in vignettes ... OK
* checking package vignettes in ‘inst/doc’ ... OK
* checking running R code from vignettes ...
‘AllelicImbalance-vignette.Rmd’ using ‘UTF-8’... OK
NONE
* checking re-building of vignette outputs ... OK
* checking PDF version of manual ... OK
* DONE
Status: 1 NOTE
See
‘/home/biocbuild/bbs-3.17-bioc/meat/AllelicImbalance.Rcheck/00check.log’
for details.
AllelicImbalance.Rcheck/00install.out
############################################################################## ############################################################################## ### ### Running command: ### ### /home/biocbuild/bbs-3.17-bioc/R/bin/R CMD INSTALL AllelicImbalance ### ############################################################################## ############################################################################## * installing to library ‘/home/biocbuild/bbs-3.17-bioc/R/site-library’ * installing *source* package ‘AllelicImbalance’ ... ** using staged installation ** R ** data *** moving datasets to lazyload DB ** inst ** byte-compile and prepare package for lazy loading Creating a generic function for 'chisq.test' from package 'stats' in package 'AllelicImbalance' Creating a generic function for 'binom.test' from package 'stats' in package 'AllelicImbalance' ** help *** installing help indices ** building package indices ** installing vignettes ** testing if installed package can be loaded from temporary location ** testing if installed package can be loaded from final location ** testing if installed package keeps a record of temporary installation path * DONE (AllelicImbalance)
AllelicImbalance.Rcheck/tests/test-all.Rout
R Under development (unstable) (2023-02-14 r83833) -- "Unsuffered Consequences"
Copyright (C) 2023 The R Foundation for Statistical Computing
Platform: x86_64-pc-linux-gnu (64-bit)
R is free software and comes with ABSOLUTELY NO WARRANTY.
You are welcome to redistribute it under certain conditions.
Type 'license()' or 'licence()' for distribution details.
R is a collaborative project with many contributors.
Type 'contributors()' for more information and
'citation()' on how to cite R or R packages in publications.
Type 'demo()' for some demos, 'help()' for on-line help, or
'help.start()' for an HTML browser interface to help.
Type 'q()' to quit R.
> library(testthat)
> test_check("AllelicImbalance")
Loading required package: AllelicImbalance
Loading required package: grid
Loading required package: GenomicRanges
Loading required package: stats4
Loading required package: BiocGenerics
Attaching package: 'BiocGenerics'
The following objects are masked from 'package:stats':
IQR, mad, sd, var, xtabs
The following objects are masked from 'package:base':
Filter, Find, Map, Position, Reduce, anyDuplicated, aperm, append,
as.data.frame, basename, cbind, colnames, dirname, do.call,
duplicated, eval, evalq, get, grep, grepl, intersect, is.unsorted,
lapply, mapply, match, mget, order, paste, pmax, pmax.int, pmin,
pmin.int, rank, rbind, rownames, sapply, setdiff, sort, table,
tapply, union, unique, unsplit, which.max, which.min
Loading required package: S4Vectors
Attaching package: 'S4Vectors'
The following objects are masked from 'package:base':
I, expand.grid, unname
Loading required package: IRanges
Loading required package: GenomeInfoDb
Loading required package: SummarizedExperiment
Loading required package: MatrixGenerics
Loading required package: matrixStats
Attaching package: 'MatrixGenerics'
The following objects are masked from 'package:matrixStats':
colAlls, colAnyNAs, colAnys, colAvgsPerRowSet, colCollapse,
colCounts, colCummaxs, colCummins, colCumprods, colCumsums,
colDiffs, colIQRDiffs, colIQRs, colLogSumExps, colMadDiffs,
colMads, colMaxs, colMeans2, colMedians, colMins, colOrderStats,
colProds, colQuantiles, colRanges, colRanks, colSdDiffs, colSds,
colSums2, colTabulates, colVarDiffs, colVars, colWeightedMads,
colWeightedMeans, colWeightedMedians, colWeightedSds,
colWeightedVars, rowAlls, rowAnyNAs, rowAnys, rowAvgsPerColSet,
rowCollapse, rowCounts, rowCummaxs, rowCummins, rowCumprods,
rowCumsums, rowDiffs, rowIQRDiffs, rowIQRs, rowLogSumExps,
rowMadDiffs, rowMads, rowMaxs, rowMeans2, rowMedians, rowMins,
rowOrderStats, rowProds, rowQuantiles, rowRanges, rowRanks,
rowSdDiffs, rowSds, rowSums2, rowTabulates, rowVarDiffs, rowVars,
rowWeightedMads, rowWeightedMeans, rowWeightedMedians,
rowWeightedSds, rowWeightedVars
Loading required package: Biobase
Welcome to Bioconductor
Vignettes contain introductory material; view with
'browseVignettes()'. To cite Bioconductor, see
'citation("Biobase")', and for packages 'citation("pkgname")'.
Attaching package: 'Biobase'
The following object is masked from 'package:MatrixGenerics':
rowMedians
The following objects are masked from 'package:matrixStats':
anyMissing, rowMedians
Loading required package: GenomicAlignments
Loading required package: Biostrings
Loading required package: XVector
Attaching package: 'Biostrings'
The following object is masked from 'package:grid':
pattern
The following object is masked from 'package:base':
strsplit
Loading required package: Rsamtools
[ FAIL 0 | WARN 0 | SKIP 1 | PASS 96 ]
══ Skipped tests ═══════════════════════════════════════════════════════════════
• empty test (1)
[ FAIL 0 | WARN 0 | SKIP 1 | PASS 96 ]
>
>
>
> proc.time()
user system elapsed
19.109 1.605 20.699
AllelicImbalance.Rcheck/AllelicImbalance-Ex.timings
| name | user | system | elapsed | |
| ASEset-barplot | 0.181 | 0.028 | 0.209 | |
| ASEset-class | 0.435 | 0.022 | 0.457 | |
| ASEset-filters | 0.048 | 0.000 | 0.048 | |
| ASEset-gbarplot | 0.032 | 0.004 | 0.036 | |
| ASEset-glocationplot | 4.642 | 0.188 | 4.830 | |
| ASEset-gviztrack | 0.507 | 0.068 | 0.574 | |
| ASEset-scanForHeterozygotes | 1.833 | 0.048 | 1.880 | |
| ASEset.old | 0 | 0 | 0 | |
| ASEset.sim | 0 | 0 | 0 | |
| ASEsetFromBam | 0.001 | 0.000 | 0.001 | |
| DetectedAI-class | 0.091 | 0.004 | 0.095 | |
| DetectedAI-plot | 1.340 | 0.028 | 1.368 | |
| DetectedAI-summary | 0.103 | 0.000 | 0.103 | |
| GRvariants | 0.001 | 0.000 | 0.001 | |
| GlobalAnalysis-class | 0.001 | 0.000 | 0.001 | |
| LinkVariantAlmlof-class | 0 | 0 | 0 | |
| LinkVariantAlmlof-plot | 2.350 | 0.032 | 2.383 | |
| RegionSummary-class | 0.000 | 0.000 | 0.001 | |
| RiskVariant-class | 0 | 0 | 0 | |
| annotation-wrappers | 4.344 | 0.212 | 4.557 | |
| annotationBarplot | 0 | 0 | 0 | |
| barplot-lattice-support | 0.111 | 0.004 | 0.115 | |
| binom.test | 0.042 | 0.004 | 0.047 | |
| chisq.test | 0.130 | 0.000 | 0.129 | |
| cigar-utilities | 0.010 | 0.004 | 0.013 | |
| countAllelesFromBam | 0.002 | 0.000 | 0.001 | |
| coverageMatrixListFromGAL | 0.840 | 0.044 | 0.883 | |
| decorateWithExons | 0.001 | 0.000 | 0.001 | |
| decorateWithGenes | 0.001 | 0.000 | 0.001 | |
| defaultMapBias | 0.038 | 0.000 | 0.038 | |
| defaultPhase | 0.001 | 0.000 | 0.000 | |
| detectAI | 0.088 | 0.000 | 0.088 | |
| fractionPlotDf | 0.028 | 0.004 | 0.031 | |
| gba | 0.000 | 0.000 | 0.001 | |
| genomatrix | 0 | 0 | 0 | |
| genotype2phase | 0.024 | 0.000 | 0.024 | |
| getAlleleCounts | 5.56 | 0.18 | 5.74 | |
| getAlleleQuality | 3.679 | 0.040 | 3.720 | |
| getAreaFromGeneNames | 0.514 | 0.011 | 0.525 | |
| getDefaultMapBiasExpMean | 0.028 | 0.000 | 0.028 | |
| getSnpIdFromLocation | 20.175 | 1.616 | 21.793 | |
| histplot | 0 | 0 | 0 | |
| implodeList-old | 0.006 | 0.000 | 0.005 | |
| import-bam-2 | 0.009 | 0.000 | 0.008 | |
| import-bam | 30.381 | 0.567 | 30.961 | |
| import-bcf | 1.646 | 0.044 | 1.689 | |
| inferAlleles | 0.011 | 0.000 | 0.012 | |
| inferAltAllele | 0.014 | 0.000 | 0.015 | |
| inferGenotypes | 0.027 | 0.000 | 0.026 | |
| initialize-ASEset | 0.073 | 0.004 | 0.076 | |
| initialize-DetectedAI | 0.088 | 0.000 | 0.088 | |
| initialize-GlobalAnalysis | 0.002 | 0.000 | 0.001 | |
| initialize-RiskVariant | 0.000 | 0.001 | 0.001 | |
| legendBarplot | 0 | 0 | 0 | |
| locationplot | 1.452 | 0.026 | 1.477 | |
| lva | 9.646 | 0.020 | 9.666 | |
| lva.internal | 0.329 | 0.000 | 0.328 | |
| makeMaskedFasta | 1.369 | 0.036 | 1.405 | |
| mapBiasRef | 0.012 | 0.000 | 0.012 | |
| minCountFilt | 0.065 | 0.000 | 0.064 | |
| minFreqFilt | 0.071 | 0.000 | 0.071 | |
| multiAllelicFilt | 0.011 | 0.000 | 0.011 | |
| phase2genotype | 0.021 | 0.000 | 0.021 | |
| phaseArray2phaseMatrix | 0.004 | 0.000 | 0.003 | |
| phaseMatrix2Array | 0.003 | 0.000 | 0.003 | |
| randomRef | 0.017 | 0.000 | 0.017 | |
| reads | 0.001 | 0.000 | 0.000 | |
| refAllele | 0.012 | 0.000 | 0.013 | |
| regionSummary | 0.523 | 0.000 | 0.522 | |
| scanForHeterozygotes-old | 4.640 | 0.036 | 4.676 | |