| Back to Multiple platform build/check report for BioC 3.17 |
|
This page was generated on 2023-04-12 10:55:21 -0400 (Wed, 12 Apr 2023).
| Hostname | OS | Arch (*) | R version | Installed pkgs |
|---|---|---|---|---|
| nebbiolo1 | Linux (Ubuntu 22.04.1 LTS) | x86_64 | 4.3.0 alpha (2023-04-03 r84154) | 4547 |
| nebbiolo2 | Linux (Ubuntu 20.04.5 LTS) | x86_64 | R Under development (unstable) (2023-02-14 r83833) -- "Unsuffered Consequences" | 4333 |
| Click on any hostname to see more info about the system (e.g. compilers) (*) as reported by 'uname -p', except on Windows and Mac OS X | ||||
|
To the developers/maintainers of the AUCell package: - Allow up to 24 hours (and sometimes 48 hours) for your latest push to git@git.bioconductor.org:packages/AUCell.git to reflect on this report. See Troubleshooting Build Report for more information. - Use the following Renviron settings to reproduce errors and warnings. Note: If "R CMD check" recently failed on the Linux builder over a missing dependency, add the missing dependency to "Suggests" in your DESCRIPTION file. See the Renviron.bioc for details. |
| Package 111/2207 | Hostname | OS / Arch | INSTALL | BUILD | CHECK | BUILD BIN | ||||||||
| AUCell 1.21.2 (landing page) Sara Aibar
| nebbiolo1 | Linux (Ubuntu 22.04.1 LTS) / x86_64 | OK | OK | OK | |||||||||
| nebbiolo2 | Linux (Ubuntu 20.04.5 LTS) / x86_64 | OK | OK | OK | ||||||||||
| Package: AUCell |
| Version: 1.21.2 |
| Command: /home/biocbuild/bbs-3.17-bioc/R/bin/R CMD check --install=check:AUCell.install-out.txt --library=/home/biocbuild/bbs-3.17-bioc/R/site-library --timings AUCell_1.21.2.tar.gz |
| StartedAt: 2023-04-11 18:37:42 -0400 (Tue, 11 Apr 2023) |
| EndedAt: 2023-04-11 18:42:46 -0400 (Tue, 11 Apr 2023) |
| EllapsedTime: 304.3 seconds |
| RetCode: 0 |
| Status: OK |
| CheckDir: AUCell.Rcheck |
| Warnings: 0 |
##############################################################################
##############################################################################
###
### Running command:
###
### /home/biocbuild/bbs-3.17-bioc/R/bin/R CMD check --install=check:AUCell.install-out.txt --library=/home/biocbuild/bbs-3.17-bioc/R/site-library --timings AUCell_1.21.2.tar.gz
###
##############################################################################
##############################################################################
* using log directory ‘/home/biocbuild/bbs-3.17-bioc/meat/AUCell.Rcheck’
* using R version 4.3.0 alpha (2023-04-03 r84154)
* using platform: x86_64-pc-linux-gnu (64-bit)
* R was compiled by
gcc (Ubuntu 11.3.0-1ubuntu1~22.04) 11.3.0
GNU Fortran (Ubuntu 11.3.0-1ubuntu1~22.04) 11.3.0
* running under: Ubuntu 22.04.2 LTS
* using session charset: UTF-8
* checking for file ‘AUCell/DESCRIPTION’ ... OK
* checking extension type ... Package
* this is package ‘AUCell’ version ‘1.21.2’
* checking package namespace information ... OK
* checking package dependencies ... OK
* checking if this is a source package ... OK
* checking if there is a namespace ... OK
* checking for hidden files and directories ... OK
* checking for portable file names ... OK
* checking for sufficient/correct file permissions ... OK
* checking whether package ‘AUCell’ can be installed ... OK
* checking installed package size ... OK
* checking package directory ... OK
* checking ‘build’ directory ... OK
* checking DESCRIPTION meta-information ... OK
* checking top-level files ... OK
* checking for left-over files ... OK
* checking index information ... OK
* checking package subdirectories ... OK
* checking R files for non-ASCII characters ... OK
* checking R files for syntax errors ... OK
* checking whether the package can be loaded ... OK
* checking whether the package can be loaded with stated dependencies ... OK
* checking whether the package can be unloaded cleanly ... OK
* checking whether the namespace can be loaded with stated dependencies ... OK
* checking whether the namespace can be unloaded cleanly ... OK
* checking loading without being on the library search path ... OK
* checking dependencies in R code ... OK
* checking S3 generic/method consistency ... OK
* checking replacement functions ... OK
* checking foreign function calls ... OK
* checking R code for possible problems ... NOTE
AUCell_assignCells: no visible binding for global variable ‘verbose’
AUCell_createViewerApp : <anonymous>: no visible global function
definition for ‘%>%’
AUCell_createViewerApp : <anonymous>: no visible binding for global
variable ‘tsne1’
AUCell_createViewerApp : <anonymous>: no visible binding for global
variable ‘tsne2’
AUCell_createViewerApp : <anonymous>: no visible binding for global
variable ‘cell’
plotEmb_rgb : <anonymous>: no visible global function definition for
‘rgb’
Undefined global functions or variables:
%>% cell rgb tsne1 tsne2 verbose
Consider adding
importFrom("grDevices", "rgb")
to your NAMESPACE file.
* checking Rd files ... OK
* checking Rd metadata ... OK
* checking Rd cross-references ... OK
* checking for missing documentation entries ... OK
* checking for code/documentation mismatches ... OK
* checking Rd \usage sections ... OK
* checking Rd contents ... OK
* checking for unstated dependencies in examples ... OK
* checking installed files from ‘inst/doc’ ... OK
* checking files in ‘vignettes’ ... OK
* checking examples ... OK
* checking for unstated dependencies in ‘tests’ ... OK
* checking tests ...
Running ‘testthat.R’
OK
* checking for unstated dependencies in vignettes ... OK
* checking package vignettes in ‘inst/doc’ ... OK
* checking running R code from vignettes ...
‘AUCell.Rmd’ using ‘UTF-8’... OK
NONE
* checking re-building of vignette outputs ... OK
* checking PDF version of manual ... OK
* DONE
Status: 1 NOTE
See
‘/home/biocbuild/bbs-3.17-bioc/meat/AUCell.Rcheck/00check.log’
for details.
AUCell.Rcheck/00install.out
############################################################################## ############################################################################## ### ### Running command: ### ### /home/biocbuild/bbs-3.17-bioc/R/bin/R CMD INSTALL AUCell ### ############################################################################## ############################################################################## * installing to library ‘/home/biocbuild/bbs-3.17-bioc/R/site-library’ * installing *source* package ‘AUCell’ ... ** using staged installation ** R ** inst ** byte-compile and prepare package for lazy loading ** help *** installing help indices ** building package indices ** installing vignettes ** testing if installed package can be loaded from temporary location ** testing if installed package can be loaded from final location ** testing if installed package keeps a record of temporary installation path * DONE (AUCell)
AUCell.Rcheck/tests/testthat.Rout
R version 4.3.0 alpha (2023-04-03 r84154)
Copyright (C) 2023 The R Foundation for Statistical Computing
Platform: x86_64-pc-linux-gnu (64-bit)
R is free software and comes with ABSOLUTELY NO WARRANTY.
You are welcome to redistribute it under certain conditions.
Type 'license()' or 'licence()' for distribution details.
R is a collaborative project with many contributors.
Type 'contributors()' for more information and
'citation()' on how to cite R or R packages in publications.
Type 'demo()' for some demos, 'help()' for on-line help, or
'help.start()' for an HTML browser interface to help.
Type 'q()' to quit R.
> library(testthat)
> library(AUCell)
>
> test_check("AUCell")
[ FAIL 0 | WARN 0 | SKIP 0 | PASS 56 ]
>
> proc.time()
user system elapsed
13.055 0.705 13.750
AUCell.Rcheck/AUCell-Ex.timings
| name | user | system | elapsed | |
| AUCell_assignCells | 2.900 | 0.162 | 3.062 | |
| AUCell_buildRankings | 0.052 | 0.000 | 0.052 | |
| AUCell_calcAUC | 0.486 | 0.032 | 0.518 | |
| AUCell_createViewerApp | 0.346 | 0.084 | 0.429 | |
| AUCell_exploreThresholds | 1.109 | 0.026 | 1.135 | |
| AUCell_plotHist | 0.072 | 0.001 | 0.073 | |
| AUCell_plotTSNE | 0.305 | 0.004 | 0.309 | |
| AUCell_run | 0.876 | 0.008 | 0.885 | |
| GeneSet-methods | 0.157 | 0.000 | 0.157 | |
| aucellResults-class | 0.246 | 0.000 | 0.246 | |
| orderAUC | 0.000 | 0.000 | 0.001 | |
| plotGeneCount | 0.005 | 0.000 | 0.005 | |
| plotTsne_cellProps | 0.324 | 0.024 | 0.348 | |
| updateAucellResults | 0.032 | 0.000 | 0.031 | |