| Back to Multiple platform build/check report for BioC 3.17 | 
 | 
This page was generated on 2023-04-12 10:55:21 -0400 (Wed, 12 Apr 2023).
| Hostname | OS | Arch (*) | R version | Installed pkgs | 
|---|---|---|---|---|
| nebbiolo1 | Linux (Ubuntu 22.04.1 LTS) | x86_64 | 4.3.0 alpha (2023-04-03 r84154) | 4547 | 
| nebbiolo2 | Linux (Ubuntu 20.04.5 LTS) | x86_64 | R Under development (unstable) (2023-02-14 r83833) -- "Unsuffered Consequences" | 4333 | 
| Click on any hostname to see more info about the system (e.g. compilers) (*) as reported by 'uname -p', except on Windows and Mac OS X | ||||
| To the developers/maintainers of the ASSET package: - Allow up to 24 hours (and sometimes 48 hours) for your latest push to git@git.bioconductor.org:packages/ASSET.git to reflect on this report. See Troubleshooting Build Report for more information. - Use the following Renviron settings to reproduce errors and warnings. Note: If "R CMD check" recently failed on the Linux builder over a missing dependency, add the missing dependency to "Suggests" in your DESCRIPTION file. See the Renviron.bioc for details. | 
| Package 102/2207 | Hostname | OS / Arch | INSTALL | BUILD | CHECK | BUILD BIN | ||||||||
| ASSET 2.17.0  (landing page) Samsiddhi Bhattacharjee 
 | nebbiolo1 | Linux (Ubuntu 22.04.1 LTS) / x86_64 | OK | OK | OK | |||||||||
| nebbiolo2 | Linux (Ubuntu 20.04.5 LTS) / x86_64 | OK | OK | OK | ||||||||||
| Package: ASSET | 
| Version: 2.17.0 | 
| Command: /home/biocbuild/bbs-3.17-bioc/R/bin/R CMD check --install=check:ASSET.install-out.txt --library=/home/biocbuild/bbs-3.17-bioc/R/site-library --timings ASSET_2.17.0.tar.gz | 
| StartedAt: 2023-04-11 18:35:50 -0400 (Tue, 11 Apr 2023) | 
| EndedAt: 2023-04-11 18:37:42 -0400 (Tue, 11 Apr 2023) | 
| EllapsedTime: 111.7 seconds | 
| RetCode: 0 | 
| Status: OK | 
| CheckDir: ASSET.Rcheck | 
| Warnings: 0 | 
##############################################################################
##############################################################################
###
### Running command:
###
###   /home/biocbuild/bbs-3.17-bioc/R/bin/R CMD check --install=check:ASSET.install-out.txt --library=/home/biocbuild/bbs-3.17-bioc/R/site-library --timings ASSET_2.17.0.tar.gz
###
##############################################################################
##############################################################################
* using log directory ‘/home/biocbuild/bbs-3.17-bioc/meat/ASSET.Rcheck’
* using R version 4.3.0 alpha (2023-04-03 r84154)
* using platform: x86_64-pc-linux-gnu (64-bit)
* R was compiled by
    gcc (Ubuntu 11.3.0-1ubuntu1~22.04) 11.3.0
    GNU Fortran (Ubuntu 11.3.0-1ubuntu1~22.04) 11.3.0
* running under: Ubuntu 22.04.2 LTS
* using session charset: UTF-8
* checking for file ‘ASSET/DESCRIPTION’ ... OK
* this is package ‘ASSET’ version ‘2.17.0’
* checking package namespace information ... OK
* checking package dependencies ... OK
* checking if this is a source package ... OK
* checking if there is a namespace ... OK
* checking for hidden files and directories ... OK
* checking for portable file names ... OK
* checking for sufficient/correct file permissions ... OK
* checking whether package ‘ASSET’ can be installed ... OK
* checking installed package size ... OK
* checking package directory ... OK
* checking ‘build’ directory ... OK
* checking DESCRIPTION meta-information ... NOTE
License components with restrictions not permitted:
  GPL-2 + file LICENSE
* checking top-level files ... OK
* checking for left-over files ... OK
* checking index information ... OK
* checking package subdirectories ... NOTE
Problems with news in ‘NEWS’:
  Cannot process chunk/lines:
    The stochastic p-value calculation with p-value screening appears to be unacceptably slow in many cases. 
  Cannot process chunk/lines:
    Reverting to older deterministic p-value calculation used till ASSET 1.8.0. P-value screening option 
  Cannot process chunk/lines:
    is not supported for now but may be included in future releases.
  Cannot process chunk/lines:
    A new p-value screening option p.bound introduced and stochastic p-value calculation incorporated to allow
  Cannot process chunk/lines:
    p-value screening.
* checking R files for non-ASCII characters ... OK
* checking R files for syntax errors ... OK
* checking whether the package can be loaded ... OK
* checking whether the package can be loaded with stated dependencies ... OK
* checking whether the package can be unloaded cleanly ... OK
* checking whether the namespace can be loaded with stated dependencies ... OK
* checking whether the namespace can be unloaded cleanly ... OK
* checking loading without being on the library search path ... OK
* checking dependencies in R code ... OK
* checking S3 generic/method consistency ... OK
* checking replacement functions ... OK
* checking foreign function calls ... OK
* checking R code for possible problems ... OK
* checking Rd files ... OK
* checking Rd metadata ... OK
* checking Rd cross-references ... OK
* checking for missing documentation entries ... OK
* checking for code/documentation mismatches ... OK
* checking Rd \usage sections ... OK
* checking Rd contents ... OK
* checking for unstated dependencies in examples ... OK
* checking contents of ‘data’ directory ... OK
* checking data for non-ASCII characters ... OK
* checking data for ASCII and uncompressed saves ... OK
* checking files in ‘vignettes’ ... OK
* checking examples ... OK
Examples with CPU (user + system) or elapsed time > 5s
             user system elapsed
fast_asset 46.776  0.264  47.040
h.types     5.775  0.092   5.868
* checking for unstated dependencies in ‘tests’ ... OK
* checking tests ...
  Running ‘runTests.R’
 OK
* checking for unstated dependencies in vignettes ... OK
* checking package vignettes in ‘inst/doc’ ... OK
* checking running R code from vignettes ...
  ‘vignette.Rnw’... OK
 NONE
* checking re-building of vignette outputs ... OK
* checking PDF version of manual ... OK
* DONE
Status: 2 NOTEs
See
  ‘/home/biocbuild/bbs-3.17-bioc/meat/ASSET.Rcheck/00check.log’
for details.
ASSET.Rcheck/00install.out
############################################################################## ############################################################################## ### ### Running command: ### ### /home/biocbuild/bbs-3.17-bioc/R/bin/R CMD INSTALL ASSET ### ############################################################################## ############################################################################## * installing to library ‘/home/biocbuild/bbs-3.17-bioc/R/site-library’ * installing *source* package ‘ASSET’ ... ** using staged installation ** R ** data ** inst ** byte-compile and prepare package for lazy loading ** help *** installing help indices ** building package indices ** installing vignettes ** testing if installed package can be loaded from temporary location ** testing if installed package can be loaded from final location ** testing if installed package keeps a record of temporary installation path * DONE (ASSET)
ASSET.Rcheck/tests/runTests.Rout
R version 4.3.0 alpha (2023-04-03 r84154)
Copyright (C) 2023 The R Foundation for Statistical Computing
Platform: x86_64-pc-linux-gnu (64-bit)
R is free software and comes with ABSOLUTELY NO WARRANTY.
You are welcome to redistribute it under certain conditions.
Type 'license()' or 'licence()' for distribution details.
R is a collaborative project with many contributors.
Type 'contributors()' for more information and
'citation()' on how to cite R or R packages in publications.
Type 'demo()' for some demos, 'help()' for on-line help, or
'help.start()' for an HTML browser interface to help.
Type 'q()' to quit R.
> BiocGenerics:::testPackage("ASSET")
RUNIT TEST PROTOCOL -- Tue Apr 11 18:37:30 2023 
*********************************************** 
Number of test functions: 4 
Number of errors: 0 
Number of failures: 0 
 
1 Test Suite : 
ASSET RUnit Tests - 4 test functions, 0 errors, 0 failures
Number of test functions: 4 
Number of errors: 0 
Number of failures: 0 
Warning messages:
1: Using formula(x) is deprecated when x is a character vector of length > 1.
  Consider formula(paste(x, collapse = " ")) instead. 
2: Using formula(x) is deprecated when x is a character vector of length > 1.
  Consider formula(paste(x, collapse = " ")) instead. 
3: Using formula(x) is deprecated when x is a character vector of length > 1.
  Consider formula(paste(x, collapse = " ")) instead. 
4: Using formula(x) is deprecated when x is a character vector of length > 1.
  Consider formula(paste(x, collapse = " ")) instead. 
> 
> proc.time()
   user  system elapsed 
  7.265   0.135   7.391 
ASSET.Rcheck/ASSET-Ex.timings
| name | user | system | elapsed | |
| create_blocks | 0.016 | 0.003 | 0.019 | |
| ex_fast_asset | 0.004 | 0.000 | 0.003 | |
| ex_trait | 0.003 | 0.004 | 0.007 | |
| ex_types | 0.007 | 0.000 | 0.008 | |
| fast_asset | 46.776 | 0.264 | 47.040 | |
| h.forestPlot | 0.396 | 0.003 | 0.401 | |
| h.summary | 0.294 | 0.000 | 0.295 | |
| h.traits | 0.279 | 0.012 | 0.291 | |
| h.types | 5.775 | 0.092 | 5.868 | |
| p.dlm | 0.022 | 0.000 | 0.021 | |
| z.max | 0.015 | 0.000 | 0.014 | |