| Back to Build/check report for BioC 3.17 experimental data | 
 | 
This page was generated on 2023-10-12 14:51:36 -0400 (Thu, 12 Oct 2023).
| Hostname | OS | Arch (*) | R version | Installed pkgs | 
|---|---|---|---|---|
| nebbiolo1 | Linux (Ubuntu 22.04.2 LTS) | x86_64 | 4.3.1 (2023-06-16) -- "Beagle Scouts" | 4626 | 
| Click on any hostname to see more info about the system (e.g. compilers) (*) as reported by 'uname -p', except on Windows and Mac OS X | ||||
| Package 328/421 | Hostname | OS / Arch | INSTALL | BUILD | CHECK | ||||||||
| RnBeads.mm9 1.32.0  (landing page) RnBeadsAnnotationCreator 
 | nebbiolo1 | Linux (Ubuntu 22.04.2 LTS) / x86_64 | OK | OK | WARNINGS |  | |||||||
| To the developers/maintainers of the RnBeads.mm9 package: - Use the following Renviron settings to reproduce errors and warnings. - If 'R CMD check' started to fail recently on the Linux builder(s) over a missing dependency, add the missing dependency to 'Suggests:' in your DESCRIPTION file. See Renviron.bioc for more information. | 
| Package: RnBeads.mm9 | 
| Version: 1.32.0 | 
| Command: /home/biocbuild/bbs-3.17-bioc/R/bin/R CMD build --keep-empty-dirs --no-resave-data RnBeads.mm9 | 
| StartedAt: 2023-10-12 10:47:23 -0400 (Thu, 12 Oct 2023) | 
| EndedAt: 2023-10-12 10:47:31 -0400 (Thu, 12 Oct 2023) | 
| EllapsedTime: 7.3 seconds | 
| RetCode: 0 | 
| Status: OK | 
| PackageFile: RnBeads.mm9_1.32.0.tar.gz | 
| PackageFileSize: 94.41 MiB | 
##############################################################################
##############################################################################
###
### Running command:
###
###   /home/biocbuild/bbs-3.17-bioc/R/bin/R CMD build --keep-empty-dirs --no-resave-data RnBeads.mm9
###
##############################################################################
##############################################################################
* checking for file ‘RnBeads.mm9/DESCRIPTION’ ... OK
* preparing ‘RnBeads.mm9’:
* checking DESCRIPTION meta-information ... OK
* checking for LF line-endings in source and make files and shell scripts
* checking for empty or unneeded directories
* looking to see if a ‘data/datalist’ file should be added
  NB: this package now depends on R (>= 3.5.0)
  WARNING: Added dependency on R >= 3.5.0 because serialized objects in
  serialize/load version 3 cannot be read in older versions of R.
  File(s) containing such objects:
    ‘RnBeads.mm9/data/CpG.RData’ ‘RnBeads.mm9/data/mm9.CpG.RData’
    ‘RnBeads.mm9/data/mm9.regions.RData’ ‘RnBeads.mm9/data/regions.RData’
* building ‘RnBeads.mm9_1.32.0.tar.gz’