Back to Build/check report for BioC 3.17 experimental data |
|
This page was generated on 2023-10-12 14:51:35 -0400 (Thu, 12 Oct 2023).
Hostname | OS | Arch (*) | R version | Installed pkgs |
---|---|---|---|---|
nebbiolo1 | Linux (Ubuntu 22.04.2 LTS) | x86_64 | 4.3.1 (2023-06-16) -- "Beagle Scouts" | 4626 |
Click on any hostname to see more info about the system (e.g. compilers) (*) as reported by 'uname -p', except on Windows and Mac OS X |
Package 244/421 | Hostname | OS / Arch | INSTALL | BUILD | CHECK | ||||||||
MMAPPR2data 1.14.0 (landing page) Jonathon Hill
| nebbiolo1 | Linux (Ubuntu 22.04.2 LTS) / x86_64 | OK | OK | OK | ||||||||
To the developers/maintainers of the MMAPPR2data package: - Use the following Renviron settings to reproduce errors and warnings. - If 'R CMD check' started to fail recently on the Linux builder(s) over a missing dependency, add the missing dependency to 'Suggests:' in your DESCRIPTION file. See Renviron.bioc for more information. |
Package: MMAPPR2data |
Version: 1.14.0 |
Command: /home/biocbuild/bbs-3.17-bioc/R/bin/R CMD build --keep-empty-dirs --no-resave-data MMAPPR2data |
StartedAt: 2023-10-12 10:40:50 -0400 (Thu, 12 Oct 2023) |
EndedAt: 2023-10-12 10:40:57 -0400 (Thu, 12 Oct 2023) |
EllapsedTime: 6.4 seconds |
RetCode: 0 |
Status: OK |
PackageFile: MMAPPR2data_1.14.0.tar.gz |
PackageFileSize: 490.5 KiB |
############################################################################## ############################################################################## ### ### Running command: ### ### /home/biocbuild/bbs-3.17-bioc/R/bin/R CMD build --keep-empty-dirs --no-resave-data MMAPPR2data ### ############################################################################## ############################################################################## * checking for file ‘MMAPPR2data/DESCRIPTION’ ... OK * preparing ‘MMAPPR2data’: * checking DESCRIPTION meta-information ... OK * installing the package to build vignettes * creating vignettes ... OK * checking for LF line-endings in source and make files and shell scripts * checking for empty or unneeded directories * building ‘MMAPPR2data_1.14.0.tar.gz’