| Back to Build/check report for BioC 3.17 annotations |
|
This page was generated on 2023-10-11 08:30:04 -0400 (Wed, 11 Oct 2023).
| Hostname | OS | Arch (*) | R version | Installed pkgs |
|---|---|---|---|---|
| nebbiolo1 | Linux (Ubuntu 22.04.2 LTS) | x86_64 | 4.3.1 (2023-06-16) -- "Beagle Scouts" | 4626 |
| Click on any hostname to see more info about the system (e.g. compilers) (*) as reported by 'uname -p', except on Windows and Mac OS X | ||||
| Package 28/37 | Hostname | OS / Arch | INSTALL | BUILD | CHECK | ||||||||
| org.Mxanthus.db 1.0.27 (landing page) Eduardo Illueca Fernández
| nebbiolo1 | Linux (Ubuntu 22.04.2 LTS) / x86_64 | OK | OK | WARNINGS | ||||||||
|
To the developers/maintainers of the org.Mxanthus.db package: - Use the following Renviron settings to reproduce errors and warnings. - If 'R CMD check' started to fail recently on the Linux builder(s) over a missing dependency, add the missing dependency to 'Suggests:' in your DESCRIPTION file. See Renviron.bioc for more information. |
| Package: org.Mxanthus.db |
| Version: 1.0.27 |
| Command: /home/biocbuild/bbs-3.17-bioc/R/bin/R CMD build --keep-empty-dirs --no-resave-data org.Mxanthus.db |
| StartedAt: 2023-10-11 05:31:30 -0400 (Wed, 11 Oct 2023) |
| EndedAt: 2023-10-11 05:32:07 -0400 (Wed, 11 Oct 2023) |
| EllapsedTime: 36.3 seconds |
| RetCode: 0 |
| Status: OK |
| PackageFile: org.Mxanthus.db_1.0.27.tar.gz |
| PackageFileSize: 413.1 KiB |
##############################################################################
##############################################################################
###
### Running command:
###
### /home/biocbuild/bbs-3.17-bioc/R/bin/R CMD build --keep-empty-dirs --no-resave-data org.Mxanthus.db
###
##############################################################################
##############################################################################
* checking for file ‘org.Mxanthus.db/DESCRIPTION’ ... OK
* preparing ‘org.Mxanthus.db’:
* checking DESCRIPTION meta-information ... OK
* installing the package to build vignettes
* creating vignettes ... OK
Warning: ‘inst/doc’ files
‘org.Mxanthus.db.Rmd’, ‘org.Mxanthus.db.html’
ignored as vignettes have been rebuilt.
Run R CMD build with --no-build-vignettes to prevent rebuilding.
* checking for LF line-endings in source and make files and shell scripts
* checking for empty or unneeded directories
* building ‘org.Mxanthus.db_1.0.27.tar.gz’