| Back to Build/check report for BioC 3.17 |
|
This page was generated on 2023-01-02 09:00:56 -0500 (Mon, 02 Jan 2023).
| Hostname | OS | Arch (*) | R version | Installed pkgs |
|---|---|---|---|---|
| palomino5 | Windows Server 2022 Datacenter | x64 | R Under development (unstable) (2022-12-25 r83502 ucrt) -- "Unsuffered Consequences" | 4165 |
| Click on any hostname to see more info about the system (e.g. compilers) (*) as reported by 'uname -p', except on Windows and Mac OS X | ||||
|
To the developers/maintainers of the zenith package: Make sure to use the following settings in order to reproduce any error or warning you see on this page. |
| Package 2155/2158 | Hostname | OS / Arch | INSTALL | BUILD | CHECK | BUILD BIN | ||||||||
| zenith 1.1.0 (landing page) Gabriel Hoffman
| palomino5 | Windows Server 2022 Datacenter / x64 | OK | OK | WARNINGS | OK | ||||||||
| Package: zenith |
| Version: 1.1.0 |
| Command: chmod a+r zenith -R && F:\biocbuild\bbs-3.17-bioc\R\bin\R.exe CMD build --keep-empty-dirs --no-resave-data zenith |
| StartedAt: 2022-12-28 21:14:28 -0500 (Wed, 28 Dec 2022) |
| EndedAt: 2022-12-28 21:15:32 -0500 (Wed, 28 Dec 2022) |
| EllapsedTime: 64.2 seconds |
| RetCode: 0 |
| Status: OK |
| PackageFile: zenith_1.1.0.tar.gz |
| PackageFileSize: 614.3 KiB |
############################################################################## ############################################################################## ### ### Running command: ### ### chmod a+r zenith -R && F:\biocbuild\bbs-3.17-bioc\R\bin\R.exe CMD build --keep-empty-dirs --no-resave-data zenith ### ############################################################################## ############################################################################## * checking for file 'zenith/DESCRIPTION' ... OK * preparing 'zenith': * checking DESCRIPTION meta-information ... OK * installing the package to process help pages Loading required namespace: zenith Warning: replacing previous import 'limma::topTable' by 'variancePartition::topTable' when loading 'zenith' * saving partial Rd database * creating vignettes ... OK * checking for LF line-endings in source and make files and shell scripts * checking for empty or unneeded directories * building 'zenith_1.1.0.tar.gz'