| Back to Build/check report for BioC 3.17 |
|
This page was generated on 2023-01-02 09:00:56 -0500 (Mon, 02 Jan 2023).
| Hostname | OS | Arch (*) | R version | Installed pkgs |
|---|---|---|---|---|
| palomino5 | Windows Server 2022 Datacenter | x64 | R Under development (unstable) (2022-12-25 r83502 ucrt) -- "Unsuffered Consequences" | 4165 |
| Click on any hostname to see more info about the system (e.g. compilers) (*) as reported by 'uname -p', except on Windows and Mac OS X | ||||
|
To the developers/maintainers of the wpm package: Make sure to use the following settings in order to reproduce any error or warning you see on this page. |
| Package 2140/2158 | Hostname | OS / Arch | INSTALL | BUILD | CHECK | BUILD BIN | ||||||||
| wpm 1.9.0 (landing page) Helene Borges
| palomino5 | Windows Server 2022 Datacenter / x64 | OK | OK | OK | OK | ||||||||
| Package: wpm |
| Version: 1.9.0 |
| Command: rm -rf wpm.buildbin-libdir && mkdir wpm.buildbin-libdir && F:\biocbuild\bbs-3.17-bioc\R\bin\R.exe CMD INSTALL --build --library=wpm.buildbin-libdir wpm_1.9.0.tar.gz |
| StartedAt: 2022-12-29 05:54:30 -0500 (Thu, 29 Dec 2022) |
| EndedAt: 2022-12-29 05:54:37 -0500 (Thu, 29 Dec 2022) |
| EllapsedTime: 7.3 seconds |
| RetCode: 0 |
| Status: OK |
| PackageFile: wpm_1.9.0.zip |
| PackageFileSize: 1.791 MiB |
##############################################################################
##############################################################################
###
### Running command:
###
### rm -rf wpm.buildbin-libdir && mkdir wpm.buildbin-libdir && F:\biocbuild\bbs-3.17-bioc\R\bin\R.exe CMD INSTALL --build --library=wpm.buildbin-libdir wpm_1.9.0.tar.gz
###
##############################################################################
##############################################################################
* installing *source* package 'wpm' ...
** using staged installation
** R
** data
** inst
** byte-compile and prepare package for lazy loading
** help
*** installing help indices
** building package indices
** installing vignettes
** testing if installed package can be loaded from temporary location
── This is the Well-Plate Maker package. ───────────────────────────────────────
If you want to use the shiny application, then simply run: `wpm()`.If you want
to see the Tutorial vignette and use WPM in command line, run:
`browseVignettes('wpm')`.
** testing if installed package can be loaded from final location
── This is the Well-Plate Maker package. ───────────────────────────────────────
If you want to use the shiny application, then simply run: `wpm()`.If you want
to see the Tutorial vignette and use WPM in command line, run:
`browseVignettes('wpm')`.
** testing if installed package keeps a record of temporary installation path
* MD5 sums
packaged installation of 'wpm' as wpm_1.9.0.zip
* DONE (wpm)