Back to Build/check report for BioC 3.17
ABCDEFGHIJKLMNOPQRST[U]VWXYZ

This page was generated on 2023-01-02 09:00:55 -0500 (Mon, 02 Jan 2023).

HostnameOSArch (*)R versionInstalled pkgs
palomino5Windows Server 2022 Datacenterx64R Under development (unstable) (2022-12-25 r83502 ucrt) -- "Unsuffered Consequences" 4165
Click on any hostname to see more info about the system (e.g. compilers)      (*) as reported by 'uname -p', except on Windows and Mac OS X

BUILD results for uncoverappLib on palomino5


To the developers/maintainers of the uncoverappLib package:
Make sure to use the following settings in order to reproduce any error or warning you see on this page.

raw results

Package 2097/2158HostnameOS / ArchINSTALLBUILDCHECKBUILD BIN
uncoverappLib 1.9.0  (landing page)
Emanuela Iovino
Snapshot Date: 2022-12-28 11:00:06 -0500 (Wed, 28 Dec 2022)
git_url: https://git.bioconductor.org/packages/uncoverappLib
git_branch: master
git_last_commit: ce8dbae
git_last_commit_date: 2022-11-01 11:22:34 -0500 (Tue, 01 Nov 2022)
palomino5Windows Server 2022 Datacenter / x64  OK    OK    ERROR    OK  

Summary

Package: uncoverappLib
Version: 1.9.0
Command: chmod a+r uncoverappLib -R && F:\biocbuild\bbs-3.17-bioc\R\bin\R.exe CMD build --keep-empty-dirs --no-resave-data uncoverappLib
StartedAt: 2022-12-28 21:06:05 -0500 (Wed, 28 Dec 2022)
EndedAt: 2022-12-28 21:07:12 -0500 (Wed, 28 Dec 2022)
EllapsedTime: 68.0 seconds
RetCode: 0
Status:   OK  
PackageFile: uncoverappLib_1.9.0.tar.gz
PackageFileSize: 3.43 MiB

Command output

##############################################################################
##############################################################################
###
### Running command:
###
###   chmod a+r uncoverappLib -R && F:\biocbuild\bbs-3.17-bioc\R\bin\R.exe CMD build --keep-empty-dirs --no-resave-data uncoverappLib
###
##############################################################################
##############################################################################


* checking for file 'uncoverappLib/DESCRIPTION' ... OK
* preparing 'uncoverappLib':
* checking DESCRIPTION meta-information ... OK
* installing the package to build vignettes
* creating vignettes ... OK
* checking for LF line-endings in source and make files and shell scripts
* checking for empty or unneeded directories
Omitted 'LazyData' from DESCRIPTION
* building 'uncoverappLib_1.9.0.tar.gz'