| Back to Build/check report for BioC 3.17 |
|
This page was generated on 2023-01-02 09:00:55 -0500 (Mon, 02 Jan 2023).
| Hostname | OS | Arch (*) | R version | Installed pkgs |
|---|---|---|---|---|
| palomino5 | Windows Server 2022 Datacenter | x64 | R Under development (unstable) (2022-12-25 r83502 ucrt) -- "Unsuffered Consequences" | 4165 |
| Click on any hostname to see more info about the system (e.g. compilers) (*) as reported by 'uname -p', except on Windows and Mac OS X | ||||
|
To the developers/maintainers of the trigger package: Make sure to use the following settings in order to reproduce any error or warning you see on this page. |
| Package 2073/2158 | Hostname | OS / Arch | INSTALL | BUILD | CHECK | BUILD BIN | ||||||||
| trigger 1.45.0 (landing page) John D. Storey
| palomino5 | Windows Server 2022 Datacenter / x64 | OK | OK | OK | OK | ||||||||
| Package: trigger |
| Version: 1.45.0 |
| Command: F:\biocbuild\bbs-3.17-bioc\R\bin\R.exe CMD check --no-multiarch --install=check:trigger.install-out.txt --library=F:\biocbuild\bbs-3.17-bioc\R\library --no-vignettes --timings trigger_1.45.0.tar.gz |
| StartedAt: 2022-12-29 04:20:18 -0500 (Thu, 29 Dec 2022) |
| EndedAt: 2022-12-29 04:22:47 -0500 (Thu, 29 Dec 2022) |
| EllapsedTime: 149.0 seconds |
| RetCode: 0 |
| Status: OK |
| CheckDir: trigger.Rcheck |
| Warnings: 0 |
##############################################################################
##############################################################################
###
### Running command:
###
### F:\biocbuild\bbs-3.17-bioc\R\bin\R.exe CMD check --no-multiarch --install=check:trigger.install-out.txt --library=F:\biocbuild\bbs-3.17-bioc\R\library --no-vignettes --timings trigger_1.45.0.tar.gz
###
##############################################################################
##############################################################################
* using log directory 'F:/biocbuild/bbs-3.17-bioc-rtools43/meat/trigger.Rcheck'
* using R Under development (unstable) (2022-12-25 r83502 ucrt)
* using platform: x86_64-w64-mingw32 (64-bit)
* R was compiled by
gcc.exe (GCC) 10.4.0
GNU Fortran (GCC) 10.4.0
* running under: Windows Server x64 (build 20348)
* using session charset: UTF-8
* using option '--no-vignettes'
* checking for file 'trigger/DESCRIPTION' ... OK
* checking extension type ... Package
* this is package 'trigger' version '1.45.0'
* checking package namespace information ... OK
* checking package dependencies ... OK
* checking if this is a source package ... OK
* checking if there is a namespace ... OK
* checking for hidden files and directories ... OK
* checking for portable file names ... OK
* checking whether package 'trigger' can be installed ... OK
* used C compiler: 'gcc.exe (GCC) 12.2.0'
* checking installed package size ... OK
* checking package directory ... OK
* checking 'build' directory ... OK
* checking DESCRIPTION meta-information ... OK
* checking top-level files ... OK
* checking for left-over files ... OK
* checking index information ... OK
* checking package subdirectories ... OK
* checking R files for non-ASCII characters ... OK
* checking R files for syntax errors ... OK
* checking whether the package can be loaded ... OK
* checking whether the package can be loaded with stated dependencies ... OK
* checking whether the package can be unloaded cleanly ... OK
* checking whether the namespace can be loaded with stated dependencies ... OK
* checking whether the namespace can be unloaded cleanly ... OK
* checking dependencies in R code ... OK
* checking S3 generic/method consistency ... OK
* checking replacement functions ... OK
* checking foreign function calls ... OK
* checking R code for possible problems ... NOTE
initialize,trigger: no visible global function definition for
'callNextMethod'
Undefined global functions or variables:
callNextMethod
Consider adding
importFrom("methods", "callNextMethod")
to your NAMESPACE file (and ensure that your DESCRIPTION Imports field
contains 'methods').
* checking Rd files ... OK
* checking Rd metadata ... OK
* checking Rd cross-references ... OK
* checking for missing documentation entries ... OK
* checking for code/documentation mismatches ... OK
* checking Rd \usage sections ... OK
* checking Rd contents ... OK
* checking for unstated dependencies in examples ... OK
* checking contents of 'data' directory ... OK
* checking data for non-ASCII characters ... OK
* checking data for ASCII and uncompressed saves ... OK
* checking line endings in C/C++/Fortran sources/headers ... OK
* checking compiled code ... NOTE
Note: information on .o files for x64 is not available
File 'F:/biocbuild/bbs-3.17-bioc/R/library/trigger/libs/x64/trigger.dll':
Found 'abort', possibly from 'abort' (C), 'runtime' (Fortran)
Compiled code should not call entry points which might terminate R nor
write to stdout/stderr instead of to the console, nor use Fortran I/O
nor system RNGs nor [v]sprintf. The detected symbols are linked into
the code but might come from libraries and not actually be called.
See 'Writing portable packages' in the 'Writing R Extensions' manual.
* checking sizes of PDF files under 'inst/doc' ... OK
* checking files in 'vignettes' ... OK
* checking examples ... OK
Examples with CPU (user + system) or elapsed time > 5s
user system elapsed
trigger-export2cross 24.23 1.11 25.35
* checking for unstated dependencies in vignettes ... OK
* checking package vignettes in 'inst/doc' ... OK
* checking running R code from vignettes ... SKIPPED
* checking re-building of vignette outputs ... SKIPPED
* checking PDF version of manual ... OK
* DONE
Status: 2 NOTEs
See
'F:/biocbuild/bbs-3.17-bioc-rtools43/meat/trigger.Rcheck/00check.log'
for details.
trigger.Rcheck/00install.out
##############################################################################
##############################################################################
###
### Running command:
###
### F:\biocbuild\bbs-3.17-bioc\R\bin\R.exe CMD INSTALL trigger
###
##############################################################################
##############################################################################
* installing to library 'F:/biocbuild/bbs-3.17-bioc/R/library'
* installing *source* package 'trigger' ...
** using staged installation
** libs
using C compiler: 'gcc.exe (GCC) 12.2.0'
gcc -I"F:/biocbuild/bbs-3.17-bioc/R/include" -DNDEBUG -I"c:/rtools42/x86_64-w64-mingw32.static.posix/include" -O2 -Wall -std=gnu99 -mfpmath=sse -msse2 -mstackrealign -c trigger.c -o trigger.o
trigger.c: In function 'mergeorder':
trigger.c:25:20: warning: variable 'n3' set but not used [-Wunused-but-set-variable]
25 | int i1,i2,i3,n1,n2,n3;
| ^~
trigger.c: In function 'sec_link_stat':
trigger.c:81:10: warning: variable 'nct' set but not used [-Wunused-but-set-variable]
81 | int ntr, nct, i, j;
| ^~~
trigger.c: In function 'sec_link_stat_x':
trigger.c:153:10: warning: variable 'nct' set but not used [-Wunused-but-set-variable]
153 | int ntr, nct, i, j, k, nk;
| ^~~
trigger.c: In function 'condi_indep_stat':
trigger.c:233:10: warning: variable 'nct' set but not used [-Wunused-but-set-variable]
233 | int ntr, nct, i, j;
| ^~~
trigger.c: In function 'condi_indep_stat_x':
trigger.c:310:10: warning: variable 'nct' set but not used [-Wunused-but-set-variable]
310 | int ntr, nct, i, j, k, nk;
| ^~~
trigger.c: In function 'condi_indep_stat_rx':
trigger.c:393:10: warning: variable 'nct' set but not used [-Wunused-but-set-variable]
393 | int ntr, nct, i, j, k, nk;
| ^~~
gcc -shared -s -static-libgcc -o trigger.dll tmp.def trigger.o -Lc:/rtools42/x86_64-w64-mingw32.static.posix/lib/x64 -Lc:/rtools42/x86_64-w64-mingw32.static.posix/lib -LF:/biocbuild/bbs-3.17-bioc/R/bin/x64 -lR
installing to F:/biocbuild/bbs-3.17-bioc/R/library/00LOCK-trigger/00new/trigger/libs/x64
** R
** data
** inst
** byte-compile and prepare package for lazy loading
** help
*** installing help indices
** building package indices
** installing vignettes
** testing if installed package can be loaded from temporary location
** testing if installed package can be loaded from final location
** testing if installed package keeps a record of temporary installation path
* DONE (trigger)
trigger.Rcheck/trigger-Ex.timings
| name | user | system | elapsed | |
| plot | 0 | 0 | 0 | |
| trigger-build | 0 | 0 | 0 | |
| trigger-eigenR2 | 0 | 0 | 0 | |
| trigger-export2cross | 24.23 | 1.11 | 25.35 | |
| trigger-link | 0 | 0 | 0 | |
| trigger-loclink | 0 | 0 | 0 | |
| trigger-mlink | 0 | 0 | 0 | |
| trigger-net | 0 | 0 | 0 | |
| trigger-netPlot2ps | 0 | 0 | 0 | |
| trigger-trait | 0 | 0 | 0 | |