Back to Build/check report for BioC 3.17 |
|
This page was generated on 2023-01-02 09:00:54 -0500 (Mon, 02 Jan 2023).
Hostname | OS | Arch (*) | R version | Installed pkgs |
---|---|---|---|---|
palomino5 | Windows Server 2022 Datacenter | x64 | R Under development (unstable) (2022-12-25 r83502 ucrt) -- "Unsuffered Consequences" | 4165 |
Click on any hostname to see more info about the system (e.g. compilers) (*) as reported by 'uname -p', except on Windows and Mac OS X |
To the developers/maintainers of the transomics2cytoscape package: Make sure to use the following settings in order to reproduce any error or warning you see on this page. |
Package 2059/2158 | Hostname | OS / Arch | INSTALL | BUILD | CHECK | BUILD BIN | ||||||||
transomics2cytoscape 1.9.0 (landing page) Kozo Nishida
| palomino5 | Windows Server 2022 Datacenter / x64 | OK | OK | OK | OK | ||||||||
Package: transomics2cytoscape |
Version: 1.9.0 |
Command: rm -rf transomics2cytoscape.buildbin-libdir && mkdir transomics2cytoscape.buildbin-libdir && F:\biocbuild\bbs-3.17-bioc\R\bin\R.exe CMD INSTALL --build --library=transomics2cytoscape.buildbin-libdir transomics2cytoscape_1.9.0.tar.gz |
StartedAt: 2022-12-29 05:52:15 -0500 (Thu, 29 Dec 2022) |
EndedAt: 2022-12-29 05:52:27 -0500 (Thu, 29 Dec 2022) |
EllapsedTime: 11.9 seconds |
RetCode: 0 |
Status: OK |
PackageFile: transomics2cytoscape_1.9.0.zip |
PackageFileSize: 8.428 MiB |
############################################################################## ############################################################################## ### ### Running command: ### ### rm -rf transomics2cytoscape.buildbin-libdir && mkdir transomics2cytoscape.buildbin-libdir && F:\biocbuild\bbs-3.17-bioc\R\bin\R.exe CMD INSTALL --build --library=transomics2cytoscape.buildbin-libdir transomics2cytoscape_1.9.0.tar.gz ### ############################################################################## ############################################################################## * installing *source* package 'transomics2cytoscape' ... ** using staged installation ** R ** inst ** byte-compile and prepare package for lazy loading ** help *** installing help indices *** copying figures ** building package indices ** installing vignettes ** testing if installed package can be loaded from temporary location ** testing if installed package can be loaded from final location ** testing if installed package keeps a record of temporary installation path * MD5 sums packaged installation of 'transomics2cytoscape' as transomics2cytoscape_1.9.0.zip * DONE (transomics2cytoscape)