| Back to Build/check report for BioC 3.17 |
|
This page was generated on 2023-01-02 09:00:54 -0500 (Mon, 02 Jan 2023).
| Hostname | OS | Arch (*) | R version | Installed pkgs |
|---|---|---|---|---|
| palomino5 | Windows Server 2022 Datacenter | x64 | R Under development (unstable) (2022-12-25 r83502 ucrt) -- "Unsuffered Consequences" | 4165 |
| Click on any hostname to see more info about the system (e.g. compilers) (*) as reported by 'uname -p', except on Windows and Mac OS X | ||||
|
To the developers/maintainers of the transcriptogramer package: Make sure to use the following settings in order to reproduce any error or warning you see on this page. |
| Package 2054/2158 | Hostname | OS / Arch | INSTALL | BUILD | CHECK | BUILD BIN | ||||||||
| transcriptogramer 1.21.0 (landing page) Diego Morais
| palomino5 | Windows Server 2022 Datacenter / x64 | OK | OK | OK | OK | ||||||||
| Package: transcriptogramer |
| Version: 1.21.0 |
| Command: F:\biocbuild\bbs-3.17-bioc\R\bin\R.exe CMD check --no-multiarch --install=check:transcriptogramer.install-out.txt --library=F:\biocbuild\bbs-3.17-bioc\R\library --no-vignettes --timings transcriptogramer_1.21.0.tar.gz |
| StartedAt: 2022-12-29 04:16:50 -0500 (Thu, 29 Dec 2022) |
| EndedAt: 2022-12-29 04:20:17 -0500 (Thu, 29 Dec 2022) |
| EllapsedTime: 207.1 seconds |
| RetCode: 0 |
| Status: OK |
| CheckDir: transcriptogramer.Rcheck |
| Warnings: 0 |
##############################################################################
##############################################################################
###
### Running command:
###
### F:\biocbuild\bbs-3.17-bioc\R\bin\R.exe CMD check --no-multiarch --install=check:transcriptogramer.install-out.txt --library=F:\biocbuild\bbs-3.17-bioc\R\library --no-vignettes --timings transcriptogramer_1.21.0.tar.gz
###
##############################################################################
##############################################################################
* using log directory 'F:/biocbuild/bbs-3.17-bioc-rtools43/meat/transcriptogramer.Rcheck'
* using R Under development (unstable) (2022-12-25 r83502 ucrt)
* using platform: x86_64-w64-mingw32 (64-bit)
* R was compiled by
gcc.exe (GCC) 10.4.0
GNU Fortran (GCC) 10.4.0
* running under: Windows Server x64 (build 20348)
* using session charset: UTF-8
* using option '--no-vignettes'
* checking for file 'transcriptogramer/DESCRIPTION' ... OK
* checking extension type ... Package
* this is package 'transcriptogramer' version '1.21.0'
* package encoding: UTF-8
* checking package namespace information ... OK
* checking package dependencies ... OK
* checking if this is a source package ... OK
* checking if there is a namespace ... OK
* checking for hidden files and directories ... OK
* checking for portable file names ... OK
* checking whether package 'transcriptogramer' can be installed ... OK
* checking installed package size ... NOTE
installed size is 5.6Mb
sub-directories of 1Mb or more:
data 5.0Mb
* checking package directory ... OK
* checking 'build' directory ... OK
* checking DESCRIPTION meta-information ... OK
* checking top-level files ... OK
* checking for left-over files ... OK
* checking index information ... OK
* checking package subdirectories ... OK
* checking R files for non-ASCII characters ... OK
* checking R files for syntax errors ... OK
* checking whether the package can be loaded ... OK
* checking whether the package can be loaded with stated dependencies ... OK
* checking whether the package can be unloaded cleanly ... OK
* checking whether the namespace can be loaded with stated dependencies ... OK
* checking whether the namespace can be unloaded cleanly ... OK
* checking dependencies in R code ... OK
* checking S3 generic/method consistency ... OK
* checking replacement functions ... OK
* checking foreign function calls ... OK
* checking R code for possible problems ... OK
* checking Rd files ... OK
* checking Rd metadata ... OK
* checking Rd cross-references ... OK
* checking for missing documentation entries ... OK
* checking for code/documentation mismatches ... OK
* checking Rd \usage sections ... OK
* checking Rd contents ... OK
* checking for unstated dependencies in examples ... OK
* checking contents of 'data' directory ... OK
* checking data for non-ASCII characters ... OK
* checking LazyData ... OK
* checking data for ASCII and uncompressed saves ... OK
* checking files in 'vignettes' ... OK
* checking examples ... OK
* checking for unstated dependencies in 'tests' ... OK
* checking tests ...
Running 'runTests.R'
OK
* checking for unstated dependencies in vignettes ... OK
* checking package vignettes in 'inst/doc' ... OK
* checking running R code from vignettes ... SKIPPED
* checking re-building of vignette outputs ... SKIPPED
* checking PDF version of manual ... OK
* DONE
Status: 1 NOTE
See
'F:/biocbuild/bbs-3.17-bioc-rtools43/meat/transcriptogramer.Rcheck/00check.log'
for details.
transcriptogramer.Rcheck/00install.out
############################################################################## ############################################################################## ### ### Running command: ### ### F:\biocbuild\bbs-3.17-bioc\R\bin\R.exe CMD INSTALL transcriptogramer ### ############################################################################## ############################################################################## * installing to library 'F:/biocbuild/bbs-3.17-bioc/R/library' * installing *source* package 'transcriptogramer' ... ** using staged installation ** R ** data *** moving datasets to lazyload DB ** inst ** byte-compile and prepare package for lazy loading ** help *** installing help indices ** building package indices ** installing vignettes ** testing if installed package can be loaded from temporary location ** testing if installed package can be loaded from final location ** testing if installed package keeps a record of temporary installation path * DONE (transcriptogramer)
transcriptogramer.Rcheck/tests/runTests.Rout
R Under development (unstable) (2022-12-25 r83502 ucrt) -- "Unsuffered Consequences"
Copyright (C) 2022 The R Foundation for Statistical Computing
Platform: x86_64-w64-mingw32/x64 (64-bit)
R is free software and comes with ABSOLUTELY NO WARRANTY.
You are welcome to redistribute it under certain conditions.
Type 'license()' or 'licence()' for distribution details.
R is a collaborative project with many contributors.
Type 'contributors()' for more information and
'citation()' on how to cite R or R packages in publications.
Type 'demo()' for some demos, 'help()' for on-line help, or
'help.start()' for an HTML browser interface to help.
Type 'q()' to quit R.
> BiocGenerics:::testPackage("transcriptogramer")
preprocessing input data... step 1 of 1
calculating node properties... step 1 of 2
** this may take some time...
applying sliding window and mounting resulting data... step 2 of 2
** this may take some time...
done!
mapping identifiers to ENSEMBL Peptide ID... step 1 of 2
averaging over all identifiers related to the same protein... step 2 of 2
done!
applying sliding window and mounting resulting data... step 1 of 1
done!
RUNIT TEST PROTOCOL -- Thu Dec 29 04:20:03 2022
***********************************************
Number of test functions: 3
Number of errors: 0
Number of failures: 0
1 Test Suite :
transcriptogramer RUnit Tests - 3 test functions, 0 errors, 0 failures
Number of test functions: 3
Number of errors: 0
Number of failures: 0
>
> proc.time()
user system elapsed
7.95 1.17 70.87
transcriptogramer.Rcheck/transcriptogramer-Ex.timings
| name | user | system | elapsed | |
| DE-method | 0.97 | 0.01 | 0.99 | |
| DEsymbols | 0.19 | 0.13 | 0.31 | |
| GPL570 | 0.80 | 0.28 | 1.09 | |
| GSE9988 | 0.75 | 0.29 | 1.05 | |
| Hs700 | 0.14 | 0.06 | 0.20 | |
| Hs800 | 0.12 | 0.04 | 0.17 | |
| Hs900 | 0.10 | 0.05 | 0.14 | |
| HsBPTerms | 1.00 | 0.31 | 1.32 | |
| Mm700 | 0.15 | 0.07 | 0.21 | |
| Mm800 | 0.13 | 0.07 | 0.21 | |
| Mm900 | 0.08 | 0.07 | 0.14 | |
| Rn700 | 0.14 | 0.09 | 0.23 | |
| Rn800 | 0.09 | 0.09 | 0.19 | |
| Rn900 | 0.06 | 0.08 | 0.14 | |
| Sc700 | 0.07 | 0.00 | 0.06 | |
| Sc800 | 0.04 | 0.00 | 0.05 | |
| Sc900 | 0.03 | 0.01 | 0.04 | |
| Terms-method | 0.05 | 0.00 | 0.05 | |
| association | 1.11 | 0.43 | 1.53 | |
| clusterEnrichment-method | 0.02 | 0.00 | 0.02 | |
| clusterVisualization-method | 0.04 | 0.00 | 0.04 | |
| connectivityProperties-method | 0.03 | 0.00 | 0.03 | |
| differentiallyExpressed-method | 0.03 | 0.00 | 0.04 | |
| enrichmentPlot-method | 0.04 | 0.00 | 0.03 | |
| orderingProperties-method | 0.03 | 0.00 | 0.03 | |
| radius-method | 0.03 | 0.00 | 0.03 | |
| transcriptogramPreprocess | 0.37 | 0.00 | 0.37 | |
| transcriptogramStep1-method | 0.02 | 0.00 | 0.02 | |
| transcriptogramStep2-method | 0.01 | 0.01 | 0.03 | |