| Back to Build/check report for BioC 3.17 |
|
This page was generated on 2023-01-02 09:00:54 -0500 (Mon, 02 Jan 2023).
| Hostname | OS | Arch (*) | R version | Installed pkgs |
|---|---|---|---|---|
| palomino5 | Windows Server 2022 Datacenter | x64 | R Under development (unstable) (2022-12-25 r83502 ucrt) -- "Unsuffered Consequences" | 4165 |
| Click on any hostname to see more info about the system (e.g. compilers) (*) as reported by 'uname -p', except on Windows and Mac OS X | ||||
|
To the developers/maintainers of the transcriptR package: Make sure to use the following settings in order to reproduce any error or warning you see on this page. |
| Package 2055/2158 | Hostname | OS / Arch | INSTALL | BUILD | CHECK | BUILD BIN | ||||||||
| transcriptR 1.27.0 (landing page) Armen R. Karapetyan
| palomino5 | Windows Server 2022 Datacenter / x64 | OK | OK | OK | OK | ||||||||
| Package: transcriptR |
| Version: 1.27.0 |
| Command: chmod a+r transcriptR -R && F:\biocbuild\bbs-3.17-bioc\R\bin\R.exe CMD build --keep-empty-dirs --no-resave-data transcriptR |
| StartedAt: 2022-12-28 21:01:55 -0500 (Wed, 28 Dec 2022) |
| EndedAt: 2022-12-28 21:03:09 -0500 (Wed, 28 Dec 2022) |
| EllapsedTime: 74.1 seconds |
| RetCode: 0 |
| Status: OK |
| PackageFile: transcriptR_1.27.0.tar.gz |
| PackageFileSize: 3.564 MiB |
##############################################################################
##############################################################################
###
### Running command:
###
### chmod a+r transcriptR -R && F:\biocbuild\bbs-3.17-bioc\R\bin\R.exe CMD build --keep-empty-dirs --no-resave-data transcriptR
###
##############################################################################
##############################################################################
* checking for file 'transcriptR/DESCRIPTION' ... OK
* preparing 'transcriptR':
* checking DESCRIPTION meta-information ... OK
* installing the package to build vignettes
* creating vignettes ... OK
* checking for LF line-endings in source and make files and shell scripts
* checking for empty or unneeded directories
* looking to see if a 'data/datalist' file should be added
NB: this package now depends on R (>= 3.5.0)
WARNING: Added dependency on R >= 3.5.0 because serialized objects in
serialize/load version 3 cannot be read in older versions of R.
File(s) containing such objects:
'transcriptR/data/annot.rda' 'transcriptR/data/cds.rda'
'transcriptR/data/tds.rda'
* building 'transcriptR_1.27.0.tar.gz'