| Back to Build/check report for BioC 3.17 | 
 | 
This page was generated on 2023-01-02 09:00:51 -0500 (Mon, 02 Jan 2023).
| Hostname | OS | Arch (*) | R version | Installed pkgs | 
|---|---|---|---|---|
| palomino5 | Windows Server 2022 Datacenter | x64 | R Under development (unstable) (2022-12-25 r83502 ucrt) -- "Unsuffered Consequences" | 4165 | 
| Click on any hostname to see more info about the system (e.g. compilers) (*) as reported by 'uname -p', except on Windows and Mac OS X | ||||
| To the developers/maintainers of the soGGi package: Make sure to use the following settings in order to reproduce any error or warning you see on this page. | 
| Package 1894/2158 | Hostname | OS / Arch | INSTALL | BUILD | CHECK | BUILD BIN | ||||||||
| soGGi 1.31.0  (landing page) Tom Carroll 
 | palomino5 | Windows Server 2022 Datacenter / x64 | OK | OK | OK | OK | ||||||||
| Package: soGGi | 
| Version: 1.31.0 | 
| Command: chmod a+r soGGi -R && F:\biocbuild\bbs-3.17-bioc\R\bin\R.exe CMD build --keep-empty-dirs --no-resave-data soGGi | 
| StartedAt: 2022-12-28 20:43:00 -0500 (Wed, 28 Dec 2022) | 
| EndedAt: 2022-12-28 20:44:12 -0500 (Wed, 28 Dec 2022) | 
| EllapsedTime: 71.9 seconds | 
| RetCode: 0 | 
| Status: OK | 
| PackageFile: soGGi_1.31.0.tar.gz | 
| PackageFileSize: 3.053 MiB | 
##############################################################################
##############################################################################
###
### Running command:
###
###   chmod a+r soGGi -R && F:\biocbuild\bbs-3.17-bioc\R\bin\R.exe CMD build --keep-empty-dirs --no-resave-data soGGi
###
##############################################################################
##############################################################################
* checking for file 'soGGi/DESCRIPTION' ... OK
* preparing 'soGGi':
* checking DESCRIPTION meta-information ... OK
* installing the package to build vignettes
* creating vignettes ... OK
Warning: 'inst/doc' files
    'soggi.Rnw', 'soggi.pdf'
  ignored as vignettes have been rebuilt.
  Run R CMD build with --no-build-vignettes to prevent rebuilding.
* checking for LF line-endings in source and make files and shell scripts
* checking for empty or unneeded directories
* looking to see if a 'data/datalist' file should be added
  NB: this package now depends on R (>= 3.5.0)
  WARNING: Added dependency on R >= 3.5.0 because serialized objects in
  serialize/load version 3 cannot be read in older versions of R.
  File(s) containing such objects:
    'soGGi/data/chipExampleBig.rda' 'soGGi/data/ik_Example.rda'
    'soGGi/data/ik_Profiles.rda' 'soGGi/data/singleGRange.rda'
* building 'soGGi_1.31.0.tar.gz'