| Back to Build/check report for BioC 3.17 |
|
This page was generated on 2023-01-02 09:00:51 -0500 (Mon, 02 Jan 2023).
| Hostname | OS | Arch (*) | R version | Installed pkgs |
|---|---|---|---|---|
| palomino5 | Windows Server 2022 Datacenter | x64 | R Under development (unstable) (2022-12-25 r83502 ucrt) -- "Unsuffered Consequences" | 4165 |
| Click on any hostname to see more info about the system (e.g. compilers) (*) as reported by 'uname -p', except on Windows and Mac OS X | ||||
|
To the developers/maintainers of the sitePath package: Make sure to use the following settings in order to reproduce any error or warning you see on this page. |
| Package 1876/2158 | Hostname | OS / Arch | INSTALL | BUILD | CHECK | BUILD BIN | ||||||||
| sitePath 1.15.0 (landing page) Chengyang Ji
| palomino5 | Windows Server 2022 Datacenter / x64 | OK | OK | OK | OK | ||||||||
| Package: sitePath |
| Version: 1.15.0 |
| Command: rm -rf sitePath.buildbin-libdir && mkdir sitePath.buildbin-libdir && F:\biocbuild\bbs-3.17-bioc\R\bin\R.exe CMD INSTALL --build --library=sitePath.buildbin-libdir sitePath_1.15.0.tar.gz |
| StartedAt: 2022-12-29 05:46:30 -0500 (Thu, 29 Dec 2022) |
| EndedAt: 2022-12-29 05:47:19 -0500 (Thu, 29 Dec 2022) |
| EllapsedTime: 48.7 seconds |
| RetCode: 0 |
| Status: OK |
| PackageFile: sitePath_1.15.0.zip |
| PackageFileSize: 1.299 MiB |
##############################################################################
##############################################################################
###
### Running command:
###
### rm -rf sitePath.buildbin-libdir && mkdir sitePath.buildbin-libdir && F:\biocbuild\bbs-3.17-bioc\R\bin\R.exe CMD INSTALL --build --library=sitePath.buildbin-libdir sitePath_1.15.0.tar.gz
###
##############################################################################
##############################################################################
* installing *source* package 'sitePath' ...
** using staged installation
** libs
using C++ compiler: 'G__~1.EXE (GCC) 12.2.0'
g++ -std=gnu++11 -I"F:/biocbuild/bbs-3.17-bioc/R/include" -DNDEBUG -I'F:/biocbuild/bbs-3.17-bioc/R/library/Rcpp/include' -I"c:/rtools42/x86_64-w64-mingw32.static.posix/include" -O2 -Wall -mfpmath=sse -msse2 -mstackrealign -c RcppExports.cpp -o RcppExports.o
g++ -std=gnu++11 -I"F:/biocbuild/bbs-3.17-bioc/R/include" -DNDEBUG -I'F:/biocbuild/bbs-3.17-bioc/R/library/Rcpp/include' -I"c:/rtools42/x86_64-w64-mingw32.static.posix/include" -O2 -Wall -mfpmath=sse -msse2 -mstackrealign -c lumpyCluster.cpp -o lumpyCluster.o
lumpyCluster.cpp: In member function 'void LumpyCluster::Base::mergeClusters(const Treemer::clusters&, int)':
lumpyCluster.cpp:96:24: warning: comparison of integer expressions of different signedness: 'std::vector<Treemer::TipSeqLinker*>::size_type' {aka 'long long unsigned int'} and 'const int' [-Wsign-compare]
96 | if (allTips.size() >= m_maxSNPnum) {
| ~~~~~~~~~~~~~~~^~~~~~~~~~~~~~
g++ -std=gnu++11 -I"F:/biocbuild/bbs-3.17-bioc/R/include" -DNDEBUG -I'F:/biocbuild/bbs-3.17-bioc/R/library/Rcpp/include' -I"c:/rtools42/x86_64-w64-mingw32.static.posix/include" -O2 -Wall -mfpmath=sse -msse2 -mstackrealign -c minEntropy.cpp -o minEntropy.o
g++ -std=gnu++11 -I"F:/biocbuild/bbs-3.17-bioc/R/include" -DNDEBUG -I'F:/biocbuild/bbs-3.17-bioc/R/library/Rcpp/include' -I"c:/rtools42/x86_64-w64-mingw32.static.posix/include" -O2 -Wall -mfpmath=sse -msse2 -mstackrealign -c searchNode.cpp -o searchNode.o
g++ -std=gnu++11 -I"F:/biocbuild/bbs-3.17-bioc/R/include" -DNDEBUG -I'F:/biocbuild/bbs-3.17-bioc/R/library/Rcpp/include' -I"c:/rtools42/x86_64-w64-mingw32.static.posix/include" -O2 -Wall -mfpmath=sse -msse2 -mstackrealign -c searchTree.cpp -o searchTree.o
g++ -std=gnu++11 -I"F:/biocbuild/bbs-3.17-bioc/R/include" -DNDEBUG -I'F:/biocbuild/bbs-3.17-bioc/R/library/Rcpp/include' -I"c:/rtools42/x86_64-w64-mingw32.static.posix/include" -O2 -Wall -mfpmath=sse -msse2 -mstackrealign -c treemer.cpp -o treemer.o
g++ -std=gnu++11 -I"F:/biocbuild/bbs-3.17-bioc/R/include" -DNDEBUG -I'F:/biocbuild/bbs-3.17-bioc/R/library/Rcpp/include' -I"c:/rtools42/x86_64-w64-mingw32.static.posix/include" -O2 -Wall -mfpmath=sse -msse2 -mstackrealign -c util.cpp -o util.o
g++ -std=gnu++11 -shared -s -static-libgcc -o sitePath.dll tmp.def RcppExports.o lumpyCluster.o minEntropy.o searchNode.o searchTree.o treemer.o util.o -Lc:/rtools42/x86_64-w64-mingw32.static.posix/lib/x64 -Lc:/rtools42/x86_64-w64-mingw32.static.posix/lib -LF:/biocbuild/bbs-3.17-bioc/R/bin/x64 -lR
installing to F:/biocbuild/bbs-3.17-bioc-rtools43/meat/sitePath.buildbin-libdir/00LOCK-sitePath/00new/sitePath/libs/x64
** R
** data
** inst
** byte-compile and prepare package for lazy loading
** help
*** installing help indices
** building package indices
** installing vignettes
** testing if installed package can be loaded from temporary location
** testing if installed package can be loaded from final location
** testing if installed package keeps a record of temporary installation path
* MD5 sums
packaged installation of 'sitePath' as sitePath_1.15.0.zip
* DONE (sitePath)