| Back to Build/check report for BioC 3.17 |
|
This page was generated on 2023-01-02 09:00:49 -0500 (Mon, 02 Jan 2023).
| Hostname | OS | Arch (*) | R version | Installed pkgs |
|---|---|---|---|---|
| palomino5 | Windows Server 2022 Datacenter | x64 | R Under development (unstable) (2022-12-25 r83502 ucrt) -- "Unsuffered Consequences" | 4165 |
| Click on any hostname to see more info about the system (e.g. compilers) (*) as reported by 'uname -p', except on Windows and Mac OS X | ||||
|
To the developers/maintainers of the scde package: Make sure to use the following settings in order to reproduce any error or warning you see on this page. |
| Package 1776/2158 | Hostname | OS / Arch | INSTALL | BUILD | CHECK | BUILD BIN | ||||||||
| scde 2.27.0 (landing page) Jean Fan
| palomino5 | Windows Server 2022 Datacenter / x64 | OK | OK | WARNINGS | OK | ||||||||
| Package: scde |
| Version: 2.27.0 |
| Command: rm -rf scde.buildbin-libdir && mkdir scde.buildbin-libdir && F:\biocbuild\bbs-3.17-bioc\R\bin\R.exe CMD INSTALL --build --library=scde.buildbin-libdir scde_2.27.0.tar.gz |
| StartedAt: 2022-12-29 05:42:49 -0500 (Thu, 29 Dec 2022) |
| EndedAt: 2022-12-29 05:43:58 -0500 (Thu, 29 Dec 2022) |
| EllapsedTime: 68.3 seconds |
| RetCode: 0 |
| Status: OK |
| PackageFile: scde_2.27.0.zip |
| PackageFileSize: 2.488 MiB |
##############################################################################
##############################################################################
###
### Running command:
###
### rm -rf scde.buildbin-libdir && mkdir scde.buildbin-libdir && F:\biocbuild\bbs-3.17-bioc\R\bin\R.exe CMD INSTALL --build --library=scde.buildbin-libdir scde_2.27.0.tar.gz
###
##############################################################################
##############################################################################
* installing *source* package 'scde' ...
** using staged installation
** libs
using C++ compiler: 'G__~1.EXE (GCC) 12.2.0'
g++ -std=gnu++11 -I"F:/biocbuild/bbs-3.17-bioc/R/include" -DNDEBUG -I'F:/biocbuild/bbs-3.17-bioc/R/library/Rcpp/include' -I'F:/biocbuild/bbs-3.17-bioc/R/library/RcppArmadillo/include' -I"c:/rtools42/x86_64-w64-mingw32.static.posix/include" -O2 -Wall -mfpmath=sse -msse2 -mstackrealign -c bwpca.cpp -o bwpca.o
bwpca.cpp: In function 'void set_random_matrix(arma::mat&, arma::mat&)':
bwpca.cpp:23:18: warning: comparison of integer expressions of different signedness: 'int' and 'const arma::uword' {aka 'const unsigned int'} [-Wsign-compare]
23 | for(int j=0;j<target.n_rows;j++) {
| ~^~~~~~~~~~~~~~
bwpca.cpp:27:18: warning: comparison of integer expressions of different signedness: 'int' and 'const arma::uword' {aka 'const unsigned int'} [-Wsign-compare]
27 | for(int i=0;i<target.n_cols;i++) {
| ~^~~~~~~~~~~~~~
bwpca.cpp:30:22: warning: comparison of integer expressions of different signedness: 'int' and 'const arma::uword' {aka 'const unsigned int'} [-Wsign-compare]
30 | for(int j=0;j<target.n_rows;j++) {
| ~^~~~~~~~~~~~~~
bwpca.cpp: In function 'void set_random_matrices(arma::mat&, arma::mat&, arma::mat&, arma::mat&)':
bwpca.cpp:40:18: warning: comparison of integer expressions of different signedness: 'int' and 'const arma::uword' {aka 'const unsigned int'} [-Wsign-compare]
40 | for(int j=0;j<target1.n_rows;j++) {
| ~^~~~~~~~~~~~~~~
bwpca.cpp:44:18: warning: comparison of integer expressions of different signedness: 'int' and 'const arma::uword' {aka 'const unsigned int'} [-Wsign-compare]
44 | for(int i=0;i<target1.n_cols;i++) {
| ~^~~~~~~~~~~~~~~
bwpca.cpp:47:22: warning: comparison of integer expressions of different signedness: 'int' and 'const arma::uword' {aka 'const unsigned int'} [-Wsign-compare]
47 | for(int j=0;j<target1.n_rows;j++) {
| ~^~~~~~~~~~~~~~~
g++ -std=gnu++11 -I"F:/biocbuild/bbs-3.17-bioc/R/include" -DNDEBUG -I'F:/biocbuild/bbs-3.17-bioc/R/library/Rcpp/include' -I'F:/biocbuild/bbs-3.17-bioc/R/library/RcppArmadillo/include' -I"c:/rtools42/x86_64-w64-mingw32.static.posix/include" -O2 -Wall -mfpmath=sse -msse2 -mstackrealign -c jpmatLogBoot.cpp -o jpmatLogBoot.o
jpmatLogBoot.cpp: In function 'SEXPREC* logBootPosterior(SEXP, SEXP, SEXP, SEXP, SEXP, SEXP, SEXP, SEXP, SEXP, SEXP)':
jpmatLogBoot.cpp:200:24: warning: unused variable 'maxv' [-Wunused-variable]
200 | double maxv=nbp.max(maxij);
| ^~~~
jpmatLogBoot.cpp: In function 'SEXPREC* logBootBatchPosterior(SEXP, SEXP, SEXP, SEXP, SEXP, SEXP, SEXP, SEXP, SEXP, SEXP, SEXP)':
jpmatLogBoot.cpp:443:24: warning: unused variable 'maxv' [-Wunused-variable]
443 | double maxv=nbp.max(maxij);
| ^~~~
g++ -std=gnu++11 -I"F:/biocbuild/bbs-3.17-bioc/R/include" -DNDEBUG -I'F:/biocbuild/bbs-3.17-bioc/R/library/Rcpp/include' -I'F:/biocbuild/bbs-3.17-bioc/R/library/RcppArmadillo/include' -I"c:/rtools42/x86_64-w64-mingw32.static.posix/include" -O2 -Wall -mfpmath=sse -msse2 -mstackrealign -c matSlideMult.cpp -o matSlideMult.o
g++ -std=gnu++11 -I"F:/biocbuild/bbs-3.17-bioc/R/include" -DNDEBUG -I'F:/biocbuild/bbs-3.17-bioc/R/library/Rcpp/include' -I'F:/biocbuild/bbs-3.17-bioc/R/library/RcppArmadillo/include' -I"c:/rtools42/x86_64-w64-mingw32.static.posix/include" -O2 -Wall -mfpmath=sse -msse2 -mstackrealign -c pagoda.cpp -o pagoda.o
g++ -std=gnu++11 -shared -s -static-libgcc -o scde.dll tmp.def bwpca.o jpmatLogBoot.o matSlideMult.o pagoda.o -LF:/biocbuild/bbs-3.17-bioc/R/bin/x64 -lRlapack -LF:/biocbuild/bbs-3.17-bioc/R/bin/x64 -lRblas -lgfortran -lm -lquadmath -Lc:/rtools42/x86_64-w64-mingw32.static.posix/lib/x64 -Lc:/rtools42/x86_64-w64-mingw32.static.posix/lib -LF:/biocbuild/bbs-3.17-bioc/R/bin/x64 -lR
installing to F:/biocbuild/bbs-3.17-bioc-rtools43/meat/scde.buildbin-libdir/00LOCK-scde/00new/scde/libs/x64
** R
** data
*** moving datasets to lazyload DB
** byte-compile and prepare package for lazy loading
** help
*** installing help indices
** building package indices
** installing vignettes
** testing if installed package can be loaded from temporary location
** testing if installed package can be loaded from final location
** testing if installed package keeps a record of temporary installation path
* MD5 sums
packaged installation of 'scde' as scde_2.27.0.zip
* DONE (scde)