| Back to Build/check report for BioC 3.17 |
|
This page was generated on 2023-01-02 09:00:49 -0500 (Mon, 02 Jan 2023).
| Hostname | OS | Arch (*) | R version | Installed pkgs |
|---|---|---|---|---|
| palomino5 | Windows Server 2022 Datacenter | x64 | R Under development (unstable) (2022-12-25 r83502 ucrt) -- "Unsuffered Consequences" | 4165 |
| Click on any hostname to see more info about the system (e.g. compilers) (*) as reported by 'uname -p', except on Windows and Mac OS X | ||||
|
To the developers/maintainers of the scHOT package: Make sure to use the following settings in order to reproduce any error or warning you see on this page. |
| Package 1782/2158 | Hostname | OS / Arch | INSTALL | BUILD | CHECK | BUILD BIN | ||||||||
| scHOT 1.11.0 (landing page) Shila Ghazanfar
| palomino5 | Windows Server 2022 Datacenter / x64 | OK | OK | OK | OK | ||||||||
| Package: scHOT |
| Version: 1.11.0 |
| Command: F:\biocbuild\bbs-3.17-bioc\R\bin\R.exe CMD check --no-multiarch --install=check:scHOT.install-out.txt --library=F:\biocbuild\bbs-3.17-bioc\R\library --no-vignettes --timings scHOT_1.11.0.tar.gz |
| StartedAt: 2022-12-29 03:18:04 -0500 (Thu, 29 Dec 2022) |
| EndedAt: 2022-12-29 03:22:50 -0500 (Thu, 29 Dec 2022) |
| EllapsedTime: 285.7 seconds |
| RetCode: 0 |
| Status: OK |
| CheckDir: scHOT.Rcheck |
| Warnings: 0 |
##############################################################################
##############################################################################
###
### Running command:
###
### F:\biocbuild\bbs-3.17-bioc\R\bin\R.exe CMD check --no-multiarch --install=check:scHOT.install-out.txt --library=F:\biocbuild\bbs-3.17-bioc\R\library --no-vignettes --timings scHOT_1.11.0.tar.gz
###
##############################################################################
##############################################################################
* using log directory 'F:/biocbuild/bbs-3.17-bioc-rtools43/meat/scHOT.Rcheck'
* using R Under development (unstable) (2022-12-25 r83502 ucrt)
* using platform: x86_64-w64-mingw32 (64-bit)
* R was compiled by
gcc.exe (GCC) 10.4.0
GNU Fortran (GCC) 10.4.0
* running under: Windows Server x64 (build 20348)
* using session charset: UTF-8
* using option '--no-vignettes'
* checking for file 'scHOT/DESCRIPTION' ... OK
* checking extension type ... Package
* this is package 'scHOT' version '1.11.0'
* package encoding: UTF-8
* checking package namespace information ... OK
* checking package dependencies ... OK
* checking if this is a source package ... OK
* checking if there is a namespace ... OK
* checking for hidden files and directories ... OK
* checking for portable file names ... OK
* checking whether package 'scHOT' can be installed ... OK
* checking installed package size ... OK
* checking package directory ... OK
* checking 'build' directory ... OK
* checking DESCRIPTION meta-information ... OK
* checking top-level files ... OK
* checking for left-over files ... OK
* checking index information ... OK
* checking package subdirectories ... OK
* checking R files for non-ASCII characters ... OK
* checking R files for syntax errors ... OK
* checking whether the package can be loaded ... OK
* checking whether the package can be loaded with stated dependencies ... OK
* checking whether the package can be unloaded cleanly ... OK
* checking whether the namespace can be loaded with stated dependencies ... OK
* checking whether the namespace can be unloaded cleanly ... OK
* checking dependencies in R code ... OK
* checking S3 generic/method consistency ... OK
* checking replacement functions ... OK
* checking foreign function calls ... OK
* checking R code for possible problems ... OK
* checking Rd files ... OK
* checking Rd metadata ... OK
* checking Rd cross-references ... OK
* checking for missing documentation entries ... OK
* checking for code/documentation mismatches ... OK
* checking Rd \usage sections ... OK
* checking Rd contents ... OK
* checking for unstated dependencies in examples ... OK
* checking contents of 'data' directory ... OK
* checking data for non-ASCII characters ... OK
* checking LazyData ... OK
* checking data for ASCII and uncompressed saves ... OK
* checking files in 'vignettes' ... OK
* checking examples ... OK
Examples with CPU (user + system) or elapsed time > 5s
user system elapsed
scHOT 49.81 0.41 50.22
scHOT_estimatePvalues 46.40 0.33 46.74
scHOT_performPermutationTest 45.64 0.42 46.06
* checking for unstated dependencies in vignettes ... OK
* checking package vignettes in 'inst/doc' ... OK
* checking running R code from vignettes ... SKIPPED
* checking re-building of vignette outputs ... SKIPPED
* checking PDF version of manual ... OK
* DONE
Status: OK
scHOT.Rcheck/00install.out
############################################################################## ############################################################################## ### ### Running command: ### ### F:\biocbuild\bbs-3.17-bioc\R\bin\R.exe CMD INSTALL scHOT ### ############################################################################## ############################################################################## * installing to library 'F:/biocbuild/bbs-3.17-bioc/R/library' * installing *source* package 'scHOT' ... ** using staged installation ** R ** data *** moving datasets to lazyload DB ** byte-compile and prepare package for lazy loading ** help *** installing help indices ** building package indices ** installing vignettes ** testing if installed package can be loaded from temporary location ** testing if installed package can be loaded from final location ** testing if installed package keeps a record of temporary installation path * DONE (scHOT)
scHOT.Rcheck/scHOT-Ex.timings
| name | user | system | elapsed | |
| params-set | 0.25 | 0.03 | 0.28 | |
| plotColouredExpression | 0.75 | 0.06 | 0.81 | |
| plotHigherOrderSequence | 1.84 | 0.03 | 1.87 | |
| positionColData-set | 0.13 | 0.00 | 0.13 | |
| positionType-set | 0.11 | 0.00 | 0.11 | |
| scHOT | 49.81 | 0.41 | 50.22 | |
| scHOT_addTestingScaffold | 0.16 | 0.00 | 0.16 | |
| scHOT_buildFromMatrix | 0.09 | 0.02 | 0.11 | |
| scHOT_buildFromSCE | 0.30 | 0.04 | 0.34 | |
| scHOT_calculateGlobalHigherOrderFunction | 0.17 | 0.00 | 0.17 | |
| scHOT_calculateHigherOrderTestStatistics | 0.63 | 0.02 | 0.64 | |
| scHOT_estimatePvalues | 46.40 | 0.33 | 46.74 | |
| scHOT_output-set | 0.11 | 0.00 | 0.11 | |
| scHOT_performPermutationTest | 45.64 | 0.42 | 46.06 | |
| scHOT_setPermutationScaffold | 0.18 | 0.00 | 0.17 | |
| scHOT_setWeightMatrix | 0.15 | 0.00 | 0.16 | |
| scHOT_stripOutput | 0.13 | 0.00 | 0.12 | |
| spatialWeightMatrix | 0 | 0 | 0 | |
| testingScaffold-set | 0.12 | 0.00 | 0.13 | |
| thin | 0.00 | 0.01 | 0.01 | |
| trajectoryWeightMatrix | 0 | 0 | 0 | |
| weightMatrix-set | 0.25 | 0.02 | 0.27 | |
| weightedPearson | 0 | 0 | 0 | |
| weightedSpearman | 0 | 0 | 0 | |
| weightedVariance | 0 | 0 | 0 | |
| weightedZIKendall | 0 | 0 | 0 | |
| weightedZISpearman | 0.02 | 0.00 | 0.01 | |