| Back to Build/check report for BioC 3.17 |
|
This page was generated on 2023-01-02 09:00:49 -0500 (Mon, 02 Jan 2023).
| Hostname | OS | Arch (*) | R version | Installed pkgs |
|---|---|---|---|---|
| palomino5 | Windows Server 2022 Datacenter | x64 | R Under development (unstable) (2022-12-25 r83502 ucrt) -- "Unsuffered Consequences" | 4165 |
| Click on any hostname to see more info about the system (e.g. compilers) (*) as reported by 'uname -p', except on Windows and Mac OS X | ||||
|
To the developers/maintainers of the scClassify package: Make sure to use the following settings in order to reproduce any error or warning you see on this page. |
| Package 1770/2158 | Hostname | OS / Arch | INSTALL | BUILD | CHECK | BUILD BIN | ||||||||
| scClassify 1.11.0 (landing page) Yingxin Lin
| palomino5 | Windows Server 2022 Datacenter / x64 | OK | OK | OK | OK | ||||||||
| Package: scClassify |
| Version: 1.11.0 |
| Command: F:\biocbuild\bbs-3.17-bioc\R\bin\R.exe CMD check --no-multiarch --install=check:scClassify.install-out.txt --library=F:\biocbuild\bbs-3.17-bioc\R\library --no-vignettes --timings scClassify_1.11.0.tar.gz |
| StartedAt: 2022-12-29 03:14:20 -0500 (Thu, 29 Dec 2022) |
| EndedAt: 2022-12-29 03:19:17 -0500 (Thu, 29 Dec 2022) |
| EllapsedTime: 296.8 seconds |
| RetCode: 0 |
| Status: OK |
| CheckDir: scClassify.Rcheck |
| Warnings: 0 |
##############################################################################
##############################################################################
###
### Running command:
###
### F:\biocbuild\bbs-3.17-bioc\R\bin\R.exe CMD check --no-multiarch --install=check:scClassify.install-out.txt --library=F:\biocbuild\bbs-3.17-bioc\R\library --no-vignettes --timings scClassify_1.11.0.tar.gz
###
##############################################################################
##############################################################################
* using log directory 'F:/biocbuild/bbs-3.17-bioc-rtools43/meat/scClassify.Rcheck'
* using R Under development (unstable) (2022-12-25 r83502 ucrt)
* using platform: x86_64-w64-mingw32 (64-bit)
* R was compiled by
gcc.exe (GCC) 10.4.0
GNU Fortran (GCC) 10.4.0
* running under: Windows Server x64 (build 20348)
* using session charset: UTF-8
* using option '--no-vignettes'
* checking for file 'scClassify/DESCRIPTION' ... OK
* checking extension type ... Package
* this is package 'scClassify' version '1.11.0'
* package encoding: UTF-8
* checking package namespace information ... OK
* checking package dependencies ... OK
* checking if this is a source package ... OK
* checking if there is a namespace ... OK
* checking for hidden files and directories ... OK
* checking for portable file names ... OK
* checking whether package 'scClassify' can be installed ... OK
* checking installed package size ... OK
* checking package directory ... OK
* checking 'build' directory ... OK
* checking DESCRIPTION meta-information ... OK
* checking top-level files ... OK
* checking for left-over files ... OK
* checking index information ... OK
* checking package subdirectories ... OK
* checking R files for non-ASCII characters ... OK
* checking R files for syntax errors ... OK
* checking whether the package can be loaded ... OK
* checking whether the package can be loaded with stated dependencies ... OK
* checking whether the package can be unloaded cleanly ... OK
* checking whether the namespace can be loaded with stated dependencies ... OK
* checking whether the namespace can be unloaded cleanly ... OK
* checking dependencies in R code ... OK
* checking S3 generic/method consistency ... OK
* checking replacement functions ... OK
* checking foreign function calls ... OK
* checking R code for possible problems ... OK
* checking Rd files ... OK
* checking Rd metadata ... OK
* checking Rd cross-references ... OK
* checking for missing documentation entries ... OK
* checking for code/documentation mismatches ... OK
* checking Rd \usage sections ... OK
* checking Rd contents ... OK
* checking for unstated dependencies in examples ... OK
* checking contents of 'data' directory ... OK
* checking data for non-ASCII characters ... OK
* checking data for ASCII and uncompressed saves ... OK
* checking files in 'vignettes' ... OK
* checking examples ... OK
Examples with CPU (user + system) or elapsed time > 5s
user system elapsed
runSampleCal 76.32 1.08 75.18
predict_scClassifyJoint 19.62 0.96 19.99
predict_scClassify 12.41 2.14 13.91
scClassify 11.68 0.39 11.84
* checking for unstated dependencies in vignettes ... OK
* checking package vignettes in 'inst/doc' ... OK
* checking running R code from vignettes ... SKIPPED
* checking re-building of vignette outputs ... SKIPPED
* checking PDF version of manual ... OK
* DONE
Status: OK
scClassify.Rcheck/00install.out
############################################################################## ############################################################################## ### ### Running command: ### ### F:\biocbuild\bbs-3.17-bioc\R\bin\R.exe CMD INSTALL scClassify ### ############################################################################## ############################################################################## * installing to library 'F:/biocbuild/bbs-3.17-bioc/R/library' * installing *source* package 'scClassify' ... ** using staged installation ** R ** data ** inst ** byte-compile and prepare package for lazy loading ** help *** installing help indices *** copying figures ** building package indices ** installing vignettes ** testing if installed package can be loaded from temporary location ** testing if installed package can be loaded from final location ** testing if installed package keeps a record of temporary installation path * DONE (scClassify)
scClassify.Rcheck/scClassify-Ex.timings
| name | user | system | elapsed | |
| cellTypeTrain | 0.06 | 0.03 | 0.09 | |
| cellTypeTree | 0.1 | 0.0 | 0.1 | |
| features | 0.06 | 0.03 | 0.09 | |
| getN | 0.12 | 0.00 | 0.13 | |
| learningCurve | 0.10 | 0.00 | 0.09 | |
| model | 0.89 | 0.40 | 1.30 | |
| modelweights | 0.09 | 0.00 | 0.10 | |
| name | 0.10 | 0.00 | 0.09 | |
| plotCellTypeTree | 0.76 | 0.00 | 0.76 | |
| predict_scClassify | 12.41 | 2.14 | 13.91 | |
| predict_scClassifyJoint | 19.62 | 0.96 | 19.99 | |
| runHOPACH | 0.57 | 0.04 | 0.60 | |
| runSampleCal | 76.32 | 1.08 | 75.18 | |
| scClassify | 11.68 | 0.39 | 11.84 | |
| scClassifyTrainModelList | 0.09 | 0.02 | 0.11 | |
| train_scClassify | 1.39 | 0.06 | 1.45 | |