| Back to Build/check report for BioC 3.17 |
|
This page was generated on 2023-01-02 09:00:48 -0500 (Mon, 02 Jan 2023).
| Hostname | OS | Arch (*) | R version | Installed pkgs |
|---|---|---|---|---|
| palomino5 | Windows Server 2022 Datacenter | x64 | R Under development (unstable) (2022-12-25 r83502 ucrt) -- "Unsuffered Consequences" | 4165 |
| Click on any hostname to see more info about the system (e.g. compilers) (*) as reported by 'uname -p', except on Windows and Mac OS X | ||||
|
To the developers/maintainers of the rnaseqcomp package: Make sure to use the following settings in order to reproduce any error or warning you see on this page. |
| Package 1690/2158 | Hostname | OS / Arch | INSTALL | BUILD | CHECK | BUILD BIN | ||||||||
| rnaseqcomp 1.29.0 (landing page) Mingxiang Teng
| palomino5 | Windows Server 2022 Datacenter / x64 | OK | OK | OK | OK | ||||||||
| Package: rnaseqcomp |
| Version: 1.29.0 |
| Command: F:\biocbuild\bbs-3.17-bioc\R\bin\R.exe CMD check --no-multiarch --install=check:rnaseqcomp.install-out.txt --library=F:\biocbuild\bbs-3.17-bioc\R\library --no-vignettes --timings rnaseqcomp_1.29.0.tar.gz |
| StartedAt: 2022-12-29 02:59:18 -0500 (Thu, 29 Dec 2022) |
| EndedAt: 2022-12-29 03:00:01 -0500 (Thu, 29 Dec 2022) |
| EllapsedTime: 42.2 seconds |
| RetCode: 0 |
| Status: OK |
| CheckDir: rnaseqcomp.Rcheck |
| Warnings: 0 |
##############################################################################
##############################################################################
###
### Running command:
###
### F:\biocbuild\bbs-3.17-bioc\R\bin\R.exe CMD check --no-multiarch --install=check:rnaseqcomp.install-out.txt --library=F:\biocbuild\bbs-3.17-bioc\R\library --no-vignettes --timings rnaseqcomp_1.29.0.tar.gz
###
##############################################################################
##############################################################################
* using log directory 'F:/biocbuild/bbs-3.17-bioc-rtools43/meat/rnaseqcomp.Rcheck'
* using R Under development (unstable) (2022-12-25 r83502 ucrt)
* using platform: x86_64-w64-mingw32 (64-bit)
* R was compiled by
gcc.exe (GCC) 10.4.0
GNU Fortran (GCC) 10.4.0
* running under: Windows Server x64 (build 20348)
* using session charset: UTF-8
* using option '--no-vignettes'
* checking for file 'rnaseqcomp/DESCRIPTION' ... OK
* this is package 'rnaseqcomp' version '1.29.0'
* checking package namespace information ... OK
* checking package dependencies ... OK
* checking if this is a source package ... OK
* checking if there is a namespace ... OK
* checking for hidden files and directories ... OK
* checking for portable file names ... OK
* checking whether package 'rnaseqcomp' can be installed ... OK
* checking installed package size ... OK
* checking package directory ... OK
* checking 'build' directory ... OK
* checking DESCRIPTION meta-information ... OK
* checking top-level files ... OK
* checking for left-over files ... OK
* checking index information ... OK
* checking package subdirectories ... OK
* checking R files for non-ASCII characters ... OK
* checking R files for syntax errors ... OK
* checking whether the package can be loaded ... OK
* checking whether the package can be loaded with stated dependencies ... OK
* checking whether the package can be unloaded cleanly ... OK
* checking whether the namespace can be loaded with stated dependencies ... OK
* checking whether the namespace can be unloaded cleanly ... OK
* checking dependencies in R code ... OK
* checking S3 generic/method consistency ... OK
* checking replacement functions ... OK
* checking foreign function calls ... OK
* checking R code for possible problems ... NOTE
plot2TX: no visible global function definition for 'lines'
plot2TX: no visible global function definition for 'box'
plot2TX: no visible global function definition for 'legend'
plot2TX : <anonymous>: no visible binding for global variable 'sd'
plot2TX : <anonymous>: no visible global function definition for 'sd'
plotFC: no visible global function definition for 'loess.smooth'
plotFC: no visible global function definition for 'lines'
plotFC: no visible global function definition for 'legend'
plotFC : <anonymous>: no visible global function definition for
'median'
plotFC : <anonymous>: no visible global function definition for 'sd'
plotNE: no visible global function definition for 'lines'
plotNE: no visible global function definition for 'points'
plotNE: no visible global function definition for 'box'
plotNE: no visible global function definition for 'legend'
plotROC: no visible global function definition for 'median'
plotROC: no visible global function definition for 'sd'
plotROC: no visible global function definition for 'lines'
plotROC: no visible global function definition for 'arrows'
plotROC: no visible global function definition for 'abline'
plotROC: no visible global function definition for 'legend'
plotSD : <anonymous>: no visible binding for global variable 'sd'
plotSD: no visible global function definition for 'loess.smooth'
plotSD: no visible global function definition for 'lines'
plotSD: no visible global function definition for 'box'
plotSD: no visible global function definition for 'legend'
plotSD : <anonymous> : <anonymous>: no visible global function
definition for 'median'
plotSD : <anonymous> : <anonymous>: no visible global function
definition for 'mad'
signalCalibrate : <anonymous>: no visible binding for global variable
'median'
signalCalibrate: no visible global function definition for 'median'
Undefined global functions or variables:
abline arrows box legend lines loess.smooth mad median points sd
Consider adding
importFrom("graphics", "abline", "arrows", "box", "legend", "lines",
"points")
importFrom("stats", "loess.smooth", "mad", "median", "sd")
to your NAMESPACE file.
* checking Rd files ... OK
* checking Rd metadata ... OK
* checking Rd cross-references ... OK
* checking for missing documentation entries ... OK
* checking for code/documentation mismatches ... OK
* checking Rd \usage sections ... OK
* checking Rd contents ... OK
* checking for unstated dependencies in examples ... OK
* checking contents of 'data' directory ... OK
* checking data for non-ASCII characters ... OK
* checking data for ASCII and uncompressed saves ... OK
* checking files in 'vignettes' ... OK
* checking examples ... OK
Examples with CPU (user + system) or elapsed time > 5s
user system elapsed
plotROC 5.64 3.31 8.95
* checking for unstated dependencies in vignettes ... OK
* checking package vignettes in 'inst/doc' ... OK
* checking running R code from vignettes ... SKIPPED
* checking re-building of vignette outputs ... SKIPPED
* checking PDF version of manual ... OK
* DONE
Status: 1 NOTE
See
'F:/biocbuild/bbs-3.17-bioc-rtools43/meat/rnaseqcomp.Rcheck/00check.log'
for details.
rnaseqcomp.Rcheck/00install.out
############################################################################## ############################################################################## ### ### Running command: ### ### F:\biocbuild\bbs-3.17-bioc\R\bin\R.exe CMD INSTALL rnaseqcomp ### ############################################################################## ############################################################################## * installing to library 'F:/biocbuild/bbs-3.17-bioc/R/library' * installing *source* package 'rnaseqcomp' ... ** using staged installation ** R ** data ** inst ** byte-compile and prepare package for lazy loading ** help *** installing help indices ** building package indices ** installing vignettes ** testing if installed package can be loaded from temporary location ** testing if installed package can be loaded from final location ** testing if installed package keeps a record of temporary installation path * DONE (rnaseqcomp)
rnaseqcomp.Rcheck/rnaseqcomp-Ex.timings
| name | user | system | elapsed | |
| plot2TX | 0.39 | 0.03 | 0.42 | |
| plotFC | 0.17 | 0.01 | 0.19 | |
| plotNE | 2.30 | 1.15 | 3.44 | |
| plotROC | 5.64 | 3.31 | 8.95 | |
| plotSD | 0.89 | 0.01 | 0.91 | |
| signalCalibrate | 0.14 | 0.00 | 0.14 | |