| Back to Build/check report for BioC 3.17 |
|
This page was generated on 2023-01-02 09:00:48 -0500 (Mon, 02 Jan 2023).
| Hostname | OS | Arch (*) | R version | Installed pkgs |
|---|---|---|---|---|
| palomino5 | Windows Server 2022 Datacenter | x64 | R Under development (unstable) (2022-12-25 r83502 ucrt) -- "Unsuffered Consequences" | 4165 |
| Click on any hostname to see more info about the system (e.g. compilers) (*) as reported by 'uname -p', except on Windows and Mac OS X | ||||
|
To the developers/maintainers of the rTRM package: Make sure to use the following settings in order to reproduce any error or warning you see on this page. |
| Package 1732/2158 | Hostname | OS / Arch | INSTALL | BUILD | CHECK | BUILD BIN | ||||||||
| rTRM 1.37.0 (landing page) Diego Diez
| palomino5 | Windows Server 2022 Datacenter / x64 | OK | OK | OK | OK | ||||||||
| Package: rTRM |
| Version: 1.37.0 |
| Command: chmod a+r rTRM -R && F:\biocbuild\bbs-3.17-bioc\R\bin\R.exe CMD build --keep-empty-dirs --no-resave-data rTRM |
| StartedAt: 2022-12-28 20:18:50 -0500 (Wed, 28 Dec 2022) |
| EndedAt: 2022-12-28 20:19:43 -0500 (Wed, 28 Dec 2022) |
| EllapsedTime: 53.0 seconds |
| RetCode: 0 |
| Status: OK |
| PackageFile: rTRM_1.37.0.tar.gz |
| PackageFileSize: 3.29 MiB |
##############################################################################
##############################################################################
###
### Running command:
###
### chmod a+r rTRM -R && F:\biocbuild\bbs-3.17-bioc\R\bin\R.exe CMD build --keep-empty-dirs --no-resave-data rTRM
###
##############################################################################
##############################################################################
* checking for file 'rTRM/DESCRIPTION' ... OK
* preparing 'rTRM':
* checking DESCRIPTION meta-information ... OK
* installing the package to process help pages
Loading required package: igraph
Attaching package: 'igraph'
The following objects are masked from 'package:stats':
decompose, spectrum
The following object is masked from 'package:base':
union
* building the PDF package manual
texify: major issue: So far, you have not checked for updates as a MiKTeX user.
* creating vignettes ... OK
* checking for LF line-endings in source and make files and shell scripts
* checking for empty or unneeded directories
* looking to see if a 'data/datalist' file should be added
* building 'rTRM_1.37.0.tar.gz'