| Back to Build/check report for BioC 3.17 | 
 | 
This page was generated on 2023-01-02 09:00:45 -0500 (Mon, 02 Jan 2023).
| Hostname | OS | Arch (*) | R version | Installed pkgs | 
|---|---|---|---|---|
| palomino5 | Windows Server 2022 Datacenter | x64 | R Under development (unstable) (2022-12-25 r83502 ucrt) -- "Unsuffered Consequences" | 4165 | 
| Click on any hostname to see more info about the system (e.g. compilers) (*) as reported by 'uname -p', except on Windows and Mac OS X | ||||
| To the developers/maintainers of the r3Cseq package: Make sure to use the following settings in order to reproduce any error or warning you see on this page. | 
| Package 1567/2158 | Hostname | OS / Arch | INSTALL | BUILD | CHECK | BUILD BIN | ||||||||
| r3Cseq 1.45.0  (landing page) Supat Thongjuea 
 | palomino5 | Windows Server 2022 Datacenter / x64 | OK | OK | OK | OK | ||||||||
| Package: r3Cseq | 
| Version: 1.45.0 | 
| Command: rm -rf r3Cseq.buildbin-libdir && mkdir r3Cseq.buildbin-libdir && F:\biocbuild\bbs-3.17-bioc\R\bin\R.exe CMD INSTALL --build --library=r3Cseq.buildbin-libdir r3Cseq_1.45.0.tar.gz | 
| StartedAt: 2022-12-29 05:34:59 -0500 (Thu, 29 Dec 2022) | 
| EndedAt: 2022-12-29 05:35:48 -0500 (Thu, 29 Dec 2022) | 
| EllapsedTime: 48.6 seconds | 
| RetCode: 0 | 
| Status: OK | 
| PackageFile: r3Cseq_1.45.0.zip | 
| PackageFileSize: 2.782 MiB | 
############################################################################## ############################################################################## ### ### Running command: ### ### rm -rf r3Cseq.buildbin-libdir && mkdir r3Cseq.buildbin-libdir && F:\biocbuild\bbs-3.17-bioc\R\bin\R.exe CMD INSTALL --build --library=r3Cseq.buildbin-libdir r3Cseq_1.45.0.tar.gz ### ############################################################################## ############################################################################## * installing *source* package 'r3Cseq' ... ** using staged installation ** R ** data ** inst ** byte-compile and prepare package for lazy loading No methods found in package 'Biostrings' for request: 'DNAString' when loading 'r3Cseq' ** help *** installing help indices ** building package indices ** installing vignettes ** testing if installed package can be loaded from temporary location No methods found in package 'Biostrings' for request: 'DNAString' when loading 'r3Cseq' ** testing if installed package can be loaded from final location No methods found in package 'Biostrings' for request: 'DNAString' when loading 'r3Cseq' ** testing if installed package keeps a record of temporary installation path * MD5 sums packaged installation of 'r3Cseq' as r3Cseq_1.45.0.zip * DONE (r3Cseq)