| Back to Build/check report for BioC 3.17 |
|
This page was generated on 2023-01-02 09:00:44 -0500 (Mon, 02 Jan 2023).
| Hostname | OS | Arch (*) | R version | Installed pkgs |
|---|---|---|---|---|
| palomino5 | Windows Server 2022 Datacenter | x64 | R Under development (unstable) (2022-12-25 r83502 ucrt) -- "Unsuffered Consequences" | 4165 |
| Click on any hostname to see more info about the system (e.g. compilers) (*) as reported by 'uname -p', except on Windows and Mac OS X | ||||
|
To the developers/maintainers of the preprocessCore package: Make sure to use the following settings in order to reproduce any error or warning you see on this page. |
| Package 1503/2158 | Hostname | OS / Arch | INSTALL | BUILD | CHECK | BUILD BIN | ||||||||
| preprocessCore 1.61.0 (landing page) Ben Bolstad
| palomino5 | Windows Server 2022 Datacenter / x64 | OK | OK | WARNINGS | OK | ||||||||
| Package: preprocessCore |
| Version: 1.61.0 |
| Command: chmod a+r preprocessCore -R && F:\biocbuild\bbs-3.17-bioc\R\bin\R.exe CMD build --keep-empty-dirs --no-resave-data preprocessCore |
| StartedAt: 2022-12-28 19:51:30 -0500 (Wed, 28 Dec 2022) |
| EndedAt: 2022-12-28 19:51:34 -0500 (Wed, 28 Dec 2022) |
| EllapsedTime: 3.8 seconds |
| RetCode: 0 |
| Status: OK |
| PackageFile: preprocessCore_1.61.0.tar.gz |
| PackageFileSize: 121.1 KiB |
############################################################################## ############################################################################## ### ### Running command: ### ### chmod a+r preprocessCore -R && F:\biocbuild\bbs-3.17-bioc\R\bin\R.exe CMD build --keep-empty-dirs --no-resave-data preprocessCore ### ############################################################################## ############################################################################## * checking for file 'preprocessCore/DESCRIPTION' ... OK * preparing 'preprocessCore': * checking DESCRIPTION meta-information ... OK * cleaning src * checking for LF line-endings in source and make files and shell scripts * checking for empty or unneeded directories * building 'preprocessCore_1.61.0.tar.gz' Warning: file 'preprocessCore/cleanup' did not have execute permissions: corrected Warning: file 'preprocessCore/configure' did not have execute permissions: corrected