| Back to Build/check report for BioC 3.17 | 
 | 
This page was generated on 2023-01-02 09:00:43 -0500 (Mon, 02 Jan 2023).
| Hostname | OS | Arch (*) | R version | Installed pkgs | 
|---|---|---|---|---|
| palomino5 | Windows Server 2022 Datacenter | x64 | R Under development (unstable) (2022-12-25 r83502 ucrt) -- "Unsuffered Consequences" | 4165 | 
| Click on any hostname to see more info about the system (e.g. compilers) (*) as reported by 'uname -p', except on Windows and Mac OS X | ||||
| To the developers/maintainers of the phenopath package: Make sure to use the following settings in order to reproduce any error or warning you see on this page. | 
| Package 1458/2158 | Hostname | OS / Arch | INSTALL | BUILD | CHECK | BUILD BIN | ||||||||
| phenopath 1.23.0  (landing page) Kieran Campbell 
 | palomino5 | Windows Server 2022 Datacenter / x64 | OK | OK | OK | OK | ||||||||
| Package: phenopath | 
| Version: 1.23.0 | 
| Command: chmod a+r phenopath -R && F:\biocbuild\bbs-3.17-bioc\R\bin\R.exe CMD build --keep-empty-dirs --no-resave-data phenopath | 
| StartedAt: 2022-12-28 19:44:50 -0500 (Wed, 28 Dec 2022) | 
| EndedAt: 2022-12-28 19:45:43 -0500 (Wed, 28 Dec 2022) | 
| EllapsedTime: 52.9 seconds | 
| RetCode: 0 | 
| Status: OK | 
| PackageFile: phenopath_1.23.0.tar.gz | 
| PackageFileSize: 1.101 MiB | 
############################################################################## ############################################################################## ### ### Running command: ### ### chmod a+r phenopath -R && F:\biocbuild\bbs-3.17-bioc\R\bin\R.exe CMD build --keep-empty-dirs --no-resave-data phenopath ### ############################################################################## ############################################################################## * checking for file 'phenopath/DESCRIPTION' ... OK * preparing 'phenopath': * checking DESCRIPTION meta-information ... OK * cleaning src * installing the package to build vignettes * creating vignettes ... OK * cleaning src * checking for LF line-endings in source and make files and shell scripts * checking for empty or unneeded directories * building 'phenopath_1.23.0.tar.gz'