| Back to Build/check report for BioC 3.17 |
|
This page was generated on 2023-01-02 09:00:43 -0500 (Mon, 02 Jan 2023).
| Hostname | OS | Arch (*) | R version | Installed pkgs |
|---|---|---|---|---|
| palomino5 | Windows Server 2022 Datacenter | x64 | R Under development (unstable) (2022-12-25 r83502 ucrt) -- "Unsuffered Consequences" | 4165 |
| Click on any hostname to see more info about the system (e.g. compilers) (*) as reported by 'uname -p', except on Windows and Mac OS X | ||||
|
To the developers/maintainers of the pepStat package: Make sure to use the following settings in order to reproduce any error or warning you see on this page. |
| Package 1447/2158 | Hostname | OS / Arch | INSTALL | BUILD | CHECK | BUILD BIN | ||||||||
| pepStat 1.33.0 (landing page) Gregory C Imholte
| palomino5 | Windows Server 2022 Datacenter / x64 | OK | OK | OK | OK | ||||||||
| Package: pepStat |
| Version: 1.33.0 |
| Command: rm -rf pepStat.buildbin-libdir && mkdir pepStat.buildbin-libdir && F:\biocbuild\bbs-3.17-bioc\R\bin\R.exe CMD INSTALL --build --library=pepStat.buildbin-libdir pepStat_1.33.0.tar.gz |
| StartedAt: 2022-12-29 05:31:31 -0500 (Thu, 29 Dec 2022) |
| EndedAt: 2022-12-29 05:31:56 -0500 (Thu, 29 Dec 2022) |
| EllapsedTime: 24.4 seconds |
| RetCode: 0 |
| Status: OK |
| PackageFile: pepStat_1.33.0.zip |
| PackageFileSize: 717.9 KiB |
############################################################################## ############################################################################## ### ### Running command: ### ### rm -rf pepStat.buildbin-libdir && mkdir pepStat.buildbin-libdir && F:\biocbuild\bbs-3.17-bioc\R\bin\R.exe CMD INSTALL --build --library=pepStat.buildbin-libdir pepStat_1.33.0.tar.gz ### ############################################################################## ############################################################################## * installing *source* package 'pepStat' ... ** using staged installation ** R ** inst ** byte-compile and prepare package for lazy loading No methods found in package 'GenomicRanges' for request: 'mcols<-' when loading 'pepStat' No methods found in package 'GenomicRanges' for request: 'mcols' when loading 'pepStat' No methods found in package 'IRanges' for request: 'values<-' when loading 'pepStat' No methods found in package 'IRanges' for request: 'values' when loading 'pepStat' ** help *** installing help indices ** building package indices ** installing vignettes ** testing if installed package can be loaded from temporary location No methods found in package 'GenomicRanges' for request: 'mcols<-' when loading 'pepStat' No methods found in package 'GenomicRanges' for request: 'mcols' when loading 'pepStat' No methods found in package 'IRanges' for request: 'values<-' when loading 'pepStat' No methods found in package 'IRanges' for request: 'values' when loading 'pepStat' ** testing if installed package can be loaded from final location No methods found in package 'GenomicRanges' for request: 'mcols<-' when loading 'pepStat' No methods found in package 'GenomicRanges' for request: 'mcols' when loading 'pepStat' No methods found in package 'IRanges' for request: 'values<-' when loading 'pepStat' No methods found in package 'IRanges' for request: 'values' when loading 'pepStat' ** testing if installed package keeps a record of temporary installation path * MD5 sums packaged installation of 'pepStat' as pepStat_1.33.0.zip * DONE (pepStat)