| Back to Build/check report for BioC 3.17 |
|
This page was generated on 2023-01-02 09:00:43 -0500 (Mon, 02 Jan 2023).
| Hostname | OS | Arch (*) | R version | Installed pkgs |
|---|---|---|---|---|
| palomino5 | Windows Server 2022 Datacenter | x64 | R Under development (unstable) (2022-12-25 r83502 ucrt) -- "Unsuffered Consequences" | 4165 |
| Click on any hostname to see more info about the system (e.g. compilers) (*) as reported by 'uname -p', except on Windows and Mac OS X | ||||
|
To the developers/maintainers of the pathVar package: Make sure to use the following settings in order to reproduce any error or warning you see on this page. |
| Package 1430/2158 | Hostname | OS / Arch | INSTALL | BUILD | CHECK | BUILD BIN | ||||||||
| pathVar 1.29.0 (landing page) Samuel Zimmerman
| palomino5 | Windows Server 2022 Datacenter / x64 | OK | OK | OK | OK | ||||||||
| Package: pathVar |
| Version: 1.29.0 |
| Command: F:\biocbuild\bbs-3.17-bioc\R\bin\R.exe CMD check --no-multiarch --install=check:pathVar.install-out.txt --library=F:\biocbuild\bbs-3.17-bioc\R\library --no-vignettes --timings pathVar_1.29.0.tar.gz |
| StartedAt: 2022-12-29 02:11:05 -0500 (Thu, 29 Dec 2022) |
| EndedAt: 2022-12-29 02:13:56 -0500 (Thu, 29 Dec 2022) |
| EllapsedTime: 170.8 seconds |
| RetCode: 0 |
| Status: OK |
| CheckDir: pathVar.Rcheck |
| Warnings: 0 |
##############################################################################
##############################################################################
###
### Running command:
###
### F:\biocbuild\bbs-3.17-bioc\R\bin\R.exe CMD check --no-multiarch --install=check:pathVar.install-out.txt --library=F:\biocbuild\bbs-3.17-bioc\R\library --no-vignettes --timings pathVar_1.29.0.tar.gz
###
##############################################################################
##############################################################################
* using log directory 'F:/biocbuild/bbs-3.17-bioc-rtools43/meat/pathVar.Rcheck'
* using R Under development (unstable) (2022-12-25 r83502 ucrt)
* using platform: x86_64-w64-mingw32 (64-bit)
* R was compiled by
gcc.exe (GCC) 10.4.0
GNU Fortran (GCC) 10.4.0
* running under: Windows Server x64 (build 20348)
* using session charset: UTF-8
* using option '--no-vignettes'
* checking for file 'pathVar/DESCRIPTION' ... OK
* checking extension type ... Package
* this is package 'pathVar' version '1.29.0'
* checking package namespace information ... OK
* checking package dependencies ... OK
* checking if this is a source package ... OK
* checking if there is a namespace ... OK
* checking for hidden files and directories ... OK
* checking for portable file names ... OK
* checking whether package 'pathVar' can be installed ... OK
* checking installed package size ... OK
* checking package directory ... OK
* checking 'build' directory ... OK
* checking DESCRIPTION meta-information ... OK
* checking top-level files ... OK
* checking for left-over files ... OK
* checking index information ... OK
* checking package subdirectories ... OK
* checking R files for non-ASCII characters ... OK
* checking R files for syntax errors ... OK
* checking whether the package can be loaded ... OK
* checking whether the package can be loaded with stated dependencies ... OK
* checking whether the package can be unloaded cleanly ... OK
* checking whether the namespace can be loaded with stated dependencies ... OK
* checking whether the namespace can be unloaded cleanly ... OK
* checking dependencies in R code ... OK
* checking S3 generic/method consistency ... OK
* checking replacement functions ... OK
* checking foreign function calls ... OK
* checking R code for possible problems ... NOTE
diagnosticsVarPlots: no visible binding for global variable 'avg'
diagnosticsVarPlots: no visible binding for global variable 'standDev'
diagnosticsVarPlots: no visible binding for global variable 'medAbsDev'
diagnosticsVarPlots: no visible binding for global variable 'cv'
diagnosticsVarPlotsTwoSample: no visible binding for global variable
'avg'
diagnosticsVarPlotsTwoSample: no visible binding for global variable
'standDev'
diagnosticsVarPlotsTwoSample: no visible binding for global variable
'medAbsDev'
diagnosticsVarPlotsTwoSample: no visible binding for global variable
'cv'
pathVarOneSample: no visible binding for global variable 'APval'
pathVarOneSample: no visible binding for global variable
'PercOfGenesInPway'
pathVarTwoSamplesCont: no visible binding for global variable 'APval'
pathVarTwoSamplesCont: no visible binding for global variable
'PercOfGenesInPway'
pathVarTwoSamplesDisc: no visible binding for global variable 'APval'
pathVarTwoSamplesDisc: no visible binding for global variable
'PercOfGenesInPway'
plotAllTwoSampleDistributionCounts: no visible binding for global
variable 'Cluster'
plotAllTwoSampleDistributionCounts: no visible binding for global
variable 'Number_of_genes'
plotOneSample: no visible binding for global variable 'Cluster'
plotOneSample: no visible binding for global variable 'Number_of_genes'
plotTwoSamplesCont: no visible binding for global variable 'PwayName'
plotTwoSamplesCont: no visible binding for global variable
'NumOfGenesFromDataSetInPathway'
plotTwoSamplesCont: no visible binding for global variable 'value'
plotTwoSamplesCont: no visible binding for global variable
'..density..'
plotTwoSamplesCont: no visible binding for global variable 'group'
plotTwoSamplesDisc: no visible binding for global variable 'Cluster'
plotTwoSamplesDisc: no visible binding for global variable
'Number_of_genes'
sigOneSample: no visible binding for global variable 'APval'
sigOneSample: no visible binding for global variable 'PwayName'
sigTwoSamplesCont: no visible binding for global variable 'APval'
sigTwoSamplesCont: no visible binding for global variable 'PwayName'
sigTwoSamplesDisc: no visible binding for global variable 'APval'
sigTwoSamplesDisc: no visible binding for global variable 'PwayName'
Undefined global functions or variables:
..density.. APval Cluster NumOfGenesFromDataSetInPathway
Number_of_genes PercOfGenesInPway PwayName avg cv group medAbsDev
standDev value
* checking Rd files ... OK
* checking Rd metadata ... OK
* checking Rd cross-references ... OK
* checking for missing documentation entries ... OK
* checking for code/documentation mismatches ... OK
* checking Rd \usage sections ... OK
* checking Rd contents ... OK
* checking for unstated dependencies in examples ... OK
* checking contents of 'data' directory ... OK
* checking data for non-ASCII characters ... OK
* checking LazyData ... OK
* checking data for ASCII and uncompressed saves ... OK
* checking sizes of PDF files under 'inst/doc' ... OK
* checking files in 'vignettes' ... OK
* checking examples ... OK
Examples with CPU (user + system) or elapsed time > 5s
user system elapsed
sigPway 43.41 0.43 43.83
diagnosticsVarPlots 39.56 0.29 39.86
diagnosticsVarPlotsTwoSample 22.16 0.24 22.41
* checking for unstated dependencies in vignettes ... OK
* checking package vignettes in 'inst/doc' ... OK
* checking running R code from vignettes ... SKIPPED
* checking re-building of vignette outputs ... SKIPPED
* checking PDF version of manual ... OK
* DONE
Status: 1 NOTE
See
'F:/biocbuild/bbs-3.17-bioc-rtools43/meat/pathVar.Rcheck/00check.log'
for details.
pathVar.Rcheck/00install.out
############################################################################## ############################################################################## ### ### Running command: ### ### F:\biocbuild\bbs-3.17-bioc\R\bin\R.exe CMD INSTALL pathVar ### ############################################################################## ############################################################################## * installing to library 'F:/biocbuild/bbs-3.17-bioc/R/library' * installing *source* package 'pathVar' ... ** using staged installation ** R ** data *** moving datasets to lazyload DB ** inst ** byte-compile and prepare package for lazy loading ** help *** installing help indices ** building package indices ** installing vignettes ** testing if installed package can be loaded from temporary location ** testing if installed package can be loaded from final location ** testing if installed package keeps a record of temporary installation path * DONE (pathVar)
pathVar.Rcheck/pathVar-Ex.timings
| name | user | system | elapsed | |
| bock | 0.00 | 0.02 | 0.01 | |
| diagnosticsVarPlots | 39.56 | 0.29 | 39.86 | |
| diagnosticsVarPlotsTwoSample | 22.16 | 0.24 | 22.41 | |
| geneDistributionSet-class | 0 | 0 | 0 | |
| geneDistributionSet2-class | 0 | 0 | 0 | |
| geneDistributionSet3-class | 0.01 | 0.00 | 0.01 | |
| geneSet-class | 0 | 0 | 0 | |
| getGenes | 1.66 | 0.04 | 1.71 | |
| makeDBList | 0 | 0 | 0 | |
| pathVar-package | 3.97 | 0.05 | 4.01 | |
| pathVarOneSample | 3.31 | 0.05 | 3.36 | |
| pathVarTwoSamplesCont | 1.63 | 0.06 | 1.69 | |
| pathVarTwoSamplesDisc | 0.57 | 0.05 | 0.62 | |
| plotAllTwoSampleDistributionCounts | 2.94 | 0.59 | 3.54 | |
| plotPway | 2.74 | 0.09 | 2.82 | |
| pways.kegg | 0 | 0 | 0 | |
| pways.reactome | 0 | 0 | 0 | |
| saveAsPDF | 2.40 | 0.00 | 2.41 | |
| sigPway | 43.41 | 0.43 | 43.83 | |
| significantPathway-class | 0 | 0 | 0 | |
| significantPathway2-class | 0 | 0 | 0 | |
| significantPathway3-class | 0 | 0 | 0 | |