| Back to Build/check report for BioC 3.17 |
|
This page was generated on 2023-01-02 09:00:42 -0500 (Mon, 02 Jan 2023).
| Hostname | OS | Arch (*) | R version | Installed pkgs |
|---|---|---|---|---|
| palomino5 | Windows Server 2022 Datacenter | x64 | R Under development (unstable) (2022-12-25 r83502 ucrt) -- "Unsuffered Consequences" | 4165 |
| Click on any hostname to see more info about the system (e.g. compilers) (*) as reported by 'uname -p', except on Windows and Mac OS X | ||||
|
To the developers/maintainers of the optimalFlow package: Make sure to use the following settings in order to reproduce any error or warning you see on this page. |
| Package 1394/2158 | Hostname | OS / Arch | INSTALL | BUILD | CHECK | BUILD BIN | ||||||||
| optimalFlow 1.11.0 (landing page) Hristo Inouzhe
| palomino5 | Windows Server 2022 Datacenter / x64 | OK | ERROR | skipped | skipped | ||||||||
| Package: optimalFlow |
| Version: 1.11.0 |
| Command: chmod a+r optimalFlow -R && F:\biocbuild\bbs-3.17-bioc\R\bin\R.exe CMD build --keep-empty-dirs --no-resave-data optimalFlow |
| StartedAt: 2022-12-28 19:29:50 -0500 (Wed, 28 Dec 2022) |
| EndedAt: 2022-12-28 19:30:30 -0500 (Wed, 28 Dec 2022) |
| EllapsedTime: 39.2 seconds |
| RetCode: 1 |
| Status: ERROR |
| PackageFile: None |
| PackageFileSize: NA |
############################################################################## ############################################################################## ### ### Running command: ### ### chmod a+r optimalFlow -R && F:\biocbuild\bbs-3.17-bioc\R\bin\R.exe CMD build --keep-empty-dirs --no-resave-data optimalFlow ### ############################################################################## ############################################################################## * checking for file 'optimalFlow/DESCRIPTION' ... OK * preparing 'optimalFlow': * checking DESCRIPTION meta-information ... OK * installing the package to build vignettes * creating vignettes ...Warning in file(con, "r") : cannot open file 'F:\biocbuild\bbs-3.17-bioc-rtools43\tmpdir\RtmpU1Fm0J\xshell1f0085d2af6': Permission denied Error in file(con, "r") : cannot open the connection Execution halted