| Back to Build/check report for BioC 3.17 |
|
This page was generated on 2023-01-02 09:00:40 -0500 (Mon, 02 Jan 2023).
| Hostname | OS | Arch (*) | R version | Installed pkgs |
|---|---|---|---|---|
| palomino5 | Windows Server 2022 Datacenter | x64 | R Under development (unstable) (2022-12-25 r83502 ucrt) -- "Unsuffered Consequences" | 4165 |
| Click on any hostname to see more info about the system (e.g. compilers) (*) as reported by 'uname -p', except on Windows and Mac OS X | ||||
|
To the developers/maintainers of the multiHiCcompare package: Make sure to use the following settings in order to reproduce any error or warning you see on this page. |
| Package 1286/2158 | Hostname | OS / Arch | INSTALL | BUILD | CHECK | BUILD BIN | ||||||||
| multiHiCcompare 1.17.0 (landing page) John Stansfield
| palomino5 | Windows Server 2022 Datacenter / x64 | OK | OK | OK | OK | ||||||||
| Package: multiHiCcompare |
| Version: 1.17.0 |
| Command: F:\biocbuild\bbs-3.17-bioc\R\bin\R.exe CMD check --no-multiarch --install=check:multiHiCcompare.install-out.txt --library=F:\biocbuild\bbs-3.17-bioc\R\library --no-vignettes --timings multiHiCcompare_1.17.0.tar.gz |
| StartedAt: 2022-12-29 01:44:05 -0500 (Thu, 29 Dec 2022) |
| EndedAt: 2022-12-29 01:47:41 -0500 (Thu, 29 Dec 2022) |
| EllapsedTime: 216.6 seconds |
| RetCode: 0 |
| Status: OK |
| CheckDir: multiHiCcompare.Rcheck |
| Warnings: 0 |
##############################################################################
##############################################################################
###
### Running command:
###
### F:\biocbuild\bbs-3.17-bioc\R\bin\R.exe CMD check --no-multiarch --install=check:multiHiCcompare.install-out.txt --library=F:\biocbuild\bbs-3.17-bioc\R\library --no-vignettes --timings multiHiCcompare_1.17.0.tar.gz
###
##############################################################################
##############################################################################
* using log directory 'F:/biocbuild/bbs-3.17-bioc-rtools43/meat/multiHiCcompare.Rcheck'
* using R Under development (unstable) (2022-12-25 r83502 ucrt)
* using platform: x86_64-w64-mingw32 (64-bit)
* R was compiled by
gcc.exe (GCC) 10.4.0
GNU Fortran (GCC) 10.4.0
* running under: Windows Server x64 (build 20348)
* using session charset: UTF-8
* using option '--no-vignettes'
* checking for file 'multiHiCcompare/DESCRIPTION' ... OK
* this is package 'multiHiCcompare' version '1.17.0'
* package encoding: UTF-8
* checking package namespace information ... OK
* checking package dependencies ... OK
* checking if this is a source package ... OK
* checking if there is a namespace ... OK
* checking for hidden files and directories ... OK
* checking for portable file names ... OK
* checking whether package 'multiHiCcompare' can be installed ... OK
* checking installed package size ... OK
* checking package directory ... OK
* checking 'build' directory ... OK
* checking DESCRIPTION meta-information ... OK
* checking top-level files ... OK
* checking for left-over files ... OK
* checking index information ... OK
* checking package subdirectories ... OK
* checking R files for non-ASCII characters ... OK
* checking R files for syntax errors ... OK
* checking whether the package can be loaded ... OK
* checking whether the package can be loaded with stated dependencies ... OK
* checking whether the package can be unloaded cleanly ... OK
* checking whether the namespace can be loaded with stated dependencies ... OK
* checking whether the namespace can be unloaded cleanly ... OK
* checking dependencies in R code ... OK
* checking S3 generic/method consistency ... OK
* checking replacement functions ... OK
* checking foreign function calls ... OK
* checking R code for possible problems ... NOTE
.count_manhattan: no visible global function definition for 'textxy'
cyclic_loess: no visible binding for global variable 'chr'
cyclic_loess: no visible binding for global variable 'region1'
cyclic_loess: no visible binding for global variable 'region2'
exportJuicebox: no visible binding for global variable 'logCPM'
exportJuicebox: no visible binding for global variable 'logFC'
exportJuicebox: no visible binding for global variable 'p.adj'
fastlo: no visible binding for global variable 'chr'
fastlo: no visible binding for global variable 'region1'
fastlo: no visible binding for global variable 'region2'
hic_exactTest: no visible binding for global variable 'chr'
hic_exactTest: no visible binding for global variable 'region1'
hic_exactTest: no visible binding for global variable 'region2'
hic_filter: no visible binding for global variable 'hg19_cyto'
hic_glm: no visible binding for global variable 'chr'
hic_glm: no visible binding for global variable 'region1'
hic_glm: no visible binding for global variable 'region2'
make_hicexp: no visible binding for global variable 'hg19_cyto'
make_hicexp: no visible binding for global variable 'region2'
make_hicexp: no visible binding for global variable 'region1'
make_hicexp: no visible binding for global variable 'chr'
perm_test: no visible binding for global variable 'chr'
perm_test: no visible global function definition for 'IRanges'
topDirs: no visible binding for global variable 'logCPM'
topDirs: no visible binding for global variable 'logFC'
topDirs: no visible binding for global variable 'p.adj'
Undefined global functions or variables:
IRanges chr hg19_cyto logCPM logFC p.adj region1 region2 textxy
* checking Rd files ... OK
* checking Rd metadata ... OK
* checking Rd cross-references ... OK
* checking for missing documentation entries ... OK
* checking for code/documentation mismatches ... OK
* checking Rd \usage sections ... OK
* checking Rd contents ... OK
* checking for unstated dependencies in examples ... OK
* checking contents of 'data' directory ... OK
* checking data for non-ASCII characters ... OK
* checking LazyData ... OK
* checking data for ASCII and uncompressed saves ... OK
* checking files in 'vignettes' ... OK
* checking examples ... OK
* checking for unstated dependencies in 'tests' ... OK
* checking tests ...
Running 'testthat.R'
OK
* checking for unstated dependencies in vignettes ... OK
* checking package vignettes in 'inst/doc' ... OK
* checking running R code from vignettes ... SKIPPED
* checking re-building of vignette outputs ... SKIPPED
* checking PDF version of manual ... OK
* DONE
Status: 1 NOTE
See
'F:/biocbuild/bbs-3.17-bioc-rtools43/meat/multiHiCcompare.Rcheck/00check.log'
for details.
multiHiCcompare.Rcheck/00install.out
############################################################################## ############################################################################## ### ### Running command: ### ### F:\biocbuild\bbs-3.17-bioc\R\bin\R.exe CMD INSTALL multiHiCcompare ### ############################################################################## ############################################################################## * installing to library 'F:/biocbuild/bbs-3.17-bioc/R/library' * installing *source* package 'multiHiCcompare' ... ** using staged installation ** R ** data *** moving datasets to lazyload DB ** inst ** byte-compile and prepare package for lazy loading ** help *** installing help indices ** building package indices ** installing vignettes ** testing if installed package can be loaded from temporary location ** testing if installed package can be loaded from final location ** testing if installed package keeps a record of temporary installation path * DONE (multiHiCcompare)
multiHiCcompare.Rcheck/tests/testthat.Rout
R Under development (unstable) (2022-12-25 r83502 ucrt) -- "Unsuffered Consequences"
Copyright (C) 2022 The R Foundation for Statistical Computing
Platform: x86_64-w64-mingw32/x64 (64-bit)
R is free software and comes with ABSOLUTELY NO WARRANTY.
You are welcome to redistribute it under certain conditions.
Type 'license()' or 'licence()' for distribution details.
R is a collaborative project with many contributors.
Type 'contributors()' for more information and
'citation()' on how to cite R or R packages in publications.
Type 'demo()' for some demos, 'help()' for on-line help, or
'help.start()' for an HTML browser interface to help.
Type 'q()' to quit R.
> library(testthat)
> library(multiHiCcompare)
>
> test_check("multiHiCcompare")
[ FAIL 0 | WARN 0 | SKIP 0 | PASS 17 ]
>
> proc.time()
user system elapsed
30.93 1.15 32.09
multiHiCcompare.Rcheck/multiHiCcompare-Ex.timings
| name | user | system | elapsed | |
| Hicexp-class | 0 | 0 | 0 | |
| MD_composite | 0.09 | 0.02 | 0.11 | |
| MD_hicexp | 0.57 | 0.01 | 0.57 | |
| cyclic_loess | 1.18 | 0.14 | 1.33 | |
| exportJuicebox | 0.04 | 0.02 | 0.05 | |
| fastlo | 0.78 | 0.01 | 0.80 | |
| hic_exactTest | 0 | 0 | 0 | |
| hic_filter | 0.56 | 0.04 | 0.59 | |
| hic_glm | 0 | 0 | 0 | |
| hic_scale | 0.56 | 0.00 | 0.56 | |
| hic_table | 0 | 0 | 0 | |
| make_hicexp | 0.73 | 0.12 | 0.86 | |
| manhattan_hicexp | 0.33 | 0.00 | 0.33 | |
| meta | 0.02 | 0.00 | 0.01 | |
| normalized | 0.01 | 0.00 | 0.02 | |
| perm_test | 0 | 0 | 0 | |
| plot_counts | 0.06 | 0.00 | 0.06 | |
| plot_pvals | 0.05 | 0.00 | 0.05 | |
| pval_heatmap | 1.24 | 0.06 | 1.29 | |
| resolution | 0.01 | 0.00 | 0.02 | |
| results | 0 | 0 | 0 | |
| topDirs | 0.03 | 0.02 | 0.05 | |