| Back to Build/check report for BioC 3.17 |
|
This page was generated on 2023-01-02 09:00:39 -0500 (Mon, 02 Jan 2023).
| Hostname | OS | Arch (*) | R version | Installed pkgs |
|---|---|---|---|---|
| palomino5 | Windows Server 2022 Datacenter | x64 | R Under development (unstable) (2022-12-25 r83502 ucrt) -- "Unsuffered Consequences" | 4165 |
| Click on any hostname to see more info about the system (e.g. compilers) (*) as reported by 'uname -p', except on Windows and Mac OS X | ||||
|
To the developers/maintainers of the msa package: Make sure to use the following settings in order to reproduce any error or warning you see on this page. |
| Package 1248/2158 | Hostname | OS / Arch | INSTALL | BUILD | CHECK | BUILD BIN | ||||||||
| msa 1.31.2 (landing page) Ulrich Bodenhofer
| palomino5 | Windows Server 2022 Datacenter / x64 | OK | OK | WARNINGS | OK | ||||||||
| Package: msa |
| Version: 1.31.2 |
| Command: chmod a+r msa -R && F:\biocbuild\bbs-3.17-bioc\R\bin\R.exe CMD build --keep-empty-dirs --no-resave-data msa |
| StartedAt: 2022-12-28 19:12:29 -0500 (Wed, 28 Dec 2022) |
| EndedAt: 2022-12-28 19:19:16 -0500 (Wed, 28 Dec 2022) |
| EllapsedTime: 407.0 seconds |
| RetCode: 0 |
| Status: OK |
| PackageFile: msa_1.31.2.tar.gz |
| PackageFileSize: 4.006 MiB |
############################################################################## ############################################################################## ### ### Running command: ### ### chmod a+r msa -R && F:\biocbuild\bbs-3.17-bioc\R\bin\R.exe CMD build --keep-empty-dirs --no-resave-data msa ### ############################################################################## ############################################################################## * checking for file 'msa/DESCRIPTION' ... OK * preparing 'msa': * checking DESCRIPTION meta-information ... OK * cleaning src * running 'cleanup.win' * installing the package to build vignettes * creating vignettes ... OK * cleaning src * running 'cleanup.win' * checking for LF line-endings in source and make files and shell scripts * checking for empty or unneeded directories * building 'msa_1.31.2.tar.gz' Warning: file 'msa/cleanup' did not have execute permissions: corrected Warning: file 'msa/src/ClustalOmega/configure' did not have execute permissions: corrected Warning: file 'msa/src/ClustalW/configure' did not have execute permissions: corrected Warning: file 'msa/src/gc-8.2.2/configure' did not have execute permissions: corrected Warning: file 'msa/src/gc-8.2.2/libatomic_ops/configure' did not have execute permissions: corrected