| Back to Build/check report for BioC 3.17 | 
  | 
This page was generated on 2023-01-02 09:00:39 -0500 (Mon, 02 Jan 2023).
| Hostname | OS | Arch (*) | R version | Installed pkgs | 
|---|---|---|---|---|
| palomino5 | Windows Server 2022 Datacenter | x64 | R Under development (unstable) (2022-12-25 r83502 ucrt) -- "Unsuffered Consequences" | 4165 | 
| Click on any hostname to see more info about the system (e.g. compilers) (*) as reported by 'uname -p', except on Windows and Mac OS X | ||||
| 
To the developers/maintainers of the mpra package: Make sure to use the following settings in order to reproduce any error or warning you see on this page.  | 
| Package 1245/2158 | Hostname | OS / Arch | INSTALL | BUILD | CHECK | BUILD BIN | ||||||||
| mpra 1.21.0  (landing page) Leslie Myint 
  | palomino5 | Windows Server 2022 Datacenter / x64 | OK | OK | OK | OK | ||||||||
| Package: mpra | 
| Version: 1.21.0 | 
| Command: chmod a+r mpra -R && F:\biocbuild\bbs-3.17-bioc\R\bin\R.exe CMD build --keep-empty-dirs --no-resave-data mpra | 
| StartedAt: 2022-12-28 19:12:21 -0500 (Wed, 28 Dec 2022) | 
| EndedAt: 2022-12-28 19:13:01 -0500 (Wed, 28 Dec 2022) | 
| EllapsedTime: 39.9 seconds | 
| RetCode: 0 | 
| Status: OK | 
| PackageFile: mpra_1.21.0.tar.gz | 
| PackageFileSize: 2.95 MiB | 
##############################################################################
##############################################################################
###
### Running command:
###
###   chmod a+r mpra -R && F:\biocbuild\bbs-3.17-bioc\R\bin\R.exe CMD build --keep-empty-dirs --no-resave-data mpra
###
##############################################################################
##############################################################################
* checking for file 'mpra/DESCRIPTION' ... OK
* preparing 'mpra':
* checking DESCRIPTION meta-information ... OK
* installing the package to process help pages
* saving partial Rd database
* creating vignettes ... OK
* checking for LF line-endings in source and make files and shell scripts
* checking for empty or unneeded directories
* looking to see if a 'data/datalist' file should be added
  NB: this package now depends on R (>= 3.5.0)
  WARNING: Added dependency on R >= 3.5.0 because serialized objects in
  serialize/load version 3 cannot be read in older versions of R.
  File(s) containing such objects:
    'mpra/data/mpraSetAggExample.rda'
    'mpra/data/mpraSetAllelicExample.rda' 'mpra/data/mpraSetExample.rda'
* building 'mpra_1.21.0.tar.gz'