| Back to Build/check report for BioC 3.17 |
|
This page was generated on 2023-01-02 09:00:38 -0500 (Mon, 02 Jan 2023).
| Hostname | OS | Arch (*) | R version | Installed pkgs |
|---|---|---|---|---|
| palomino5 | Windows Server 2022 Datacenter | x64 | R Under development (unstable) (2022-12-25 r83502 ucrt) -- "Unsuffered Consequences" | 4165 |
| Click on any hostname to see more info about the system (e.g. compilers) (*) as reported by 'uname -p', except on Windows and Mac OS X | ||||
|
To the developers/maintainers of the minet package: Make sure to use the following settings in order to reproduce any error or warning you see on this page. |
| Package 1191/2158 | Hostname | OS / Arch | INSTALL | BUILD | CHECK | BUILD BIN | ||||||||
| minet 3.57.0 (landing page) Patrick E. Meyer
| palomino5 | Windows Server 2022 Datacenter / x64 | OK | OK | OK | OK | ||||||||
| Package: minet |
| Version: 3.57.0 |
| Command: rm -rf minet.buildbin-libdir && mkdir minet.buildbin-libdir && F:\biocbuild\bbs-3.17-bioc\R\bin\R.exe CMD INSTALL --build --library=minet.buildbin-libdir minet_3.57.0.tar.gz |
| StartedAt: 2022-12-29 05:23:50 -0500 (Thu, 29 Dec 2022) |
| EndedAt: 2022-12-29 05:23:59 -0500 (Thu, 29 Dec 2022) |
| EllapsedTime: 8.9 seconds |
| RetCode: 0 |
| Status: OK |
| PackageFile: minet_3.57.0.zip |
| PackageFileSize: 411.4 KiB |
##############################################################################
##############################################################################
###
### Running command:
###
### rm -rf minet.buildbin-libdir && mkdir minet.buildbin-libdir && F:\biocbuild\bbs-3.17-bioc\R\bin\R.exe CMD INSTALL --build --library=minet.buildbin-libdir minet_3.57.0.tar.gz
###
##############################################################################
##############################################################################
* installing *source* package 'minet' ...
** using staged installation
** libs
using C++ compiler: 'G__~1.EXE (GCC) 12.2.0'
g++ -std=gnu++11 -I"F:/biocbuild/bbs-3.17-bioc/R/include" -DNDEBUG -I"c:/rtools42/x86_64-w64-mingw32.static.posix/include" -O2 -Wall -mfpmath=sse -msse2 -mstackrealign -c aracne.cpp -o aracne.o
g++ -std=gnu++11 -I"F:/biocbuild/bbs-3.17-bioc/R/include" -DNDEBUG -I"c:/rtools42/x86_64-w64-mingw32.static.posix/include" -O2 -Wall -mfpmath=sse -msse2 -mstackrealign -c clr.cpp -o clr.o
g++ -std=gnu++11 -I"F:/biocbuild/bbs-3.17-bioc/R/include" -DNDEBUG -I"c:/rtools42/x86_64-w64-mingw32.static.posix/include" -O2 -Wall -mfpmath=sse -msse2 -mstackrealign -c minet.cpp -o minet.o
g++ -std=gnu++11 -I"F:/biocbuild/bbs-3.17-bioc/R/include" -DNDEBUG -I"c:/rtools42/x86_64-w64-mingw32.static.posix/include" -O2 -Wall -mfpmath=sse -msse2 -mstackrealign -c mrnet.cpp -o mrnet.o
mrnet.cpp: In function 'SEXPREC* mrnet(SEXP, SEXP)':
mrnet.cpp:190:34: warning: comparison of integer expressions of different signedness: 'int' and 'unsigned int' [-Wsign-compare]
190 | for( int l=0; l<n; ++l )
| ~^~
g++ -std=gnu++11 -I"F:/biocbuild/bbs-3.17-bioc/R/include" -DNDEBUG -I"c:/rtools42/x86_64-w64-mingw32.static.posix/include" -O2 -Wall -mfpmath=sse -msse2 -mstackrealign -c validate.cpp -o validate.o
g++ -std=gnu++11 -shared -s -static-libgcc -o minet.dll tmp.def aracne.o clr.o minet.o mrnet.o validate.o -Lc:/rtools42/x86_64-w64-mingw32.static.posix/lib/x64 -Lc:/rtools42/x86_64-w64-mingw32.static.posix/lib -LF:/biocbuild/bbs-3.17-bioc/R/bin/x64 -lR
installing to F:/biocbuild/bbs-3.17-bioc-rtools43/meat/minet.buildbin-libdir/00LOCK-minet/00new/minet/libs/x64
** R
** data
** inst
** byte-compile and prepare package for lazy loading
** help
*** installing help indices
** building package indices
** testing if installed package can be loaded from temporary location
** testing if installed package can be loaded from final location
** testing if installed package keeps a record of temporary installation path
* MD5 sums
packaged installation of 'minet' as minet_3.57.0.zip
* DONE (minet)