| Back to Build/check report for BioC 3.17 |
|
This page was generated on 2023-01-02 09:00:38 -0500 (Mon, 02 Jan 2023).
| Hostname | OS | Arch (*) | R version | Installed pkgs |
|---|---|---|---|---|
| palomino5 | Windows Server 2022 Datacenter | x64 | R Under development (unstable) (2022-12-25 r83502 ucrt) -- "Unsuffered Consequences" | 4165 |
| Click on any hostname to see more info about the system (e.g. compilers) (*) as reported by 'uname -p', except on Windows and Mac OS X | ||||
|
To the developers/maintainers of the methInheritSim package: Make sure to use the following settings in order to reproduce any error or warning you see on this page. |
| Package 1147/2158 | Hostname | OS / Arch | INSTALL | BUILD | CHECK | BUILD BIN | ||||||||
| methInheritSim 1.21.0 (landing page) Pascal Belleau
| palomino5 | Windows Server 2022 Datacenter / x64 | OK | OK | OK | OK | ||||||||
| Package: methInheritSim |
| Version: 1.21.0 |
| Command: F:\biocbuild\bbs-3.17-bioc\R\bin\R.exe CMD check --no-multiarch --install=check:methInheritSim.install-out.txt --library=F:\biocbuild\bbs-3.17-bioc\R\library --no-vignettes --timings methInheritSim_1.21.0.tar.gz |
| StartedAt: 2022-12-29 01:14:41 -0500 (Thu, 29 Dec 2022) |
| EndedAt: 2022-12-29 01:18:32 -0500 (Thu, 29 Dec 2022) |
| EllapsedTime: 231.6 seconds |
| RetCode: 0 |
| Status: OK |
| CheckDir: methInheritSim.Rcheck |
| Warnings: 0 |
##############################################################################
##############################################################################
###
### Running command:
###
### F:\biocbuild\bbs-3.17-bioc\R\bin\R.exe CMD check --no-multiarch --install=check:methInheritSim.install-out.txt --library=F:\biocbuild\bbs-3.17-bioc\R\library --no-vignettes --timings methInheritSim_1.21.0.tar.gz
###
##############################################################################
##############################################################################
* using log directory 'F:/biocbuild/bbs-3.17-bioc-rtools43/meat/methInheritSim.Rcheck'
* using R Under development (unstable) (2022-12-25 r83502 ucrt)
* using platform: x86_64-w64-mingw32 (64-bit)
* R was compiled by
gcc.exe (GCC) 10.4.0
GNU Fortran (GCC) 10.4.0
* running under: Windows Server x64 (build 20348)
* using session charset: UTF-8
* using option '--no-vignettes'
* checking for file 'methInheritSim/DESCRIPTION' ... OK
* checking extension type ... Package
* this is package 'methInheritSim' version '1.21.0'
* package encoding: UTF-8
* checking package namespace information ... OK
* checking package dependencies ... OK
* checking if this is a source package ... OK
* checking if there is a namespace ... OK
* checking for hidden files and directories ... NOTE
Found the following hidden files and directories:
.travis.yml
These were most likely included in error. See section 'Package
structure' in the 'Writing R Extensions' manual.
* checking for portable file names ... OK
* checking whether package 'methInheritSim' can be installed ... OK
* checking installed package size ... OK
* checking package directory ... OK
* checking 'build' directory ... OK
* checking DESCRIPTION meta-information ... OK
* checking top-level files ... OK
* checking for left-over files ... OK
* checking index information ... OK
* checking package subdirectories ... OK
* checking R files for non-ASCII characters ... OK
* checking R files for syntax errors ... OK
* checking whether the package can be loaded ... OK
* checking whether the package can be loaded with stated dependencies ... OK
* checking whether the package can be unloaded cleanly ... OK
* checking whether the namespace can be loaded with stated dependencies ... OK
* checking whether the namespace can be unloaded cleanly ... OK
* checking dependencies in R code ... OK
* checking S3 generic/method consistency ... OK
* checking replacement functions ... OK
* checking foreign function calls ... OK
* checking R code for possible problems ... OK
* checking Rd files ... OK
* checking Rd metadata ... OK
* checking Rd cross-references ... OK
* checking for missing documentation entries ... OK
* checking for code/documentation mismatches ... OK
* checking Rd \usage sections ... OK
* checking Rd contents ... OK
* checking for unstated dependencies in examples ... OK
* checking contents of 'data' directory ... OK
* checking data for non-ASCII characters ... OK
* checking data for ASCII and uncompressed saves ... OK
* checking files in 'vignettes' ... OK
* checking examples ... OK
Examples with CPU (user + system) or elapsed time > 5s
user system elapsed
samplesForChrSynthetic 8.92 0.03 8.96
* checking for unstated dependencies in 'tests' ... OK
* checking tests ...
Running 'runTests.R'
OK
* checking for unstated dependencies in vignettes ... OK
* checking package vignettes in 'inst/doc' ... OK
* checking running R code from vignettes ... SKIPPED
* checking re-building of vignette outputs ... SKIPPED
* checking PDF version of manual ... OK
* DONE
Status: 1 NOTE
See
'F:/biocbuild/bbs-3.17-bioc-rtools43/meat/methInheritSim.Rcheck/00check.log'
for details.
methInheritSim.Rcheck/00install.out
############################################################################## ############################################################################## ### ### Running command: ### ### F:\biocbuild\bbs-3.17-bioc\R\bin\R.exe CMD INSTALL methInheritSim ### ############################################################################## ############################################################################## * installing to library 'F:/biocbuild/bbs-3.17-bioc/R/library' * installing *source* package 'methInheritSim' ... ** using staged installation ** R ** data ** inst ** byte-compile and prepare package for lazy loading ** help *** installing help indices ** building package indices ** installing vignettes ** testing if installed package can be loaded from temporary location ** testing if installed package can be loaded from final location ** testing if installed package keeps a record of temporary installation path * DONE (methInheritSim)
methInheritSim.Rcheck/tests/runTests.Rout
R Under development (unstable) (2022-12-25 r83502 ucrt) -- "Unsuffered Consequences"
Copyright (C) 2022 The R Foundation for Statistical Computing
Platform: x86_64-w64-mingw32/x64 (64-bit)
R is free software and comes with ABSOLUTELY NO WARRANTY.
You are welcome to redistribute it under certain conditions.
Type 'license()' or 'licence()' for distribution details.
R is a collaborative project with many contributors.
Type 'contributors()' for more information and
'citation()' on how to cite R or R packages in publications.
Type 'demo()' for some demos, 'help()' for on-line help, or
'help.start()' for an HTML browser interface to help.
Type 'q()' to quit R.
> ## Run all tests presnt in the package
> BiocGenerics:::testPackage("methInheritSim")
Loading required package: stats4
Loading required package: BiocGenerics
Attaching package: 'BiocGenerics'
The following objects are masked from 'package:stats':
IQR, mad, sd, var, xtabs
The following objects are masked from 'package:base':
Filter, Find, Map, Position, Reduce, anyDuplicated, aperm, append,
as.data.frame, basename, cbind, colnames, dirname, do.call,
duplicated, eval, evalq, get, grep, grepl, intersect, is.unsorted,
lapply, mapply, match, mget, order, paste, pmax, pmax.int, pmin,
pmin.int, rank, rbind, rownames, sapply, setdiff, sort, table,
tapply, union, unique, unsplit, which.max, which.min
Loading required package: S4Vectors
Attaching package: 'S4Vectors'
The following objects are masked from 'package:base':
I, expand.grid, unname
Loading required package: IRanges
Attaching package: 'IRanges'
The following object is masked from 'package:grDevices':
windows
Loading required package: GenomeInfoDb
uniting...
two groups detected:
will calculate methylation difference as the difference of
treatment (group: 1) - control (group: 0)
uniting...
two groups detected:
will calculate methylation difference as the difference of
treatment (group: 1) - control (group: 0)
uniting...
two groups detected:
will calculate methylation difference as the difference of
treatment (group: 1) - control (group: 0)
uniting...
two groups detected:
will calculate methylation difference as the difference of
treatment (group: 1) - control (group: 0)
uniting...
two groups detected:
will calculate methylation difference as the difference of
treatment (group: 1) - control (group: 0)
uniting...
two groups detected:
will calculate methylation difference as the difference of
treatment (group: 1) - control (group: 0)
uniting...
two groups detected:
will calculate methylation difference as the difference of
treatment (group: 1) - control (group: 0)
uniting...
two groups detected:
will calculate methylation difference as the difference of
treatment (group: 1) - control (group: 0)
uniting...
two groups detected:
will calculate methylation difference as the difference of
treatment (group: 1) - control (group: 0)
uniting...
two groups detected:
will calculate methylation difference as the difference of
treatment (group: 1) - control (group: 0)
uniting...
two groups detected:
will calculate methylation difference as the difference of
treatment (group: 1) - control (group: 0)
RUNIT TEST PROTOCOL -- Thu Dec 29 01:18:22 2022
***********************************************
Number of test functions: 104
Number of errors: 0
Number of failures: 0
1 Test Suite :
methInheritSim RUnit Tests - 104 test functions, 0 errors, 0 failures
Number of test functions: 104
Number of errors: 0
Number of failures: 0
>
> proc.time()
user system elapsed
20.75 0.90 21.59
methInheritSim.Rcheck/methInheritSim-Ex.timings
| name | user | system | elapsed | |
| calculateNbDiffCase | 0 | 0 | 0 | |
| createSampleID | 0 | 0 | 0 | |
| dataSimExample | 0.06 | 0.00 | 0.07 | |
| estBetaAlpha | 0 | 0 | 0 | |
| estBetaBeta | 0 | 0 | 0 | |
| fixSeed | 0 | 0 | 0 | |
| getDiffCase | 0 | 0 | 0 | |
| getDiffMeth | 0.07 | 0.03 | 0.09 | |
| getSim | 0.42 | 0.04 | 0.47 | |
| getSyntheticChr | 0.23 | 0.00 | 0.23 | |
| runOnEachSynCHR | 2.69 | 0.04 | 2.72 | |
| runSim | 4.27 | 0.04 | 4.31 | |
| samplesForChrSynthetic | 8.92 | 0.03 | 8.96 | |
| saveData | 0 | 0 | 0 | |
| simEachGeneration | 0.45 | 0.00 | 0.45 | |
| simInheritance | 0.61 | 0.00 | 0.61 | |
| testIfAlreadyDone | 0 | 0 | 0 | |
| validateRunSimDoubleParameters | 0 | 0 | 0 | |
| validateRunSimIntegerParameters | 0 | 0 | 0 | |
| validateRunSimLogicalParameters | 0.03 | 0.00 | 0.03 | |
| validateRunSimOtherParameters | 0.03 | 0.00 | 0.03 | |
| validateRunSimParameters | 0.02 | 0.00 | 0.02 | |