| Back to Build/check report for BioC 3.17 |
|
This page was generated on 2023-01-02 09:00:37 -0500 (Mon, 02 Jan 2023).
| Hostname | OS | Arch (*) | R version | Installed pkgs |
|---|---|---|---|---|
| palomino5 | Windows Server 2022 Datacenter | x64 | R Under development (unstable) (2022-12-25 r83502 ucrt) -- "Unsuffered Consequences" | 4165 |
| Click on any hostname to see more info about the system (e.g. compilers) (*) as reported by 'uname -p', except on Windows and Mac OS X | ||||
|
To the developers/maintainers of the metabCombiner package: Make sure to use the following settings in order to reproduce any error or warning you see on this page. |
| Package 1122/2158 | Hostname | OS / Arch | INSTALL | BUILD | CHECK | BUILD BIN | ||||||||
| metabCombiner 1.9.0 (landing page) Hani Habra
| palomino5 | Windows Server 2022 Datacenter / x64 | OK | OK | OK | OK | ||||||||
| Package: metabCombiner |
| Version: 1.9.0 |
| Command: F:\biocbuild\bbs-3.17-bioc\R\bin\R.exe CMD check --no-multiarch --install=check:metabCombiner.install-out.txt --library=F:\biocbuild\bbs-3.17-bioc\R\library --no-vignettes --timings metabCombiner_1.9.0.tar.gz |
| StartedAt: 2022-12-29 01:09:39 -0500 (Thu, 29 Dec 2022) |
| EndedAt: 2022-12-29 01:11:49 -0500 (Thu, 29 Dec 2022) |
| EllapsedTime: 130.5 seconds |
| RetCode: 0 |
| Status: OK |
| CheckDir: metabCombiner.Rcheck |
| Warnings: 0 |
##############################################################################
##############################################################################
###
### Running command:
###
### F:\biocbuild\bbs-3.17-bioc\R\bin\R.exe CMD check --no-multiarch --install=check:metabCombiner.install-out.txt --library=F:\biocbuild\bbs-3.17-bioc\R\library --no-vignettes --timings metabCombiner_1.9.0.tar.gz
###
##############################################################################
##############################################################################
* using log directory 'F:/biocbuild/bbs-3.17-bioc-rtools43/meat/metabCombiner.Rcheck'
* using R Under development (unstable) (2022-12-25 r83502 ucrt)
* using platform: x86_64-w64-mingw32 (64-bit)
* R was compiled by
gcc.exe (GCC) 10.4.0
GNU Fortran (GCC) 10.4.0
* running under: Windows Server x64 (build 20348)
* using session charset: UTF-8
* using option '--no-vignettes'
* checking for file 'metabCombiner/DESCRIPTION' ... OK
* this is package 'metabCombiner' version '1.9.0'
* package encoding: UTF-8
* checking package namespace information ... OK
* checking package dependencies ... OK
* checking if this is a source package ... OK
* checking if there is a namespace ... OK
* checking for hidden files and directories ... OK
* checking for portable file names ... OK
* checking whether package 'metabCombiner' can be installed ... OK
* used C compiler: 'gcc.exe (GCC) 12.2.0'
* checking installed package size ... OK
* checking package directory ... OK
* checking 'build' directory ... OK
* checking DESCRIPTION meta-information ... OK
* checking top-level files ... OK
* checking for left-over files ... OK
* checking index information ... OK
* checking package subdirectories ... OK
* checking R files for non-ASCII characters ... OK
* checking R files for syntax errors ... OK
* checking whether the package can be loaded ... OK
* checking whether the package can be loaded with stated dependencies ... OK
* checking whether the package can be unloaded cleanly ... OK
* checking whether the namespace can be loaded with stated dependencies ... OK
* checking whether the namespace can be unloaded cleanly ... OK
* checking dependencies in R code ... OK
* checking S3 generic/method consistency ... OK
* checking replacement functions ... OK
* checking foreign function calls ... OK
* checking R code for possible problems ... OK
* checking Rd files ... OK
* checking Rd metadata ... OK
* checking Rd cross-references ... OK
* checking for missing documentation entries ... OK
* checking for code/documentation mismatches ... OK
* checking Rd \usage sections ... OK
* checking Rd contents ... OK
* checking for unstated dependencies in examples ... OK
* checking contents of 'data' directory ... OK
* checking data for non-ASCII characters ... OK
* checking data for ASCII and uncompressed saves ... OK
* checking line endings in C/C++/Fortran sources/headers ... OK
* checking compiled code ... NOTE
Note: information on .o files for x64 is not available
File 'F:/biocbuild/bbs-3.17-bioc/R/library/metabCombiner/libs/x64/metabCombiner.dll':
Found 'abort', possibly from 'abort' (C), 'runtime' (Fortran)
Compiled code should not call entry points which might terminate R nor
write to stdout/stderr instead of to the console, nor use Fortran I/O
nor system RNGs nor [v]sprintf. The detected symbols are linked into
the code but might come from libraries and not actually be called.
See 'Writing portable packages' in the 'Writing R Extensions' manual.
* checking files in 'vignettes' ... OK
* checking examples ... OK
* checking for unstated dependencies in 'tests' ... OK
* checking tests ...
Running 'testthat.R'
OK
* checking for unstated dependencies in vignettes ... OK
* checking package vignettes in 'inst/doc' ... OK
* checking running R code from vignettes ... SKIPPED
* checking re-building of vignette outputs ... SKIPPED
* checking PDF version of manual ... OK
* DONE
Status: 1 NOTE
See
'F:/biocbuild/bbs-3.17-bioc-rtools43/meat/metabCombiner.Rcheck/00check.log'
for details.
metabCombiner.Rcheck/00install.out
############################################################################## ############################################################################## ### ### Running command: ### ### F:\biocbuild\bbs-3.17-bioc\R\bin\R.exe CMD INSTALL metabCombiner ### ############################################################################## ############################################################################## * installing to library 'F:/biocbuild/bbs-3.17-bioc/R/library' * installing *source* package 'metabCombiner' ... ** using staged installation ** libs using C compiler: 'gcc.exe (GCC) 12.2.0' gcc -I"F:/biocbuild/bbs-3.17-bioc/R/include" -DNDEBUG -I"c:/rtools42/x86_64-w64-mingw32.static.posix/include" -O2 -Wall -std=gnu99 -mfpmath=sse -msse2 -mstackrealign -c binByMZ.c -o binByMZ.o gcc -I"F:/biocbuild/bbs-3.17-bioc/R/include" -DNDEBUG -I"c:/rtools42/x86_64-w64-mingw32.static.posix/include" -O2 -Wall -std=gnu99 -mfpmath=sse -msse2 -mstackrealign -c findDuplicates.c -o findDuplicates.o gcc -I"F:/biocbuild/bbs-3.17-bioc/R/include" -DNDEBUG -I"c:/rtools42/x86_64-w64-mingw32.static.posix/include" -O2 -Wall -std=gnu99 -mfpmath=sse -msse2 -mstackrealign -c labelRows.c -o labelRows.o gcc -I"F:/biocbuild/bbs-3.17-bioc/R/include" -DNDEBUG -I"c:/rtools42/x86_64-w64-mingw32.static.posix/include" -O2 -Wall -std=gnu99 -mfpmath=sse -msse2 -mstackrealign -c metabCombiner_init.c -o metabCombiner_init.o gcc -I"F:/biocbuild/bbs-3.17-bioc/R/include" -DNDEBUG -I"c:/rtools42/x86_64-w64-mingw32.static.posix/include" -O2 -Wall -std=gnu99 -mfpmath=sse -msse2 -mstackrealign -c resolveRows.c -o resolveRows.o gcc -I"F:/biocbuild/bbs-3.17-bioc/R/include" -DNDEBUG -I"c:/rtools42/x86_64-w64-mingw32.static.posix/include" -O2 -Wall -std=gnu99 -mfpmath=sse -msse2 -mstackrealign -c selectAnchors.c -o selectAnchors.o gcc -I"F:/biocbuild/bbs-3.17-bioc/R/include" -DNDEBUG -I"c:/rtools42/x86_64-w64-mingw32.static.posix/include" -O2 -Wall -std=gnu99 -mfpmath=sse -msse2 -mstackrealign -c write2file.c -o write2file.o gcc -shared -s -static-libgcc -o metabCombiner.dll tmp.def binByMZ.o findDuplicates.o labelRows.o metabCombiner_init.o resolveRows.o selectAnchors.o write2file.o -Lc:/rtools42/x86_64-w64-mingw32.static.posix/lib/x64 -Lc:/rtools42/x86_64-w64-mingw32.static.posix/lib -LF:/biocbuild/bbs-3.17-bioc/R/bin/x64 -lR installing to F:/biocbuild/bbs-3.17-bioc/R/library/00LOCK-metabCombiner/00new/metabCombiner/libs/x64 ** R ** data ** demo ** inst ** byte-compile and prepare package for lazy loading ** help *** installing help indices ** building package indices ** installing vignettes ** testing if installed package can be loaded from temporary location ** testing if installed package can be loaded from final location ** testing if installed package keeps a record of temporary installation path * DONE (metabCombiner)
metabCombiner.Rcheck/tests/testthat.Rout
R Under development (unstable) (2022-12-25 r83502 ucrt) -- "Unsuffered Consequences"
Copyright (C) 2022 The R Foundation for Statistical Computing
Platform: x86_64-w64-mingw32/x64 (64-bit)
R is free software and comes with ABSOLUTELY NO WARRANTY.
You are welcome to redistribute it under certain conditions.
Type 'license()' or 'licence()' for distribution details.
R is a collaborative project with many contributors.
Type 'contributors()' for more information and
'citation()' on how to cite R or R packages in publications.
Type 'demo()' for some demos, 'help()' for on-line help, or
'help.start()' for an HTML browser interface to help.
Type 'q()' to quit R.
> library(testthat)
> library(metabCombiner)
Loading required package: dplyr
Attaching package: 'dplyr'
The following object is masked from 'package:testthat':
matches
The following objects are masked from 'package:stats':
filter, lag
The following objects are masked from 'package:base':
intersect, setdiff, setequal, union
>
> test_check("metabCombiner")
[ FAIL 0 | WARN 8 | SKIP 0 | PASS 33 ]
[ FAIL 0 | WARN 8 | SKIP 0 | PASS 33 ]
>
> proc.time()
user system elapsed
12.90 0.51 13.39
metabCombiner.Rcheck/metabCombiner-Ex.timings
| name | user | system | elapsed | |
| adductdata | 0.20 | 0.03 | 0.23 | |
| batchCombine | 0 | 0 | 0 | |
| calcScores | 1.57 | 0.14 | 1.70 | |
| calcScoresParam | 0 | 0 | 0 | |
| combinedTable | 0.17 | 0.02 | 0.19 | |
| datasets | 0.17 | 0.01 | 0.19 | |
| evaluateParams | 2.95 | 0.06 | 3.01 | |
| featdata | 0.19 | 0.00 | 0.19 | |
| filtered | 0.08 | 0.00 | 0.08 | |
| fit_gam | 2.08 | 0.03 | 2.11 | |
| fit_loess | 1.48 | 0.05 | 1.53 | |
| fitgamParam | 0 | 0 | 0 | |
| fitloessParam | 0.02 | 0.00 | 0.01 | |
| getAnchors | 0.72 | 0.03 | 0.75 | |
| getCoefficients | 1.61 | 0.07 | 1.67 | |
| getData | 0.06 | 0.03 | 0.10 | |
| getExtra | 0.11 | 0.01 | 0.12 | |
| getModel | 0.86 | 0.03 | 0.89 | |
| getSamples | 0.33 | 0.03 | 0.36 | |
| getStats | 0.89 | 0.05 | 0.94 | |
| iddata | 0.21 | 0.00 | 0.22 | |
| labelRows | 2.15 | 0.05 | 2.19 | |
| labelRowsParam | 0 | 0 | 0 | |
| metabCombine | 0 | 0 | 0 | |
| metabCombiner | 0.34 | 0.01 | 0.36 | |
| metabData | 0.2 | 0.0 | 0.2 | |
| nonmatched | 0.17 | 0.02 | 0.18 | |
| plot_fit | 0.53 | 0.06 | 0.59 | |
| rtdata | 0.17 | 0.03 | 0.21 | |
| selectAnchors | 0.78 | 0.00 | 0.78 | |
| selectAnchorsParam | 0 | 0 | 0 | |
| updateTables | 2.05 | 0.08 | 2.12 | |
| write2file | 1.83 | 0.04 | 1.87 | |