| Back to Build/check report for BioC 3.17 |
|
This page was generated on 2023-01-02 09:00:36 -0500 (Mon, 02 Jan 2023).
| Hostname | OS | Arch (*) | R version | Installed pkgs |
|---|---|---|---|---|
| palomino5 | Windows Server 2022 Datacenter | x64 | R Under development (unstable) (2022-12-25 r83502 ucrt) -- "Unsuffered Consequences" | 4165 |
| Click on any hostname to see more info about the system (e.g. compilers) (*) as reported by 'uname -p', except on Windows and Mac OS X | ||||
|
To the developers/maintainers of the maftools package: Make sure to use the following settings in order to reproduce any error or warning you see on this page. |
| Package 1063/2158 | Hostname | OS / Arch | INSTALL | BUILD | CHECK | BUILD BIN | ||||||||
| maftools 2.15.0 (landing page) Anand Mayakonda
| palomino5 | Windows Server 2022 Datacenter / x64 | OK | OK | OK | OK | ||||||||
| Package: maftools |
| Version: 2.15.0 |
| Command: rm -rf maftools.buildbin-libdir && mkdir maftools.buildbin-libdir && F:\biocbuild\bbs-3.17-bioc\R\bin\R.exe CMD INSTALL --build --library=maftools.buildbin-libdir maftools_2.15.0.tar.gz |
| StartedAt: 2022-12-29 05:20:20 -0500 (Thu, 29 Dec 2022) |
| EndedAt: 2022-12-29 05:20:52 -0500 (Thu, 29 Dec 2022) |
| EllapsedTime: 31.6 seconds |
| RetCode: 0 |
| Status: OK |
| PackageFile: maftools_2.15.0.zip |
| PackageFileSize: 12.84 MiB |
##############################################################################
##############################################################################
###
### Running command:
###
### rm -rf maftools.buildbin-libdir && mkdir maftools.buildbin-libdir && F:\biocbuild\bbs-3.17-bioc\R\bin\R.exe CMD INSTALL --build --library=maftools.buildbin-libdir maftools_2.15.0.tar.gz
###
##############################################################################
##############################################################################
* installing *source* package 'maftools' ...
** using staged installation
** libs
using C compiler: 'gcc.exe (GCC) 12.2.0'
gcc -I"F:/biocbuild/bbs-3.17-bioc/R/include" -DNDEBUG -D_FILE_OFFSET_BITS=64 -I'F:/biocbuild/bbs-3.17-bioc/R/library/Rhtslib/include' -I'F:/biocbuild/bbs-3.17-bioc/R/library/zlibbioc/include' -I"c:/rtools42/x86_64-w64-mingw32.static.posix/include" -O2 -Wall -std=gnu99 -mfpmath=sse -msse2 -mstackrealign -c ntcounts.c -o ntcounts.o
gcc -I"F:/biocbuild/bbs-3.17-bioc/R/include" -DNDEBUG -D_FILE_OFFSET_BITS=64 -I'F:/biocbuild/bbs-3.17-bioc/R/library/Rhtslib/include' -I'F:/biocbuild/bbs-3.17-bioc/R/library/zlibbioc/include' -I"c:/rtools42/x86_64-w64-mingw32.static.posix/include" -O2 -Wall -std=gnu99 -mfpmath=sse -msse2 -mstackrealign -c snpcounts.c -o snpcounts.o
snpcounts.c: In function 'snpcounts':
snpcounts.c:56:26: warning: passing argument 1 of 'countlines' discards 'const' qualifier from pointer target type [-Wdiscarded-qualifiers]
56 | int nloci = countlines(bedfile);
| ^~~~~~~
snpcounts.c:13:22: note: expected 'char *' but argument is of type 'const char *'
13 | int countlines(char *filename){
| ~~~~~~^~~~~~~~
snpcounts.c:56:7: warning: unused variable 'nloci' [-Wunused-variable]
56 | int nloci = countlines(bedfile);
| ^~~~~
gcc -I"F:/biocbuild/bbs-3.17-bioc/R/include" -DNDEBUG -D_FILE_OFFSET_BITS=64 -I'F:/biocbuild/bbs-3.17-bioc/R/library/Rhtslib/include' -I'F:/biocbuild/bbs-3.17-bioc/R/library/zlibbioc/include' -I"c:/rtools42/x86_64-w64-mingw32.static.posix/include" -O2 -Wall -std=gnu99 -mfpmath=sse -msse2 -mstackrealign -c somaticfreq.c -o somaticfreq.o
gcc -shared -s -static-libgcc -o maftools.dll tmp.def ntcounts.o snpcounts.o somaticfreq.o F:/biocbuild/bbs-3.17-bioc/R/library/Rhtslib/usrlib/x64/libhts.a -lz -lm -lbz2 -llzma -lcurl -lidn2 -lunistring -liconv -lssl -lcrypto -lcrypt32 -lwsock32 -lwldap32 -lssh2 -lgcrypt -lgpg-error -lws2_32 -lzstd -lregex -Lc:/rtools42/x86_64-w64-mingw32.static.posix/lib/x64 -Lc:/rtools42/x86_64-w64-mingw32.static.posix/lib -LF:/biocbuild/bbs-3.17-bioc/R/bin/x64 -lR
installing to F:/biocbuild/bbs-3.17-bioc-rtools43/meat/maftools.buildbin-libdir/00LOCK-maftools/00new/maftools/libs/x64
** R
** inst
** byte-compile and prepare package for lazy loading
** help
*** installing help indices
** building package indices
** installing vignettes
** testing if installed package can be loaded from temporary location
** testing if installed package can be loaded from final location
** testing if installed package keeps a record of temporary installation path
* MD5 sums
packaged installation of 'maftools' as maftools_2.15.0.zip
* DONE (maftools)