| Back to Build/check report for BioC 3.17 |
|
This page was generated on 2023-01-02 09:00:35 -0500 (Mon, 02 Jan 2023).
| Hostname | OS | Arch (*) | R version | Installed pkgs |
|---|---|---|---|---|
| palomino5 | Windows Server 2022 Datacenter | x64 | R Under development (unstable) (2022-12-25 r83502 ucrt) -- "Unsuffered Consequences" | 4165 |
| Click on any hostname to see more info about the system (e.g. compilers) (*) as reported by 'uname -p', except on Windows and Mac OS X | ||||
|
To the developers/maintainers of the isobar package: Make sure to use the following settings in order to reproduce any error or warning you see on this page. |
| Package 989/2158 | Hostname | OS / Arch | INSTALL | BUILD | CHECK | BUILD BIN | ||||||||
| isobar 1.45.0 (landing page) Florian P Breitwieser
| palomino5 | Windows Server 2022 Datacenter / x64 | OK | OK | WARNINGS | OK | ||||||||
| Package: isobar |
| Version: 1.45.0 |
| Command: rm -rf isobar.buildbin-libdir && mkdir isobar.buildbin-libdir && F:\biocbuild\bbs-3.17-bioc\R\bin\R.exe CMD INSTALL --build --library=isobar.buildbin-libdir isobar_1.45.0.tar.gz |
| StartedAt: 2022-12-29 05:18:16 -0500 (Thu, 29 Dec 2022) |
| EndedAt: 2022-12-29 05:19:12 -0500 (Thu, 29 Dec 2022) |
| EllapsedTime: 55.5 seconds |
| RetCode: 0 |
| Status: OK |
| PackageFile: isobar_1.45.0.zip |
| PackageFileSize: 3.756 MiB |
##############################################################################
##############################################################################
###
### Running command:
###
### rm -rf isobar.buildbin-libdir && mkdir isobar.buildbin-libdir && F:\biocbuild\bbs-3.17-bioc\R\bin\R.exe CMD INSTALL --build --library=isobar.buildbin-libdir isobar_1.45.0.tar.gz
###
##############################################################################
##############################################################################
* installing *source* package 'isobar' ...
** using staged installation
** R
** data
** inst
** byte-compile and prepare package for lazy loading
in method for 'coerce' with signature '"MSnSet","IBSpectra"': no definition for class "MSnSet"
in method for 'coerce' with signature '"IBSpectra","MSnSet"': no definition for class "MSnSet"
Note: possible error in 'png(sprintf("pairwise_correlation_%s.png", ': unused argument (title = "Pairwise Correlation plot")
** help
*** installing help indices
** building package indices
** installing vignettes
** testing if installed package can be loaded from temporary location
** testing if installed package can be loaded from final location
** testing if installed package keeps a record of temporary installation path
* MD5 sums
packaged installation of 'isobar' as isobar_1.45.0.zip
* DONE (isobar)