| Back to Build/check report for BioC 3.17 |
|
This page was generated on 2023-01-02 09:00:33 -0500 (Mon, 02 Jan 2023).
| Hostname | OS | Arch (*) | R version | Installed pkgs |
|---|---|---|---|---|
| palomino5 | Windows Server 2022 Datacenter | x64 | R Under development (unstable) (2022-12-25 r83502 ucrt) -- "Unsuffered Consequences" | 4165 |
| Click on any hostname to see more info about the system (e.g. compilers) (*) as reported by 'uname -p', except on Windows and Mac OS X | ||||
|
To the developers/maintainers of the hyperdraw package: Make sure to use the following settings in order to reproduce any error or warning you see on this page. |
| Package 921/2158 | Hostname | OS / Arch | INSTALL | BUILD | CHECK | BUILD BIN | ||||||||
| hyperdraw 1.51.0 (landing page) Paul Murrell
| palomino5 | Windows Server 2022 Datacenter / x64 | OK | OK | OK | OK | ||||||||
| Package: hyperdraw |
| Version: 1.51.0 |
| Command: F:\biocbuild\bbs-3.17-bioc\R\bin\R.exe CMD check --no-multiarch --install=check:hyperdraw.install-out.txt --library=F:\biocbuild\bbs-3.17-bioc\R\library --no-vignettes --timings hyperdraw_1.51.0.tar.gz |
| StartedAt: 2022-12-29 00:34:20 -0500 (Thu, 29 Dec 2022) |
| EndedAt: 2022-12-29 00:35:00 -0500 (Thu, 29 Dec 2022) |
| EllapsedTime: 39.9 seconds |
| RetCode: 0 |
| Status: OK |
| CheckDir: hyperdraw.Rcheck |
| Warnings: 0 |
##############################################################################
##############################################################################
###
### Running command:
###
### F:\biocbuild\bbs-3.17-bioc\R\bin\R.exe CMD check --no-multiarch --install=check:hyperdraw.install-out.txt --library=F:\biocbuild\bbs-3.17-bioc\R\library --no-vignettes --timings hyperdraw_1.51.0.tar.gz
###
##############################################################################
##############################################################################
* using log directory 'F:/biocbuild/bbs-3.17-bioc-rtools43/meat/hyperdraw.Rcheck'
* using R Under development (unstable) (2022-12-25 r83502 ucrt)
* using platform: x86_64-w64-mingw32 (64-bit)
* R was compiled by
gcc.exe (GCC) 10.4.0
GNU Fortran (GCC) 10.4.0
* running under: Windows Server x64 (build 20348)
* using session charset: UTF-8
* using option '--no-vignettes'
* checking for file 'hyperdraw/DESCRIPTION' ... OK
* this is package 'hyperdraw' version '1.51.0'
* checking package namespace information ... OK
* checking package dependencies ... OK
* checking if this is a source package ... OK
* checking if there is a namespace ... OK
* checking for hidden files and directories ... OK
* checking for portable file names ... OK
* checking whether package 'hyperdraw' can be installed ... OK
* checking installed package size ... OK
* checking package directory ... OK
* checking 'build' directory ... OK
* checking DESCRIPTION meta-information ... OK
* checking top-level files ... OK
* checking for left-over files ... OK
* checking index information ... OK
* checking package subdirectories ... OK
* checking R files for non-ASCII characters ... OK
* checking R files for syntax errors ... OK
* checking whether the package can be loaded ... OK
* checking whether the package can be loaded with stated dependencies ... OK
* checking whether the package can be unloaded cleanly ... OK
* checking whether the namespace can be loaded with stated dependencies ... OK
* checking whether the namespace can be unloaded cleanly ... OK
* checking dependencies in R code ... OK
* checking S3 generic/method consistency ... OK
* checking replacement functions ... OK
* checking foreign function calls ... OK
* checking R code for possible problems ... OK
* checking Rd files ... OK
* checking Rd metadata ... OK
* checking Rd cross-references ... OK
* checking for missing documentation entries ... OK
* checking for code/documentation mismatches ... OK
* checking Rd \usage sections ... OK
* checking Rd contents ... OK
* checking for unstated dependencies in examples ... OK
* checking sizes of PDF files under 'inst/doc' ... OK
* checking files in 'vignettes' ... OK
* checking examples ... OK
* checking for unstated dependencies in 'tests' ... OK
* checking tests ...
Running 'test.R'
OK
* checking for unstated dependencies in vignettes ... OK
* checking package vignettes in 'inst/doc' ... OK
* checking running R code from vignettes ... SKIPPED
* checking re-building of vignette outputs ... SKIPPED
* checking PDF version of manual ... OK
* DONE
Status: OK
hyperdraw.Rcheck/00install.out
############################################################################## ############################################################################## ### ### Running command: ### ### F:\biocbuild\bbs-3.17-bioc\R\bin\R.exe CMD INSTALL hyperdraw ### ############################################################################## ############################################################################## * installing to library 'F:/biocbuild/bbs-3.17-bioc/R/library' * installing *source* package 'hyperdraw' ... ** using staged installation ** R ** inst ** byte-compile and prepare package for lazy loading Creating a new generic function for 'graphLayout' in package 'hyperdraw' ** help *** installing help indices ** building package indices ** installing vignettes ** testing if installed package can be loaded from temporary location ** testing if installed package can be loaded from final location ** testing if installed package keeps a record of temporary installation path * DONE (hyperdraw)
hyperdraw.Rcheck/tests/test.Rout
R Under development (unstable) (2022-12-25 r83502 ucrt) -- "Unsuffered Consequences"
Copyright (C) 2022 The R Foundation for Statistical Computing
Platform: x86_64-w64-mingw32/x64 (64-bit)
R is free software and comes with ABSOLUTELY NO WARRANTY.
You are welcome to redistribute it under certain conditions.
Type 'license()' or 'licence()' for distribution details.
R is a collaborative project with many contributors.
Type 'contributors()' for more information and
'citation()' on how to cite R or R packages in publications.
Type 'demo()' for some demos, 'help()' for on-line help, or
'help.start()' for an HTML browser interface to help.
Type 'q()' to quit R.
>
> library(hyperdraw)
>
> # Check graph validation
>
> # Edges must be directed
>
> badgnel.1 <- new("graphNEL",
+ nodes=c("A", "R"),
+ edgeL=list(
+ A=list(edges="R"),
+ R=list(edges="A")))
> stopifnot(inherits(try(graphBPH(badgnel.1, "")), "try-error"))
Error in validGraphBPH(.Object) :
All edges must be between a normal node and an edge node
>
> # All edges must be between normal node and edge node
> badgnel.2 <- new("graphNEL",
+ nodes=c("A", "B"),
+ edgeL=list(
+ A=list(edges="B"),
+ B=list(edges="A")),
+ edgemode="directed")
> stopifnot(inherits(try(graphBPH(badgnel.2, "")), "try-error"))
Error in validGraphBPH(.Object) :
All edges must be between a normal node and an edge node
>
> # If it's a Hypergraph, all Hyperedges must be DirectedHyperedges
>
> require(hypergraph)
Loading required package: hypergraph
Loading required package: graph
Loading required package: BiocGenerics
Attaching package: 'BiocGenerics'
The following objects are masked from 'package:stats':
IQR, mad, sd, var, xtabs
The following objects are masked from 'package:base':
Filter, Find, Map, Position, Reduce, anyDuplicated, aperm, append,
as.data.frame, basename, cbind, colnames, dirname, do.call,
duplicated, eval, evalq, get, grep, grepl, intersect, is.unsorted,
lapply, mapply, match, mget, order, paste, pmax, pmax.int, pmin,
pmin.int, rank, rbind, rownames, sapply, setdiff, sort, table,
tapply, union, unique, unsplit, which.max, which.min
>
> badhg <- Hypergraph(c("A", "B"), list(Hyperedge(c("A", "B"))))
> stopifnot(inherits(try(graphBPH(badhg)), "try-error"))
Error in graphBPH(badhg) : All hyperedges must be directed hyperedges
>
> # Examples in man pages test simple examples that should work
>
>
> proc.time()
user system elapsed
0.68 0.06 1.12
hyperdraw.Rcheck/hyperdraw-Ex.timings
| name | user | system | elapsed | |
| RagraphBPH-class | 0.40 | 0.02 | 0.42 | |
| graphBPH-class | 0.28 | 0.00 | 0.28 | |
| graphLayout | 0 | 0 | 0 | |