| Back to Build/check report for BioC 3.17 |
|
This page was generated on 2023-01-02 09:00:33 -0500 (Mon, 02 Jan 2023).
| Hostname | OS | Arch (*) | R version | Installed pkgs |
|---|---|---|---|---|
| palomino5 | Windows Server 2022 Datacenter | x64 | R Under development (unstable) (2022-12-25 r83502 ucrt) -- "Unsuffered Consequences" | 4165 |
| Click on any hostname to see more info about the system (e.g. compilers) (*) as reported by 'uname -p', except on Windows and Mac OS X | ||||
|
To the developers/maintainers of the hapFabia package: Make sure to use the following settings in order to reproduce any error or warning you see on this page. |
| Package 874/2158 | Hostname | OS / Arch | INSTALL | BUILD | CHECK | BUILD BIN | ||||||||
| hapFabia 1.41.0 (landing page) Andreas Mitterecker
| palomino5 | Windows Server 2022 Datacenter / x64 | OK | OK | WARNINGS | OK | ||||||||
| Package: hapFabia |
| Version: 1.41.0 |
| Command: rm -rf hapFabia.buildbin-libdir && mkdir hapFabia.buildbin-libdir && F:\biocbuild\bbs-3.17-bioc\R\bin\R.exe CMD INSTALL --build --library=hapFabia.buildbin-libdir hapFabia_1.41.0.tar.gz |
| StartedAt: 2022-12-29 05:14:56 -0500 (Thu, 29 Dec 2022) |
| EndedAt: 2022-12-29 05:15:22 -0500 (Thu, 29 Dec 2022) |
| EllapsedTime: 26.4 seconds |
| RetCode: 0 |
| Status: OK |
| PackageFile: hapFabia_1.41.0.zip |
| PackageFileSize: 1.718 MiB |
##############################################################################
##############################################################################
###
### Running command:
###
### rm -rf hapFabia.buildbin-libdir && mkdir hapFabia.buildbin-libdir && F:\biocbuild\bbs-3.17-bioc\R\bin\R.exe CMD INSTALL --build --library=hapFabia.buildbin-libdir hapFabia_1.41.0.tar.gz
###
##############################################################################
##############################################################################
* installing *source* package 'hapFabia' ...
** using staged installation
** libs
using C compiler: 'gcc.exe (GCC) 12.2.0'
gcc -I"F:/biocbuild/bbs-3.17-bioc/R/include" -DNDEBUG -I"c:/rtools42/x86_64-w64-mingw32.static.posix/include" -O2 -Wall -std=gnu99 -mfpmath=sse -msse2 -mstackrealign -c interfaceR.c -o interfaceR.o
gcc -I"F:/biocbuild/bbs-3.17-bioc/R/include" -DNDEBUG -I"c:/rtools42/x86_64-w64-mingw32.static.posix/include" -O2 -Wall -std=gnu99 -mfpmath=sse -msse2 -mstackrealign -c split_sparse_matrixB.c -o split_sparse_matrixB.o
gcc -I"F:/biocbuild/bbs-3.17-bioc/R/include" -DNDEBUG -I"c:/rtools42/x86_64-w64-mingw32.static.posix/include" -O2 -Wall -std=gnu99 -mfpmath=sse -msse2 -mstackrealign -c vcftoFABIAB.c -o vcftoFABIAB.o
vcftoFABIAB.c: In function 'getdelimS':
vcftoFABIAB.c:50:7: warning: this 'if' clause does not guard... [-Wmisleading-indentation]
50 | if (ch == EOF)
| ^~
vcftoFABIAB.c:54:10: note: ...this statement, but the latter is misleadingly indented as if it were guarded by the 'if'
54 | while (idx > *linebufsz - 2) {
| ^~~~~
vcftoFABIAB.c: In function 'vcftoFABIAB':
vcftoFABIAB.c:394:19: warning: 'strncat' output may be truncated copying 19 bytes from a string of length 1999 [-Wstringop-truncation]
394 | strncat(format[j],Iformat,19);
| ^~~~~~~~~~~~~~~~~~~~~~~~~~~~~
vcftoFABIAB.c:382:19: warning: 'strncat' output may be truncated copying 190 bytes from a string of length 19999 [-Wstringop-truncation]
382 | strncat(info[j],Iinfo,190);
| ^~~~~~~~~~~~~~~~~~~~~~~~~~
vcftoFABIAB.c:372:19: warning: 'strncat' output may be truncated copying 19 bytes from a string of length 1999 [-Wstringop-truncation]
372 | strncat(filter[j],Ifilter,19);
| ^~~~~~~~~~~~~~~~~~~~~~~~~~~~~
vcftoFABIAB.c:362:19: warning: 'strncat' output may be truncated copying 19 bytes from a string of length 1999 [-Wstringop-truncation]
362 | strncat(qual[j],Iqual,19);
| ^~~~~~~~~~~~~~~~~~~~~~~~~
vcftoFABIAB.c:352:19: warning: 'strncat' output may be truncated copying 190 bytes from a string of length 1999999 [-Wstringop-truncation]
352 | strncat(minor[j],Iminor,190);
| ^~~~~~~~~~~~~~~~~~~~~~~~~~~~
vcftoFABIAB.c:342:19: warning: 'strncat' output may be truncated copying 190 bytes from a string of length 1999999 [-Wstringop-truncation]
342 | strncat(major[j],Imajor,190);
| ^~~~~~~~~~~~~~~~~~~~~~~~~~~~
vcftoFABIAB.c:332:19: warning: 'strncat' output may be truncated copying 49 bytes from a string of length 4999 [-Wstringop-truncation]
332 | strncat(snpName[j],IsnpName,49);
| ^~~~~~~~~~~~~~~~~~~~~~~~~~~~~~~
vcftoFABIAB.c:250:21: warning: argument 1 range [18446744071562067968, 18446744073709551615] exceeds maximum object size 9223372036854775807 [-Walloc-size-larger-than=]
250 | snpName[0] = calloc((long) 50*snps, sizeof(char));
| ^~~~~~~~~~~~~~~~~~~~~~~~~~~~~~~~~~~~
In file included from vcftoFABIAB.c:2:
c:\rtools43\x86_64-w64-mingw32.static.posix\include\stdlib.h:535:17: note: in a call to allocation function 'calloc' declared here
535 | void *__cdecl calloc(size_t _NumOfElements,size_t _SizeOfElements);
| ^~~~~~
vcftoFABIAB.c:258:20: warning: argument 1 range [18446744071562067968, 18446744073709551615] exceeds maximum object size 9223372036854775807 [-Walloc-size-larger-than=]
258 | filter[0] = calloc((long) 20*snps, sizeof(char));
| ^~~~~~~~~~~~~~~~~~~~~~~~~~~~~~~~~~~~
c:\rtools43\x86_64-w64-mingw32.static.posix\include\stdlib.h:535:17: note: in a call to allocation function 'calloc' declared here
535 | void *__cdecl calloc(size_t _NumOfElements,size_t _SizeOfElements);
| ^~~~~~
vcftoFABIAB.c:266:18: warning: argument 1 range [18446744071562067968, 18446744073709551615] exceeds maximum object size 9223372036854775807 [-Walloc-size-larger-than=]
266 | qual[0] = calloc((long) 20*snps, sizeof(char));
| ^~~~~~~~~~~~~~~~~~~~~~~~~~~~~~~~~~~~
c:\rtools43\x86_64-w64-mingw32.static.posix\include\stdlib.h:535:17: note: in a call to allocation function 'calloc' declared here
535 | void *__cdecl calloc(size_t _NumOfElements,size_t _SizeOfElements);
| ^~~~~~
vcftoFABIAB.c:281:20: warning: argument 1 range [18446744071562067968, 18446744073709551615] exceeds maximum object size 9223372036854775807 [-Walloc-size-larger-than=]
281 | format[0] = calloc((long) 20*snps, sizeof(char));
| ^~~~~~~~~~~~~~~~~~~~~~~~~~~~~~~~~~~~
c:\rtools43\x86_64-w64-mingw32.static.posix\include\stdlib.h:535:17: note: in a call to allocation function 'calloc' declared here
535 | void *__cdecl calloc(size_t _NumOfElements,size_t _SizeOfElements);
| ^~~~~~
gcc -shared -s -static-libgcc -o hapFabia.dll tmp.def interfaceR.o split_sparse_matrixB.o vcftoFABIAB.o -Lc:/rtools42/x86_64-w64-mingw32.static.posix/lib/x64 -Lc:/rtools42/x86_64-w64-mingw32.static.posix/lib -LF:/biocbuild/bbs-3.17-bioc/R/bin/x64 -lR
installing to F:/biocbuild/bbs-3.17-bioc-rtools43/meat/hapFabia.buildbin-libdir/00LOCK-hapFabia/00new/hapFabia/libs/x64
** R
** data
** inst
** byte-compile and prepare package for lazy loading
** help
*** installing help indices
** building package indices
** installing vignettes
** testing if installed package can be loaded from temporary location
** testing if installed package can be loaded from final location
** testing if installed package keeps a record of temporary installation path
* MD5 sums
packaged installation of 'hapFabia' as hapFabia_1.41.0.zip
* DONE (hapFabia)