| Back to Build/check report for BioC 3.17 |
|
This page was generated on 2023-01-02 09:00:32 -0500 (Mon, 02 Jan 2023).
| Hostname | OS | Arch (*) | R version | Installed pkgs |
|---|---|---|---|---|
| palomino5 | Windows Server 2022 Datacenter | x64 | R Under development (unstable) (2022-12-25 r83502 ucrt) -- "Unsuffered Consequences" | 4165 |
| Click on any hostname to see more info about the system (e.g. compilers) (*) as reported by 'uname -p', except on Windows and Mac OS X | ||||
|
To the developers/maintainers of the gpls package: Make sure to use the following settings in order to reproduce any error or warning you see on this page. |
| Package 836/2158 | Hostname | OS / Arch | INSTALL | BUILD | CHECK | BUILD BIN | ||||||||
| gpls 1.71.0 (landing page) Bioconductor Package Maintainer
| palomino5 | Windows Server 2022 Datacenter / x64 | OK | OK | WARNINGS | OK | ||||||||
| Package: gpls |
| Version: 1.71.0 |
| Command: F:\biocbuild\bbs-3.17-bioc\R\bin\R.exe CMD check --no-multiarch --install=check:gpls.install-out.txt --library=F:\biocbuild\bbs-3.17-bioc\R\library --no-vignettes --timings gpls_1.71.0.tar.gz |
| StartedAt: 2022-12-29 00:18:54 -0500 (Thu, 29 Dec 2022) |
| EndedAt: 2022-12-29 00:19:22 -0500 (Thu, 29 Dec 2022) |
| EllapsedTime: 28.0 seconds |
| RetCode: 0 |
| Status: WARNINGS |
| CheckDir: gpls.Rcheck |
| Warnings: 1 |
##############################################################################
##############################################################################
###
### Running command:
###
### F:\biocbuild\bbs-3.17-bioc\R\bin\R.exe CMD check --no-multiarch --install=check:gpls.install-out.txt --library=F:\biocbuild\bbs-3.17-bioc\R\library --no-vignettes --timings gpls_1.71.0.tar.gz
###
##############################################################################
##############################################################################
* using log directory 'F:/biocbuild/bbs-3.17-bioc-rtools43/meat/gpls.Rcheck'
* using R Under development (unstable) (2022-12-25 r83502 ucrt)
* using platform: x86_64-w64-mingw32 (64-bit)
* R was compiled by
gcc.exe (GCC) 10.4.0
GNU Fortran (GCC) 10.4.0
* running under: Windows Server x64 (build 20348)
* using session charset: UTF-8
* using option '--no-vignettes'
* checking for file 'gpls/DESCRIPTION' ... OK
* this is package 'gpls' version '1.71.0'
* checking package namespace information ... OK
* checking package dependencies ... OK
* checking if this is a source package ... OK
* checking if there is a namespace ... OK
* checking for hidden files and directories ... OK
* checking for portable file names ... OK
* checking whether package 'gpls' can be installed ... WARNING
Found the following significant warnings:
Note: break used in wrong context: no loop is visible
See 'F:/biocbuild/bbs-3.17-bioc-rtools43/meat/gpls.Rcheck/00install.out' for details.
Information on the location(s) of code generating the 'Note's can be
obtained by re-running with environment variable R_KEEP_PKG_SOURCE set
to 'yes'.
* checking installed package size ... OK
* checking package directory ... OK
* checking 'build' directory ... OK
* checking DESCRIPTION meta-information ... OK
* checking top-level files ... OK
* checking for left-over files ... OK
* checking index information ... OK
* checking package subdirectories ... OK
* checking R files for non-ASCII characters ... OK
* checking R files for syntax errors ... OK
* checking whether the package can be loaded ... OK
* checking whether the package can be loaded with stated dependencies ... OK
* checking whether the package can be unloaded cleanly ... OK
* checking whether the namespace can be loaded with stated dependencies ... OK
* checking whether the namespace can be unloaded cleanly ... OK
* checking dependencies in R code ... OK
* checking S3 generic/method consistency ... OK
* checking replacement functions ... OK
* checking foreign function calls ... OK
* checking R code for possible problems ... OK
* checking Rd files ... NOTE
prepare_Rd: glpls1a.Rd:26-28: Dropping empty section \details
prepare_Rd: glpls1a.Rd:47: Dropping empty section \note
prepare_Rd: glpls1a.cv.error.Rd:24-26: Dropping empty section \details
prepare_Rd: glpls1a.cv.error.Rd:42: Dropping empty section \note
prepare_Rd: glpls1a.logit.all.Rd:28-30: Dropping empty section \details
prepare_Rd: glpls1a.logit.all.Rd:45: Dropping empty section \note
prepare_Rd: glpls1a.mlogit.Rd:27-29: Dropping empty section \details
prepare_Rd: glpls1a.mlogit.Rd:47: Dropping empty section \note
prepare_Rd: glpls1a.mlogit.cv.error.Rd:24: Dropping empty section \details
prepare_Rd: glpls1a.mlogit.cv.error.Rd:40: Dropping empty section \note
prepare_Rd: glpls1a.train.test.error.Rd:27-29: Dropping empty section \details
prepare_Rd: glpls1a.train.test.error.Rd:46: Dropping empty section \note
* checking Rd metadata ... OK
* checking Rd cross-references ... OK
* checking for missing documentation entries ... OK
* checking for code/documentation mismatches ... OK
* checking Rd \usage sections ... OK
* checking Rd contents ... OK
* checking for unstated dependencies in examples ... OK
* checking sizes of PDF files under 'inst/doc' ... OK
* checking files in 'vignettes' ... OK
* checking examples ... OK
* checking for unstated dependencies in vignettes ... OK
* checking package vignettes in 'inst/doc' ... OK
* checking running R code from vignettes ... SKIPPED
* checking re-building of vignette outputs ... SKIPPED
* checking PDF version of manual ... OK
* DONE
Status: 1 WARNING, 1 NOTE
See
'F:/biocbuild/bbs-3.17-bioc-rtools43/meat/gpls.Rcheck/00check.log'
for details.
gpls.Rcheck/00install.out
############################################################################## ############################################################################## ### ### Running command: ### ### F:\biocbuild\bbs-3.17-bioc\R\bin\R.exe CMD INSTALL gpls ### ############################################################################## ############################################################################## * installing to library 'F:/biocbuild/bbs-3.17-bioc/R/library' * installing *source* package 'gpls' ... ** using staged installation ** R ** byte-compile and prepare package for lazy loading Note: break used in wrong context: no loop is visible Note: break used in wrong context: no loop is visible ** help *** installing help indices ** building package indices ** installing vignettes ** testing if installed package can be loaded from temporary location ** testing if installed package can be loaded from final location ** testing if installed package keeps a record of temporary installation path * DONE (gpls)
gpls.Rcheck/gpls-Ex.timings
| name | user | system | elapsed | |
| glpls1a | 0.01 | 0.00 | 0.01 | |
| glpls1a.cv.error | 0.16 | 0.02 | 0.17 | |
| glpls1a.logit.all | 0.02 | 0.00 | 0.02 | |
| glpls1a.mlogit | 0.08 | 0.00 | 0.08 | |
| glpls1a.mlogit.cv.error | 1.50 | 0.03 | 1.53 | |
| glpls1a.train.test.error | 0.02 | 0.00 | 0.02 | |
| gpls | 0.04 | 0.01 | 0.06 | |
| predict.gpls | 0.07 | 0.02 | 0.08 | |