| Back to Build/check report for BioC 3.17 |
|
This page was generated on 2023-01-02 09:00:31 -0500 (Mon, 02 Jan 2023).
| Hostname | OS | Arch (*) | R version | Installed pkgs |
|---|---|---|---|---|
| palomino5 | Windows Server 2022 Datacenter | x64 | R Under development (unstable) (2022-12-25 r83502 ucrt) -- "Unsuffered Consequences" | 4165 |
| Click on any hostname to see more info about the system (e.g. compilers) (*) as reported by 'uname -p', except on Windows and Mac OS X | ||||
|
To the developers/maintainers of the ggtree package: Make sure to use the following settings in order to reproduce any error or warning you see on this page. |
| Package 803/2158 | Hostname | OS / Arch | INSTALL | BUILD | CHECK | BUILD BIN | ||||||||
| ggtree 3.7.1 (landing page) Guangchuang Yu
| palomino5 | Windows Server 2022 Datacenter / x64 | OK | OK | OK | OK | ||||||||
| Package: ggtree |
| Version: 3.7.1 |
| Command: F:\biocbuild\bbs-3.17-bioc\R\bin\R.exe CMD check --no-multiarch --install=check:ggtree.install-out.txt --library=F:\biocbuild\bbs-3.17-bioc\R\library --no-vignettes --timings ggtree_3.7.1.tar.gz |
| StartedAt: 2022-12-29 00:12:28 -0500 (Thu, 29 Dec 2022) |
| EndedAt: 2022-12-29 00:13:36 -0500 (Thu, 29 Dec 2022) |
| EllapsedTime: 67.7 seconds |
| RetCode: 0 |
| Status: OK |
| CheckDir: ggtree.Rcheck |
| Warnings: 0 |
##############################################################################
##############################################################################
###
### Running command:
###
### F:\biocbuild\bbs-3.17-bioc\R\bin\R.exe CMD check --no-multiarch --install=check:ggtree.install-out.txt --library=F:\biocbuild\bbs-3.17-bioc\R\library --no-vignettes --timings ggtree_3.7.1.tar.gz
###
##############################################################################
##############################################################################
* using log directory 'F:/biocbuild/bbs-3.17-bioc-rtools43/meat/ggtree.Rcheck'
* using R Under development (unstable) (2022-12-25 r83502 ucrt)
* using platform: x86_64-w64-mingw32 (64-bit)
* R was compiled by
gcc.exe (GCC) 10.4.0
GNU Fortran (GCC) 10.4.0
* running under: Windows Server x64 (build 20348)
* using session charset: UTF-8
* using option '--no-vignettes'
* checking for file 'ggtree/DESCRIPTION' ... OK
* checking extension type ... Package
* this is package 'ggtree' version '3.7.1'
* package encoding: UTF-8
* checking package namespace information ... OK
* checking package dependencies ... OK
* checking if this is a source package ... OK
* checking if there is a namespace ... OK
* checking for hidden files and directories ... OK
* checking for portable file names ... OK
* checking whether package 'ggtree' can be installed ... OK
* checking installed package size ... OK
* checking package directory ... OK
* checking 'build' directory ... OK
* checking DESCRIPTION meta-information ... OK
* checking top-level files ... OK
* checking for left-over files ... OK
* checking index information ... OK
* checking package subdirectories ... OK
* checking R files for non-ASCII characters ... OK
* checking R files for syntax errors ... OK
* checking whether the package can be loaded ... OK
* checking whether the package can be loaded with stated dependencies ... OK
* checking whether the package can be unloaded cleanly ... OK
* checking whether the namespace can be loaded with stated dependencies ... OK
* checking whether the namespace can be unloaded cleanly ... OK
* checking dependencies in R code ... OK
* checking S3 generic/method consistency ... OK
* checking replacement functions ... OK
* checking foreign function calls ... OK
* checking R code for possible problems ... OK
* checking Rd files ... OK
* checking Rd metadata ... OK
* checking Rd cross-references ... OK
* checking for missing documentation entries ... OK
* checking for code/documentation mismatches ... OK
* checking Rd \usage sections ... OK
* checking Rd contents ... OK
* checking for unstated dependencies in examples ... OK
* checking files in 'vignettes' ... OK
* checking examples ... OK
* checking for unstated dependencies in 'tests' ... OK
* checking tests ...
Running 'testthat.R'
OK
* checking for unstated dependencies in vignettes ... OK
* checking package vignettes in 'inst/doc' ... OK
* checking running R code from vignettes ... SKIPPED
* checking re-building of vignette outputs ... SKIPPED
* checking PDF version of manual ... OK
* DONE
Status: OK
ggtree.Rcheck/00install.out
############################################################################## ############################################################################## ### ### Running command: ### ### F:\biocbuild\bbs-3.17-bioc\R\bin\R.exe CMD INSTALL ggtree ### ############################################################################## ############################################################################## * installing to library 'F:/biocbuild/bbs-3.17-bioc/R/library' * installing *source* package 'ggtree' ... ** using staged installation ** R ** inst ** byte-compile and prepare package for lazy loading ** help *** installing help indices ** building package indices ** installing vignettes ** testing if installed package can be loaded from temporary location ** testing if installed package can be loaded from final location ** testing if installed package keeps a record of temporary installation path * DONE (ggtree)
ggtree.Rcheck/tests/testthat.Rout
R Under development (unstable) (2022-12-25 r83502 ucrt) -- "Unsuffered Consequences"
Copyright (C) 2022 The R Foundation for Statistical Computing
Platform: x86_64-w64-mingw32/x64 (64-bit)
R is free software and comes with ABSOLUTELY NO WARRANTY.
You are welcome to redistribute it under certain conditions.
Type 'license()' or 'licence()' for distribution details.
R is a collaborative project with many contributors.
Type 'contributors()' for more information and
'citation()' on how to cite R or R packages in publications.
Type 'demo()' for some demos, 'help()' for on-line help, or
'help.start()' for an HTML browser interface to help.
Type 'q()' to quit R.
> library(testthat)
> library(ggtree)
ggtree v3.7.1 For help: https://yulab-smu.top/treedata-book/
If you use the ggtree package suite in published research, please cite
the appropriate paper(s):
Guangchuang Yu, David Smith, Huachen Zhu, Yi Guan, Tommy Tsan-Yuk Lam.
ggtree: an R package for visualization and annotation of phylogenetic
trees with their covariates and other associated data. Methods in
Ecology and Evolution. 2017, 8(1):28-36. doi:10.1111/2041-210X.12628
Guangchuang Yu, Tommy Tsan-Yuk Lam, Huachen Zhu, Yi Guan. Two methods
for mapping and visualizing associated data on phylogeny using ggtree.
Molecular Biology and Evolution. 2018, 35(12):3041-3043.
doi:10.1093/molbev/msy194
LG Wang, TTY Lam, S Xu, Z Dai, L Zhou, T Feng, P Guo, CW Dunn, BR
Jones, T Bradley, H Zhu, Y Guan, Y Jiang, G Yu. treeio: an R package
for phylogenetic tree input and output with richly annotated and
associated data. Molecular Biology and Evolution. 2020, 37(2):599-603.
doi: 10.1093/molbev/msz240
>
> test_check("ggtree")
[ FAIL 0 | WARN 3 | SKIP 0 | PASS 14 ]
[ FAIL 0 | WARN 3 | SKIP 0 | PASS 14 ]
>
> proc.time()
user system elapsed
2.23 0.20 2.42
ggtree.Rcheck/ggtree-Ex.timings
| name | user | system | elapsed | |
| attacher | 0.36 | 0.00 | 0.36 | |
| collapse | 0.25 | 0.01 | 0.26 | |
| expand | 0.11 | 0.00 | 0.11 | |
| facet-plot | 0.14 | 0.00 | 0.14 | |
| flip | 0.14 | 0.00 | 0.14 | |
| geom-hilight | 1.13 | 0.05 | 1.17 | |
| geom_balance | 0.12 | 0.01 | 0.14 | |
| geom_cladelab | 0.30 | 0.03 | 0.34 | |
| geom_label2 | 0.14 | 0.00 | 0.15 | |
| geom_point2 | 0.67 | 0.00 | 0.67 | |
| geom_rootedge | 0.50 | 0.02 | 0.52 | |
| geom_rootpoint | 0.21 | 0.00 | 0.22 | |
| geom_strip | 0.13 | 0.00 | 0.12 | |
| geom_striplab | 0.14 | 0.00 | 0.14 | |
| geom_tiplab | 0.11 | 0.00 | 0.11 | |
| geom_tiplab2 | 0.14 | 0.05 | 0.19 | |
| geom_tippoint | 0.11 | 0.00 | 0.10 | |
| geom_tree | 0.12 | 0.00 | 0.13 | |
| get_taxa_name | 0.02 | 0.00 | 0.02 | |
| ggdensitree | 1.30 | 0.05 | 1.34 | |
| ggexpand | 0.11 | 0.03 | 0.15 | |
| ggtree-format-painter | 0.13 | 0.01 | 0.14 | |
| ggtree | 0.09 | 0.00 | 0.09 | |
| label_pad | 0 | 0 | 0 | |
| open_tree | 0.19 | 0.02 | 0.20 | |
| revts | 0.11 | 0.02 | 0.13 | |
| rotate | 0.12 | 0.00 | 0.12 | |
| rotate_tree | 0.17 | 0.01 | 0.19 | |
| scaleClade | 0.15 | 0.00 | 0.14 | |
| td_filter | 0.10 | 0.00 | 0.11 | |
| theme_tree | 0.11 | 0.00 | 0.11 | |
| theme_tree2 | 0.11 | 0.00 | 0.10 | |
| tree-layout | 0.74 | 0.03 | 0.77 | |
| viewClade | 0.15 | 0.00 | 0.16 | |
| xlim_expand | 0.19 | 0.00 | 0.18 | |
| xlim_tree | 0.20 | 0.00 | 0.21 | |
| zoomClade | 0.32 | 0.01 | 0.33 | |