| Back to Build/check report for BioC 3.17 |
|
This page was generated on 2023-01-02 09:00:30 -0500 (Mon, 02 Jan 2023).
| Hostname | OS | Arch (*) | R version | Installed pkgs |
|---|---|---|---|---|
| palomino5 | Windows Server 2022 Datacenter | x64 | R Under development (unstable) (2022-12-25 r83502 ucrt) -- "Unsuffered Consequences" | 4165 |
| Click on any hostname to see more info about the system (e.g. compilers) (*) as reported by 'uname -p', except on Windows and Mac OS X | ||||
|
To the developers/maintainers of the gcatest package: Make sure to use the following settings in order to reproduce any error or warning you see on this page. |
| Package 726/2158 | Hostname | OS / Arch | INSTALL | BUILD | CHECK | BUILD BIN | ||||||||
| gcatest 1.29.0 (landing page) Wei Hao
| palomino5 | Windows Server 2022 Datacenter / x64 | ERROR | ERROR | skipped | skipped | ||||||||
| Package: gcatest |
| Version: 1.29.0 |
| Command: chmod a+r gcatest -R && F:\biocbuild\bbs-3.17-bioc\R\bin\R.exe CMD build --keep-empty-dirs --no-resave-data gcatest |
| StartedAt: 2022-12-28 18:14:41 -0500 (Wed, 28 Dec 2022) |
| EndedAt: 2022-12-28 18:14:46 -0500 (Wed, 28 Dec 2022) |
| EllapsedTime: 4.7 seconds |
| RetCode: 1 |
| Status: ERROR |
| PackageFile: None |
| PackageFileSize: NA |
##############################################################################
##############################################################################
###
### Running command:
###
### chmod a+r gcatest -R && F:\biocbuild\bbs-3.17-bioc\R\bin\R.exe CMD build --keep-empty-dirs --no-resave-data gcatest
###
##############################################################################
##############################################################################
* checking for file 'gcatest/DESCRIPTION' ... OK
* preparing 'gcatest':
* checking DESCRIPTION meta-information ... OK
* cleaning src
* installing the package to build vignettes
-----------------------------------
ERROR: dependency 'lfa' is not available for package 'gcatest'
* removing 'F:/biocbuild/bbs-3.17-bioc-rtools43/tmpdir/RtmpacTeZh/Rinst2ae06d9e7666/gcatest'
-----------------------------------
ERROR: package installation failed