| Back to Build/check report for BioC 3.17 |
|
This page was generated on 2023-01-02 09:00:30 -0500 (Mon, 02 Jan 2023).
| Hostname | OS | Arch (*) | R version | Installed pkgs |
|---|---|---|---|---|
| palomino5 | Windows Server 2022 Datacenter | x64 | R Under development (unstable) (2022-12-25 r83502 ucrt) -- "Unsuffered Consequences" | 4165 |
| Click on any hostname to see more info about the system (e.g. compilers) (*) as reported by 'uname -p', except on Windows and Mac OS X | ||||
|
To the developers/maintainers of the gaggle package: Make sure to use the following settings in order to reproduce any error or warning you see on this page. |
| Package 718/2158 | Hostname | OS / Arch | INSTALL | BUILD | CHECK | BUILD BIN | ||||||||
| gaggle 1.67.0 (landing page) Christopher Bare
| palomino5 | Windows Server 2022 Datacenter / x64 | OK | OK | OK | OK | ||||||||
| Package: gaggle |
| Version: 1.67.0 |
| Command: rm -rf gaggle.buildbin-libdir && mkdir gaggle.buildbin-libdir && F:\biocbuild\bbs-3.17-bioc\R\bin\R.exe CMD INSTALL --build --library=gaggle.buildbin-libdir gaggle_1.67.0.tar.gz |
| StartedAt: 2022-12-29 05:10:22 -0500 (Thu, 29 Dec 2022) |
| EndedAt: 2022-12-29 05:10:34 -0500 (Thu, 29 Dec 2022) |
| EllapsedTime: 11.8 seconds |
| RetCode: 0 |
| Status: OK |
| PackageFile: gaggle_1.67.0.zip |
| PackageFileSize: 305.9 KiB |
##############################################################################
##############################################################################
###
### Running command:
###
### rm -rf gaggle.buildbin-libdir && mkdir gaggle.buildbin-libdir && F:\biocbuild\bbs-3.17-bioc\R\bin\R.exe CMD INSTALL --build --library=gaggle.buildbin-libdir gaggle_1.67.0.tar.gz
###
##############################################################################
##############################################################################
* installing *source* package 'gaggle' ...
** using staged installation
** R
** inst
** byte-compile and prepare package for lazy loading
** help
*** installing help indices
** building package indices
** installing vignettes
** testing if installed package can be loaded from temporary location
onLoad -- libname: F:/biocbuild/bbs-3.17-bioc-rtools43/meat/gaggle.buildbin-libdir/00LOCK-gaggle/00new pkgname: gaggle
path to jar: F:/biocbuild/bbs-3.17-bioc-rtools43/meat/gaggle.buildbin-libdir/00LOCK-gaggle/00new/gaggle/jars/gaggleRShell.jar
script: gaggle.R $Revision: 4499 $ $Date: 2010-08-10 17:15:03 -0700 (Tue, 10 Aug 2010) $
os version: Windows Server 2019
jvm version: 17.0.1
You are using the wrong version of Java.
Please see http://gaggle.systemsbiology.org/docs/html/java
** testing if installed package can be loaded from final location
onLoad -- libname: F:/biocbuild/bbs-3.17-bioc-rtools43/meat/gaggle.buildbin-libdir pkgname: gaggle
path to jar: F:/biocbuild/bbs-3.17-bioc-rtools43/meat/gaggle.buildbin-libdir/gaggle/jars/gaggleRShell.jar
script: gaggle.R $Revision: 4499 $ $Date: 2010-08-10 17:15:03 -0700 (Tue, 10 Aug 2010) $
os version: Windows Server 2019
jvm version: 17.0.1
You are using the wrong version of Java.
Please see http://gaggle.systemsbiology.org/docs/html/java
** testing if installed package keeps a record of temporary installation path
* MD5 sums
packaged installation of 'gaggle' as gaggle_1.67.0.zip
* DONE (gaggle)