| Back to Build/check report for BioC 3.17 |
|
This page was generated on 2023-01-02 09:00:30 -0500 (Mon, 02 Jan 2023).
| Hostname | OS | Arch (*) | R version | Installed pkgs |
|---|---|---|---|---|
| palomino5 | Windows Server 2022 Datacenter | x64 | R Under development (unstable) (2022-12-25 r83502 ucrt) -- "Unsuffered Consequences" | 4165 |
| Click on any hostname to see more info about the system (e.g. compilers) (*) as reported by 'uname -p', except on Windows and Mac OS X | ||||
|
To the developers/maintainers of the flowWorkspace package: Make sure to use the following settings in order to reproduce any error or warning you see on this page. |
| Package 700/2158 | Hostname | OS / Arch | INSTALL | BUILD | CHECK | BUILD BIN | ||||||||
| flowWorkspace 4.11.0 (landing page) Greg Finak
| palomino5 | Windows Server 2022 Datacenter / x64 | OK | OK | WARNINGS | OK | ||||||||
| Package: flowWorkspace |
| Version: 4.11.0 |
| Command: chmod a+r flowWorkspace -R && F:\biocbuild\bbs-3.17-bioc\R\bin\R.exe CMD build --keep-empty-dirs --no-resave-data flowWorkspace |
| StartedAt: 2022-12-28 18:12:07 -0500 (Wed, 28 Dec 2022) |
| EndedAt: 2022-12-28 18:14:52 -0500 (Wed, 28 Dec 2022) |
| EllapsedTime: 165.1 seconds |
| RetCode: 0 |
| Status: OK |
| PackageFile: flowWorkspace_4.11.0.tar.gz |
| PackageFileSize: 3.714 MiB |
##############################################################################
##############################################################################
###
### Running command:
###
### chmod a+r flowWorkspace -R && F:\biocbuild\bbs-3.17-bioc\R\bin\R.exe CMD build --keep-empty-dirs --no-resave-data flowWorkspace
###
##############################################################################
##############################################################################
* checking for file 'flowWorkspace/DESCRIPTION' ... OK
* preparing 'flowWorkspace':
* checking DESCRIPTION meta-information ... OK
* cleaning src
* installing the package to build vignettes
* creating vignettes ... OK
* cleaning src
* checking for LF line-endings in source and make files and shell scripts
* checking for empty or unneeded directories
WARNING: Removing directory 'flowWorkspace/Meta' which should only
occur in an installed package
NB: this package now depends on R (>= 3.5.0)
WARNING: Added dependency on R >= 3.5.0 because serialized objects in
serialize/load version 3 cannot be read in older versions of R.
File(s) containing such objects:
'flowWorkspace/tests/testthat/expect_result/empty_pop.rds'
* building 'flowWorkspace_4.11.0.tar.gz'