| Back to Build/check report for BioC 3.17 |
|
This page was generated on 2023-01-02 09:00:28 -0500 (Mon, 02 Jan 2023).
| Hostname | OS | Arch (*) | R version | Installed pkgs |
|---|---|---|---|---|
| palomino5 | Windows Server 2022 Datacenter | x64 | R Under development (unstable) (2022-12-25 r83502 ucrt) -- "Unsuffered Consequences" | 4165 |
| Click on any hostname to see more info about the system (e.g. compilers) (*) as reported by 'uname -p', except on Windows and Mac OS X | ||||
|
To the developers/maintainers of the epigraHMM package: Make sure to use the following settings in order to reproduce any error or warning you see on this page. |
| Package 610/2158 | Hostname | OS / Arch | INSTALL | BUILD | CHECK | BUILD BIN | ||||||||
| epigraHMM 1.7.0 (landing page) Pedro Baldoni
| palomino5 | Windows Server 2022 Datacenter / x64 | OK | OK | OK | OK | ||||||||
| Package: epigraHMM |
| Version: 1.7.0 |
| Command: rm -rf epigraHMM.buildbin-libdir && mkdir epigraHMM.buildbin-libdir && F:\biocbuild\bbs-3.17-bioc\R\bin\R.exe CMD INSTALL --build --library=epigraHMM.buildbin-libdir epigraHMM_1.7.0.tar.gz |
| StartedAt: 2022-12-29 05:07:02 -0500 (Thu, 29 Dec 2022) |
| EndedAt: 2022-12-29 05:09:29 -0500 (Thu, 29 Dec 2022) |
| EllapsedTime: 146.7 seconds |
| RetCode: 0 |
| Status: OK |
| PackageFile: epigraHMM_1.7.0.zip |
| PackageFileSize: 2.162 MiB |
##############################################################################
##############################################################################
###
### Running command:
###
### rm -rf epigraHMM.buildbin-libdir && mkdir epigraHMM.buildbin-libdir && F:\biocbuild\bbs-3.17-bioc\R\bin\R.exe CMD INSTALL --build --library=epigraHMM.buildbin-libdir epigraHMM_1.7.0.tar.gz
###
##############################################################################
##############################################################################
* installing *source* package 'epigraHMM' ...
** using staged installation
** libs
using C++ compiler: 'G__~1.EXE (GCC) 12.2.0'
using C++11
g++ -std=gnu++11 -I"F:/biocbuild/bbs-3.17-bioc/R/include" -DNDEBUG -I'F:/biocbuild/bbs-3.17-bioc/R/library/Rcpp/include' -I'F:/biocbuild/bbs-3.17-bioc/R/library/RcppArmadillo/include' -I'F:/biocbuild/bbs-3.17-bioc/R/library/Rhdf5lib/include' -I"c:/rtools42/x86_64-w64-mingw32.static.posix/include" -fopenmp -DARMA_USE_HDF5 -O2 -Wall -mfpmath=sse -msse2 -mstackrealign -c RcppExports.cpp -o RcppExports.o
g++ -std=gnu++11 -I"F:/biocbuild/bbs-3.17-bioc/R/include" -DNDEBUG -I'F:/biocbuild/bbs-3.17-bioc/R/library/Rcpp/include' -I'F:/biocbuild/bbs-3.17-bioc/R/library/RcppArmadillo/include' -I'F:/biocbuild/bbs-3.17-bioc/R/library/Rhdf5lib/include' -I"c:/rtools42/x86_64-w64-mingw32.static.posix/include" -fopenmp -DARMA_USE_HDF5 -O2 -Wall -mfpmath=sse -msse2 -mstackrealign -c aggregate.cpp -o aggregate.o
aggregate.cpp: In function 'arma::mat aggregate(arma::vec, arma::vec)':
aggregate.cpp:26:22: warning: comparison of integer expressions of different signedness: 'int' and 'std::vector<double>::size_type' {aka 'long long unsigned int'} [-Wsign-compare]
26 | while( index >= vec.size() ){
| ~~~~~~^~~~~~~~~~~~~
g++ -std=gnu++11 -I"F:/biocbuild/bbs-3.17-bioc/R/include" -DNDEBUG -I'F:/biocbuild/bbs-3.17-bioc/R/library/Rcpp/include' -I'F:/biocbuild/bbs-3.17-bioc/R/library/RcppArmadillo/include' -I'F:/biocbuild/bbs-3.17-bioc/R/library/Rhdf5lib/include' -I"c:/rtools42/x86_64-w64-mingw32.static.posix/include" -fopenmp -DARMA_USE_HDF5 -O2 -Wall -mfpmath=sse -msse2 -mstackrealign -c computeBIC.cpp -o computeBIC.o
g++ -std=gnu++11 -I"F:/biocbuild/bbs-3.17-bioc/R/include" -DNDEBUG -I'F:/biocbuild/bbs-3.17-bioc/R/library/Rcpp/include' -I'F:/biocbuild/bbs-3.17-bioc/R/library/RcppArmadillo/include' -I'F:/biocbuild/bbs-3.17-bioc/R/library/Rhdf5lib/include' -I"c:/rtools42/x86_64-w64-mingw32.static.posix/include" -fopenmp -DARMA_USE_HDF5 -O2 -Wall -mfpmath=sse -msse2 -mstackrealign -c computeQFunction.cpp -o computeQFunction.o
g++ -std=gnu++11 -I"F:/biocbuild/bbs-3.17-bioc/R/include" -DNDEBUG -I'F:/biocbuild/bbs-3.17-bioc/R/library/Rcpp/include' -I'F:/biocbuild/bbs-3.17-bioc/R/library/RcppArmadillo/include' -I'F:/biocbuild/bbs-3.17-bioc/R/library/Rhdf5lib/include' -I"c:/rtools42/x86_64-w64-mingw32.static.posix/include" -fopenmp -DARMA_USE_HDF5 -O2 -Wall -mfpmath=sse -msse2 -mstackrealign -c computeViterbiSequence.cpp -o computeViterbiSequence.o
g++ -std=gnu++11 -I"F:/biocbuild/bbs-3.17-bioc/R/include" -DNDEBUG -I'F:/biocbuild/bbs-3.17-bioc/R/library/Rcpp/include' -I'F:/biocbuild/bbs-3.17-bioc/R/library/RcppArmadillo/include' -I'F:/biocbuild/bbs-3.17-bioc/R/library/Rhdf5lib/include' -I"c:/rtools42/x86_64-w64-mingw32.static.posix/include" -fopenmp -DARMA_USE_HDF5 -O2 -Wall -mfpmath=sse -msse2 -mstackrealign -c consensusRejectionControlled.cpp -o consensusRejectionControlled.o
g++ -std=gnu++11 -I"F:/biocbuild/bbs-3.17-bioc/R/include" -DNDEBUG -I'F:/biocbuild/bbs-3.17-bioc/R/library/Rcpp/include' -I'F:/biocbuild/bbs-3.17-bioc/R/library/RcppArmadillo/include' -I'F:/biocbuild/bbs-3.17-bioc/R/library/Rhdf5lib/include' -I"c:/rtools42/x86_64-w64-mingw32.static.posix/include" -fopenmp -DARMA_USE_HDF5 -O2 -Wall -mfpmath=sse -msse2 -mstackrealign -c differentialRejectionControlled.cpp -o differentialRejectionControlled.o
g++ -std=gnu++11 -I"F:/biocbuild/bbs-3.17-bioc/R/include" -DNDEBUG -I'F:/biocbuild/bbs-3.17-bioc/R/library/Rcpp/include' -I'F:/biocbuild/bbs-3.17-bioc/R/library/RcppArmadillo/include' -I'F:/biocbuild/bbs-3.17-bioc/R/library/Rhdf5lib/include' -I"c:/rtools42/x86_64-w64-mingw32.static.posix/include" -fopenmp -DARMA_USE_HDF5 -O2 -Wall -mfpmath=sse -msse2 -mstackrealign -c expStep.cpp -o expStep.o
g++ -std=gnu++11 -I"F:/biocbuild/bbs-3.17-bioc/R/include" -DNDEBUG -I'F:/biocbuild/bbs-3.17-bioc/R/library/Rcpp/include' -I'F:/biocbuild/bbs-3.17-bioc/R/library/RcppArmadillo/include' -I'F:/biocbuild/bbs-3.17-bioc/R/library/Rhdf5lib/include' -I"c:/rtools42/x86_64-w64-mingw32.static.posix/include" -fopenmp -DARMA_USE_HDF5 -O2 -Wall -mfpmath=sse -msse2 -mstackrealign -c getMarginalProbability.cpp -o getMarginalProbability.o
g++ -std=gnu++11 -I"F:/biocbuild/bbs-3.17-bioc/R/include" -DNDEBUG -I'F:/biocbuild/bbs-3.17-bioc/R/library/Rcpp/include' -I'F:/biocbuild/bbs-3.17-bioc/R/library/RcppArmadillo/include' -I'F:/biocbuild/bbs-3.17-bioc/R/library/Rhdf5lib/include' -I"c:/rtools42/x86_64-w64-mingw32.static.posix/include" -fopenmp -DARMA_USE_HDF5 -O2 -Wall -mfpmath=sse -msse2 -mstackrealign -c innerMaxStepProb.cpp -o innerMaxStepProb.o
g++ -std=gnu++11 -I"F:/biocbuild/bbs-3.17-bioc/R/include" -DNDEBUG -I'F:/biocbuild/bbs-3.17-bioc/R/library/Rcpp/include' -I'F:/biocbuild/bbs-3.17-bioc/R/library/RcppArmadillo/include' -I'F:/biocbuild/bbs-3.17-bioc/R/library/Rhdf5lib/include' -I"c:/rtools42/x86_64-w64-mingw32.static.posix/include" -fopenmp -DARMA_USE_HDF5 -O2 -Wall -mfpmath=sse -msse2 -mstackrealign -c maxStepProb.cpp -o maxStepProb.o
g++ -std=gnu++11 -I"F:/biocbuild/bbs-3.17-bioc/R/include" -DNDEBUG -I'F:/biocbuild/bbs-3.17-bioc/R/library/Rcpp/include' -I'F:/biocbuild/bbs-3.17-bioc/R/library/RcppArmadillo/include' -I'F:/biocbuild/bbs-3.17-bioc/R/library/Rhdf5lib/include' -I"c:/rtools42/x86_64-w64-mingw32.static.posix/include" -fopenmp -DARMA_USE_HDF5 -O2 -Wall -mfpmath=sse -msse2 -mstackrealign -c rbinomVectorized.cpp -o rbinomVectorized.o
g++ -std=gnu++11 -I"F:/biocbuild/bbs-3.17-bioc/R/include" -DNDEBUG -I'F:/biocbuild/bbs-3.17-bioc/R/library/Rcpp/include' -I'F:/biocbuild/bbs-3.17-bioc/R/library/RcppArmadillo/include' -I'F:/biocbuild/bbs-3.17-bioc/R/library/Rhdf5lib/include' -I"c:/rtools42/x86_64-w64-mingw32.static.posix/include" -fopenmp -DARMA_USE_HDF5 -O2 -Wall -mfpmath=sse -msse2 -mstackrealign -c reweight.cpp -o reweight.o
g++ -std=gnu++11 -I"F:/biocbuild/bbs-3.17-bioc/R/include" -DNDEBUG -I'F:/biocbuild/bbs-3.17-bioc/R/library/Rcpp/include' -I'F:/biocbuild/bbs-3.17-bioc/R/library/RcppArmadillo/include' -I'F:/biocbuild/bbs-3.17-bioc/R/library/Rhdf5lib/include' -I"c:/rtools42/x86_64-w64-mingw32.static.posix/include" -fopenmp -DARMA_USE_HDF5 -O2 -Wall -mfpmath=sse -msse2 -mstackrealign -c simulateMarkovChain.cpp -o simulateMarkovChain.o
g++ -shared -s -static-libgcc -o epigraHMM.dll tmp.def RcppExports.o aggregate.o computeBIC.o computeQFunction.o computeViterbiSequence.o consensusRejectionControlled.o differentialRejectionControlled.o expStep.o getMarginalProbability.o innerMaxStepProb.o maxStepProb.o rbinomVectorized.o reweight.o simulateMarkovChain.o -LF:/biocbuild/bbs-3.17-bioc/R/library/Rhdf5lib/lib/x64-ucrt -lhdf5_cpp -lhdf5 -lcurl -lssh2 -lssl -lcrypto -lwldap32 -lws2_32 -lcrypt32 -lsz -laec -lz -lpsapi -fopenmp -LF:/biocbuild/bbs-3.17-bioc/R/bin/x64 -lRlapack -LF:/biocbuild/bbs-3.17-bioc/R/bin/x64 -lRblas -lgfortran -lm -lquadmath -Lc:/rtools42/x86_64-w64-mingw32.static.posix/lib/x64 -Lc:/rtools42/x86_64-w64-mingw32.static.posix/lib -LF:/biocbuild/bbs-3.17-bioc/R/bin/x64 -lR
installing to F:/biocbuild/bbs-3.17-bioc-rtools43/meat/epigraHMM.buildbin-libdir/00LOCK-epigraHMM/00new/epigraHMM/libs/x64
** R
** data
*** moving datasets to lazyload DB
** inst
** byte-compile and prepare package for lazy loading
** help
*** installing help indices
** building package indices
** installing vignettes
** testing if installed package can be loaded from temporary location
** testing if installed package can be loaded from final location
** testing if installed package keeps a record of temporary installation path
* MD5 sums
packaged installation of 'epigraHMM' as epigraHMM_1.7.0.zip
* DONE (epigraHMM)