| Back to Build/check report for BioC 3.17 |
|
This page was generated on 2023-01-02 09:00:26 -0500 (Mon, 02 Jan 2023).
| Hostname | OS | Arch (*) | R version | Installed pkgs |
|---|---|---|---|---|
| palomino5 | Windows Server 2022 Datacenter | x64 | R Under development (unstable) (2022-12-25 r83502 ucrt) -- "Unsuffered Consequences" | 4165 |
| Click on any hostname to see more info about the system (e.g. compilers) (*) as reported by 'uname -p', except on Windows and Mac OS X | ||||
|
To the developers/maintainers of the dcanr package: Make sure to use the following settings in order to reproduce any error or warning you see on this page. |
| Package 469/2158 | Hostname | OS / Arch | INSTALL | BUILD | CHECK | BUILD BIN | ||||||||
| dcanr 1.15.0 (landing page) Dharmesh D. Bhuva
| palomino5 | Windows Server 2022 Datacenter / x64 | OK | OK | OK | OK | ||||||||
| Package: dcanr |
| Version: 1.15.0 |
| Command: rm -rf dcanr.buildbin-libdir && mkdir dcanr.buildbin-libdir && F:\biocbuild\bbs-3.17-bioc\R\bin\R.exe CMD INSTALL --build --library=dcanr.buildbin-libdir dcanr_1.15.0.tar.gz |
| StartedAt: 2022-12-29 05:02:26 -0500 (Thu, 29 Dec 2022) |
| EndedAt: 2022-12-29 05:02:35 -0500 (Thu, 29 Dec 2022) |
| EllapsedTime: 8.1 seconds |
| RetCode: 0 |
| Status: OK |
| PackageFile: dcanr_1.15.0.zip |
| PackageFileSize: 1.336 MiB |
############################################################################## ############################################################################## ### ### Running command: ### ### rm -rf dcanr.buildbin-libdir && mkdir dcanr.buildbin-libdir && F:\biocbuild\bbs-3.17-bioc\R\bin\R.exe CMD INSTALL --build --library=dcanr.buildbin-libdir dcanr_1.15.0.tar.gz ### ############################################################################## ############################################################################## * installing *source* package 'dcanr' ... ** using staged installation Warning in person1(given = given[[i]], family = family[[i]], middle = middle[[i]], : It is recommended to use 'given' instead of 'middle'. ** R ** data ** inst ** byte-compile and prepare package for lazy loading in method for 'dcScore' with signature '"Matrix","ANY","ANY"': no definition for class "Matrix" in method for 'dcScore' with signature '"ExpressionSet","ANY","ANY"': no definition for class "ExpressionSet" in method for 'dcScore' with signature '"SummarizedExperiment","ANY","ANY"': no definition for class "SummarizedExperiment" in method for 'dcScore' with signature '"DGEList","ANY","ANY"': no definition for class "DGEList" ** help *** installing help indices ** building package indices ** installing vignettes ** testing if installed package can be loaded from temporary location ** testing if installed package can be loaded from final location ** testing if installed package keeps a record of temporary installation path * MD5 sums packaged installation of 'dcanr' as dcanr_1.15.0.zip * DONE (dcanr)